{"text_format":"1","workbook":"xlsx","n_sheets":64,"sheets":["MZR1","MZR2","MZR3","MZR4","MZR5","MZR6","MZR7","MZR8","MZR9","MZR10","MZR11","MZR12","MZR13","MZR14","MZR15","MZR16","MZR17","MZR18","MZR19","MZR20","MZR21","MZR22","MZR23","MZR24","MZR25","MZR26","MZR27","MZR28","MZR29","MZR30","NZR1","NZR2","NZR3","NZR4","NZR5","NZR6","NZR7","NZR8","NZR9","NZR10","NZR11","NZR12","NZR13","NZR14","NZR15","NZR16","NZR17","NZR18","NZR19","NZR20","NZR21","NZR22","NZR23","NZR24","NZR25","NZR26","NZR27","NZR28","NZR29","NZR30","Soupiska","Zpráva R","Návod","TYPY"],"not_rendered":{"charts":0,"images":3,"macros":1,"external_links":0,"defined_names":6,"comments":60,"pivot_tables":0},"unopened":[],"bounds":{"document_bytes":16777216,"sheet_cells":100000,"rows_first":2000,"rows_last":500,"rows_between":2000,"halvings":0,"cell_chars":16384,"cell_head_chars":4096},"cells_cut":0,"cells_raw":0,"read":"whole","date_system":"1900"}

{"sheet":"MZR1","index":0,"n_rows":49,"n_cols":20,"rows_kept":49,"cut":false,"hidden":true,"merged":[[0,6,0,19],[48,0,48,7],[48,9,48,11],[48,13,48,19],[33,11,33,13],[33,14,33,16],[33,17,33,19],[42,0,42,2],[42,3,42,5],[42,7,42,10],[42,12,42,13],[42,15,42,16],[42,18,42,19],[41,3,41,5],[41,7,41,10],[41,12,41,13],[41,15,41,16],[41,18,41,19],[40,0,40,2],[40,3,40,5],[40,7,40,10],[40,12,40,13],[40,15,40,16],[40,18,40,19],[39,0,39,2],[39,3,39,5],[39,7,39,10],[39,12,39,13],[39,15,39,16],[39,18,39,19],[38,0,38,2],[38,3,38,5],[38,7,38,10],[38,12,38,13],[38,15,38,16],[38,18,38,19],[36,7,36,10],[36,12,36,13],[36,15,36,16],[36,18,36,19],[37,0,37,2],[37,3,37,5],[37,7,37,10],[37,12,37,13],[37,15,37,16],[37,18,37,19],[36,0,36,5],[34,0,34,3],[34,7,34,10],[34,12,34,13],[34,15,34,16],[34,18,34,19],[35,7,35,10],[35,12,35,13],[35,15,35,16],[35,18,35,19],[31,0,31,3],[32,0,32,3],[32,7,33,10],[32,11,32,13],[32,14,32,16],[32,17,32,19],[33,0,33,3],[28,7,28,10],[28,18,28,19],[29,0,29,3],[30,0,30,3],[29,7,29,14],[28,0,28,5],[29,15,29,19],[26,0,26,1],[26,2,26,5],[26,7,26,10],[26,18,26,19],[27,7,27,10],[27,18,27,19],[24,0,24,1],[24,2,24,5],[24,7,24,10],[24,18,24,19],[25,0,25,1],[25,2,25,5],[25,7,25,10],[25,18,25,19],[22,0,22,5],[22,7,22,10],[22,18,22,19],[23,0,23,1],[23,2,23,5],[23,7,23,10],[23,18,23,19],[20,0,21,1],[20,2,21,5],[20,7,20,10],[20,18,20,19],[21,7,21,10],[21,18,21,19],[19,0,19,1],[19,2,19,5],[19,7,19,10],[19,18,19,19],[17,2,18,5],[16,0,16,1],[16,2,16,5],[16,7,16,10],[16,18,16,19],[17,0,17,1],[17,7,17,10],[17,18,17,19],[12,18,15,19],[13,0,13,1],[13,2,13,5],[13,14,15,14],[13,15,15,15],[13,16,15,16],[14,0,14,5],[18,0,18,1],[18,7,18,10],[18,18,18,19],[5,2,6,5],[5,10,5,11],[5,12,5,13],[5,14,5,15],[5,16,5,17],[11,0,11,1],[11,2,11,5],[12,0,12,1],[12,2,12,5],[12,7,15,10],[12,11,15,11],[15,0,15,1],[15,2,15,5],[9,0,9,1],[9,2,9,5],[9,7,9,9],[12,12,15,12],[12,13,15,13],[12,17,15,17],[41,0,41,1],[1,7,1,19],[2,0,3,2],[2,3,3,5],[2,7,2,19],[4,0,4,5],[4,7,6,9],[4,10,4,11],[4,12,4,13],[4,14,4,15],[4,16,4,19],[9,16,9,17],[9,18,9,19],[10,0,10,1],[10,2,10,5],[5,18,5,19],[6,10,6,11],[6,12,6,13],[6,14,6,15],[7,0,8,1],[7,2,8,5],[7,7,7,9],[8,7,8,9],[5,0,6,1]]}
[null,null,null,null,null,null," MORAVSKOSLEZSKÝ KYNOLOGICKÝ SVAZ, z. s."]
[null,null,null,null,null,null," ","Člen FCI prostřednictvím Českomoravské kynologické unie"]
["Druh a stupeň",null,null,{"$f":"IF(Soupiska!W12=\"M\",Soupiska!B12,\"NE\")","v":"NE"},null,null," ","POTVRZENÍ O VYKONANÉ ZKOUŠCE MZŘ"]
[]
["Data psa-feny",null,null,null,null,null,null,"A - STOPA",null,null,"FCI - IGP 1",null,"FCI - IGP 2",null,"FCI - IGP 3",null,"FCI - IGP IFH"]
["Jméno:",null,{"$f":"Soupiska!C12","v":0},null,null,null,null,null,null,null,"FCI - FPr 1",null,"FCI - FPr 2",null,"FCI - FPr 3",null,"Stopa č. 1",null,"Stopa č. 2"]
[null,null,null,null,null,null,null,null,null,null,"FCI - IFH 1",null,"FCI - IFH 2",null,"FCI - IFH 3",null,79," ",79]
["Chovná stanice:",null,{"$f":"Soupiska!E12","v":0},null,null,null,null,"Vlastní - cizí",null,null,79," ",79," ",79," ",21," ",21]
[null,null,null,null,null,null,null,"Předměty",null,null,21," ",21," ",21,null,100,{"$f":"SUM(R7:R8)","v":0},100,{"$f":"SUM(T7:T8)","v":0}]
["Plemeno:",null,{"$f":"Soupiska!I12","v":0},null,null,null,null,"Celkem",null,null,100,{"$f":"SUM(L8:L9)","v":0},100,{"$f":"SUM(N8:N9)","v":0},100,{"$f":"SUM(P8:P9)","v":0},200,null,{"$f":"SUM(R9,T9)","v":0}]
["Pohlaví:",null,{"$f":"Soupiska!K12","v":0}]
["Narozen:",null,{"$f":"Soupiska!L12","v":"00:00:00"},null,null,null,null,null,null,null,null,null,null,null,null," "]
["Č.záp.:",null,{"$f":"Soupiska!N12","v":0},null,null,null,null,"B - POSLUŠNOST",null,null,null,"FCI - IBGH 1","FCI - IBGH 2","FCI - IBGH 3","FCI - GPr 1-3, Upr 1-3",null,null,"FCI - BH/VT","BODY"]
["T.č./čip:",null,{"$f":"Soupiska!P12","v":0},null,null,null,null,null,null,null,null,null,null,null,"FCI - IGP 1   ","FCI - IGP 2              ","FCI - IGP 3"]
["Data psovoda"]
["Jméno:",null,{"$f":"Soupiska!C13","v":0}]
["Příjmení:",null,{"$f":"Soupiska!E13","v":0},null,null,null,null,"Ovladatelnost na vodítku",null,null,null,30,20," X"," X"," X","  X",30]
["Bydliště:",null,{"$f":"Soupiska!I13","v":0},null,null,null,null,"Ovladatelnost bez vodítka",null,null,null,30,20,20,15,15,15,"X","X"]
[null,null,null,null,null,null,null,"Odložení v sedě",null,null,null,15,15,10,10,10,10,10]
["Narozen:",null,{"$f":"DATE(IF(MID(Soupiska!C14,1,2)*1 > YEAR(TODAY())-2000, 1900, 2000) + MID(Soupiska!C14,1,2), MOD(MID(Soupiska!C14,3,2),50), MID(Soupiska!C14,5,2))","v":{"$error":"#VALUE!"}},null,null,null,null,"Odložení vleže s přivoláním",null,null,null,15,15,10,10,10,10,10]
["Člen ZO:",null,{"$f":"Soupiska!I14","v":0},null,null,null,null,"Odložení ve stoje",null,null,null," X"," X",10," X",10,10," X","X"]
[null,null,null,null,null,null,null,"Aport volný",null,null,null," X",10,15,15,10,10," X","X"]
["Data akce",null,null,null,null,null,null,"Skok přes překážku - 2 směry",null,null,null," X"," X"," X",15," X"," X"," X","X"]
["Datum:",null,{"$f":"Soupiska!T6","v":"00:00:00"},null,null,null,null,"Aport skokem",null,null,null," X"," X"," X","X",15,15," X","X"]
["Místo:",null,{"$f":"Soupiska!P5","v":0},null,null,null,null,"Šplh jedním směrem",null,null,null," X"," X"," X",15,10," X"," X","X"]
["Ved.zk.:",null,{"$f":"Soupiska!D6","v":0},null,null,null,null,"Aport šplhem",null,null,null," X"," X",15," X","X",10," X","X"]
["Rozhodčí:",null,{"$f":"Soupiska!P6","v":0},null,null,null,null,"Vysílání vpřed s odložením",null,null,null," X",10,10,10,10,10," X","X"]
[" ",null,null,null,null,null,null,"Odložení",null,null,null,10,10,10,10,10,10,10]
["        FCI - StPr 1 - 3 ",null,null,null,null,null,null,"Celkem",null,null,null,100,100,100,100,100,100,60,{"$f":"SUM(S17:T28)","v":0}]
["Ovladatelnost",null,null,null,20,null,null,"FCI - BH/VT: Chování psa v doprav. ruchu/zkouška AD",null,null,null,null,null,null,null,"XX"]
["Intenzita vyhledání",null,null,null,20]
["Vytrvalost",null,null,null,10,null,null,null,null,null,null,null,null,null,null,null,null,null,null," "]
["Chování psovoda",null,null,null,10,null,null,"C - OBRANA",null,null,null,"FCI - IGP 1",null,null,"  FCI - IGP 2",null,null," FCI - IGP 3"]
["Nalezení předmětů",null,null,null,40," ",null,null,null,null,null,"FCI - GPr1, SPr1",null,null,"FCI - GPr2, SPr2",null,null,"FCI - GPr3, SPr3"]
["Celkem",null,null,null,100,{"$f":"SUM(F30:F34)","v":0},null,"Vyhledání figuranta",null,null,null,5,null,null,5,null,null,10]
[null,null,null,null,null,null,null,"Vystavení a vyštěkání",null,null,null,15,null,null,15,null,null,15]
["Výsledek zkoušky",null,null,null,null,null,null,"Pokus o útěk",null,null,null,20,null,null,15,null,null,10]
["A - stopa",null,null,{"$f":"F35+L10+N10+P10+S10","v":0},null,null,null,"Obrana psa při hlídání",null,null,null,30,null,null,20,null,null,15]
["B - poslušnost",null,null,{"$f":"S29","v":0},null,null,null,"Zadní doprovod",null,null,null," X"," X",null,5,null,null,5]
["C - obrana",null,null,{"$f":"M43+P43+S43","v":0},null,null,null,"Přepad psa při doprovodu",null,null,null," X"," X",null," X"," X",null,15]
["D - BH-VT/AD",null,null,{"$f":"IF(P30=\"XX\",\" \",P30)","v":" "},null,null,null,"Útok na psa z pohybu",null,null,null,30,null,null,20,null,null,15]
["CELKEM",null,{"$f":"VLOOKUP(D3,TYPY!A$1:D$65536,4,FALSE)","v":{"$error":"#N/A"}},{"$f":"SUM(D38:F40)","v":0},null,null,null,"Obrana psa při hlídání",null,null,null," X"," X",null,20,null,null,15]
["ZNÁMKA",null,null,{"$f":"IF(EXACT(D3,\"FCI-IGP-IFH\"),IF(SUM(R9,T9)<70,\"N\",VLOOKUP(D42,TYPY!$D$44:$E$105,2,FALSE)),IF(D42>0,IFERROR(IF(C42=300,VLOOKUP(D42,TYPY!$B$44:$C$135,2,FALSE),IF(C42=200,VLOOKUP(D42,TYPY!$D$44:$E$105,2,FALSE),IF(C42=100,VLOOKUP(D42,TYPY!$F$44:$G$75,2,FALSE),IF(AND(C42=60,D41=\"Obstál\"),VLOOKUP(D42,TYPY!$H$44:$I$63,2,FALSE),\"N\")))),\"N\"),\" \"))","v":" "},null,null,null,"Celkem",null,null,null,100,{"$f":"SUM(M35:N42)","v":0},null,100,{"$f":"SUM(P35:Q42)","v":0},null,100,{"$f":"SUM(S35:T42)","v":0}]
[]
[]
[]
[]
[" ",null,null,null,null,null,null,null,null," ",null,null,null," "]
["Razítko organizace",null,null,null,null,null,null,null,null,"Podpis vedoucího zkoušek",null,null,null,"Podpis a razítko rozhodčího"]

{"sheet":"MZR2","index":1,"n_rows":49,"n_cols":20,"rows_kept":49,"cut":false,"hidden":true,"merged":[[48,0,48,7],[48,9,48,11],[48,13,48,19],[42,0,42,2],[42,3,42,5],[42,7,42,10],[42,12,42,13],[42,15,42,16],[42,18,42,19],[41,0,41,1],[41,3,41,5],[41,7,41,10],[41,12,41,13],[41,15,41,16],[41,18,41,19],[40,0,40,2],[40,3,40,5],[40,7,40,10],[40,12,40,13],[40,15,40,16],[40,18,40,19],[39,0,39,2],[39,3,39,5],[39,7,39,10],[39,12,39,13],[39,15,39,16],[39,18,39,19],[38,0,38,2],[38,3,38,5],[38,7,38,10],[38,12,38,13],[38,15,38,16],[38,18,38,19],[34,0,34,3],[34,7,34,10],[34,12,34,13],[34,15,34,16],[34,18,34,19],[37,0,37,2],[37,3,37,5],[37,7,37,10],[37,12,37,13],[37,15,37,16],[37,18,37,19],[35,7,35,10],[35,12,35,13],[35,15,35,16],[35,18,35,19],[36,0,36,5],[36,7,36,10],[36,12,36,13],[36,15,36,16],[36,18,36,19],[30,0,30,3],[31,0,31,3],[32,0,32,3],[32,7,33,10],[32,11,32,13],[32,14,32,16],[28,0,28,5],[28,7,28,10],[28,18,28,19],[29,0,29,3],[29,7,29,14],[29,15,29,19],[32,17,32,19],[33,0,33,3],[33,11,33,13],[33,14,33,16],[33,17,33,19],[26,0,26,1],[26,2,26,5],[26,7,26,10],[26,18,26,19],[27,7,27,10],[27,18,27,19],[24,0,24,1],[24,2,24,5],[24,7,24,10],[24,18,24,19],[25,0,25,1],[25,2,25,5],[25,7,25,10],[25,18,25,19],[21,18,21,19],[22,0,22,5],[22,7,22,10],[22,18,22,19],[23,0,23,1],[23,2,23,5],[23,7,23,10],[23,18,23,19],[18,18,18,19],[19,0,19,1],[19,2,19,5],[19,7,19,10],[19,18,19,19],[20,0,21,1],[20,2,21,5],[20,7,20,10],[20,18,20,19],[21,7,21,10],[16,0,16,1],[16,2,16,5],[16,7,16,10],[16,18,16,19],[17,0,17,1],[17,2,18,5],[17,7,17,10],[17,18,17,19],[18,0,18,1],[18,7,18,10],[12,17,15,17],[12,18,15,19],[13,0,13,1],[13,2,13,5],[13,14,15,14],[13,15,15,15],[13,16,15,16],[14,0,14,5],[15,0,15,1],[15,2,15,5],[12,0,12,1],[12,2,12,5],[12,7,15,10],[12,11,15,11],[12,12,15,12],[12,13,15,13],[9,16,9,17],[9,18,9,19],[10,0,10,1],[10,2,10,5],[11,0,11,1],[11,2,11,5],[6,14,6,15],[7,0,8,1],[7,2,8,5],[7,7,7,9],[8,7,8,9],[9,0,9,1],[9,2,9,5],[9,7,9,9],[0,6,0,19],[1,7,1,19],[2,0,3,2],[2,3,3,5],[2,7,2,19],[4,0,4,5],[4,7,6,9],[4,10,4,11],[4,12,4,13],[4,14,4,15],[4,16,4,19],[5,0,6,1],[5,2,6,5],[5,10,5,11],[5,12,5,13],[5,14,5,15],[5,16,5,17],[5,18,5,19],[6,10,6,11],[6,12,6,13]]}
[null,null,null,null,null,null," MORAVSKOSLEZSKÝ KYNOLOGICKÝ SVAZ, z. s."]
[null,null,null,null,null,null," ","Člen FCI prostřednictvím Českomoravské kynologické unie"]
["Druh a stupeň",null,null,{"$f":"IF(Soupiska!W15=\"M\",Soupiska!B15,\"NE\")","v":"NE"},null,null," ","POTVRZENÍ O VYKONANÉ ZKOUŠCE MZŘ"]
[]
["Data psa-feny",null,null,null,null,null,null,"A - STOPA",null,null,"FCI - IGP 1",null,"FCI - IGP 2",null,"FCI - IGP 3",null,"FCI - IGP IFH"]
["Jméno:",null,{"$f":"Soupiska!C15","v":0},null,null,null,null,null,null,null,"FCI - FPr 1",null,"FCI - FPr 2",null,"FCI - FPr 3",null,"Stopa č. 1",null,"Stopa č. 2"]
[null,null,null,null,null,null,null,null,null,null,"FCI - IFH 1",null,"FCI - IFH 2",null,"FCI - IFH 3",null,79," ",79]
["Chovná stanice:",null,{"$f":"Soupiska!E15","v":0},null,null,null,null,"Vlastní - cizí",null,null,79," ",79," ",79," ",21," ",21]
[null,null,null,null,null,null,null,"Předměty",null,null,21," ",21," ",21,null,100,{"$f":"SUM(R7:R8)","v":0},100,{"$f":"SUM(T7:T8)","v":0}]
["Plemeno:",null,{"$f":"Soupiska!I15","v":0},null,null,null,null,"Celkem",null,null,100,{"$f":"SUM(L8:L9)","v":0},100,{"$f":"SUM(N8:N9)","v":0},100,{"$f":"SUM(P8:P9)","v":0},200,null,{"$f":"SUM(R9,T9)","v":0}]
["Pohlaví:",null,{"$f":"Soupiska!K15","v":0}]
["Narozen:",null,{"$f":"Soupiska!L15","v":"00:00:00"},null,null,null,null,null,null,null,null,null,null,null,null," "]
["Č.záp.:",null,{"$f":"Soupiska!N15","v":0},null,null,null,null,"B - POSLUŠNOST",null,null,null,"FCI - IBGH 1","FCI - IBGH 2","FCI - IBGH 3","FCI - GPr 1-3, Upr 1-3",null,null,"FCI - BH/VT","BODY"]
["T.č./čip:",null,{"$f":"Soupiska!P15","v":0},null,null,null,null,null,null,null,null,null,null,null,"FCI - IGP 1   ","FCI - IGP 2              ","FCI - IGP 3"]
["Data psovoda"]
["Jméno:",null,{"$f":"Soupiska!C16","v":0}]
["Příjmení:",null,{"$f":"Soupiska!E16","v":0},null,null,null,null,"Ovladatelnost na vodítku",null,null,null,30,20," X"," X"," X","  X",30]
["Bydliště:",null,{"$f":"Soupiska!I16","v":0},null,null,null,null,"Ovladatelnost bez vodítka",null,null,null,30,20,20,15,15,15,"X"]
[null,null,null,null,null,null,null,"Odložení v sedě",null,null,null,15,15,10,10,10,10,10]
["Narozen:",null,{"$f":"DATE(IF(MID(Soupiska!C17,1,2)*1 > YEAR(TODAY())-2000, 1900, 2000) + MID(Soupiska!C17,1,2), MOD(MID(Soupiska!C17,3,2),50), MID(Soupiska!C17,5,2))","v":{"$error":"#VALUE!"}},null,null,null,null,"Odložení vleže s přivoláním",null,null,null,15,15,10,10,10,10,10]
["Člen ZO:",null,{"$f":"Soupiska!I17","v":0},null,null,null,null,"Odložení ve stoje",null,null,null," X"," X",10," X",10,10," X"]
[null,null,null,null,null,null,null,"Aport volný",null,null,null," X",10,15,15,10,10," X"]
["Data akce",null,null,null,null,null,null,"Skok přes překážku - 2 směry",null,null,null," X"," X"," X",15," X"," X"," X"]
["Datum:",null,{"$f":"Soupiska!T6","v":"00:00:00"},null,null,null,null,"Aport skokem",null,null,null," X"," X"," X","X",15,15," X"]
["Místo:",null,{"$f":"Soupiska!P5","v":0},null,null,null,null,"Šplh jedním směrem",null,null,null," X"," X"," X",15,10," X"," X"]
["Ved.zk.:",null,{"$f":"Soupiska!D6","v":0},null,null,null,null,"Aport šplhem",null,null,null," X"," X",15," X","X",10," X"]
["Rozhodčí:",null,{"$f":"Soupiska!P6","v":0},null,null,null,null,"Vysílání vpřed s odložením",null,null,null," X",10,10,10,10,10," X"]
[" ",null,null,null,null,null,null,"Odložení",null,null,null,10,10,10,10,10,10,10]
["        FCI - StPr 1 - 3 ",null,null,null,null,null,null,"Celkem",null,null,null,100,100,100,100,100,100,60,{"$f":"SUM(S17:T28)","v":0}]
["Ovladatelnost",null,null,null,20,null,null,"FCI - BH/VT: Chování psa v doprav. ruchu/zkouška AD",null,null,null,null,null,null,null,"XX"]
["Intenzita vyhledání",null,null,null,20]
["Vytrvalost",null,null,null,10,null,null,null,null,null,null,null,null,null,null,null,null,null,null," "]
["Chování psovoda",null,null,null,10,null,null,"C - OBRANA",null,null,null,"FCI - IGP 1",null,null,"  FCI - IGP 2",null,null," FCI - IGP 3"]
["Nalezení předmětů",null,null,null,40," ",null,null,null,null,null,"FCI - GPr1, SPr1",null,null,"FCI - GPr2, SPr2",null,null,"FCI - GPr3, SPr3"]
["Celkem",null,null,null,100,{"$f":"SUM(F30:F34)","v":0},null,"Vyhledání figuranta",null,null,null,5,null,null,5,null,null,10]
[null,null,null,null,null,null,null,"Vystavení a vyštěkání",null,null,null,15,null,null,15,null,null,15]
["Výsledek zkoušky",null,null,null,null,null,null,"Pokus o útěk",null,null,null,20,null,null,15,null,null,10]
["A - stopa",null,null,{"$f":"F35+L10+N10+P10+S10","v":0},null,null,null,"Obrana psa při hlídání",null,null,null,30,null,null,20,null,null,15]
["B - poslušnost",null,null,{"$f":"S29","v":0},null,null,null,"Zadní doprovod",null,null,null," X"," X",null,5,null,null,5]
["C - obrana",null,null,{"$f":"M43+P43+S43","v":0},null,null,null,"Přepad psa při doprovodu",null,null,null," X"," X",null," X"," X",null,15]
["D - BH-VT/AD",null,null,{"$f":"IF(P30=\"XX\",\" \",P30)","v":" "},null,null,null,"Útok na psa z pohybu",null,null,null,30,null,null,20,null,null,15]
["CELKEM",null,{"$f":"VLOOKUP(D3,TYPY!A$1:D$65536,4,FALSE)","v":{"$error":"#N/A"}},{"$f":"SUM(D38:F40)","v":0},null,null,null,"Obrana psa při hlídání",null,null,null," X"," X",null,20,null,null,15]
["ZNÁMKA",null,null,{"$f":"IF(EXACT(D3,\"FCI-IGP-IFH\"),IF(SUM(R9,T9)<70,\"N\",VLOOKUP(D42,TYPY!$D$44:$E$105,2,FALSE)),IF(D42>0,IFERROR(IF(C42=300,VLOOKUP(D42,TYPY!$B$44:$C$135,2,FALSE),IF(C42=200,VLOOKUP(D42,TYPY!$D$44:$E$105,2,FALSE),IF(C42=100,VLOOKUP(D42,TYPY!$F$44:$G$75,2,FALSE),IF(AND(C42=60,D41=\"Obstál\"),VLOOKUP(D42,TYPY!$H$44:$I$63,2,FALSE),\"N\")))),\"N\"),\" \"))","v":" "},null,null,null,"Celkem",null,null,null,100,{"$f":"SUM(M35:N42)","v":0},null,100,{"$f":"SUM(P35:Q42)","v":0},null,100,{"$f":"SUM(S35:T42)","v":0}]
[]
[]
[]
[]
[" ",null,null,null,null,null,null,null,null," ",null,null,null," "]
["Razítko organizace",null,null,null,null,null,null,null,null,"Podpis vedoucího zkoušek",null,null,null,"Podpis a razítko rozhodčího"]

{"sheet":"MZR3","index":2,"n_rows":49,"n_cols":20,"rows_kept":49,"cut":false,"hidden":true,"merged":[[48,0,48,7],[48,9,48,11],[48,13,48,19],[42,0,42,2],[42,3,42,5],[42,7,42,10],[42,12,42,13],[42,15,42,16],[42,18,42,19],[41,0,41,1],[41,3,41,5],[41,7,41,10],[41,12,41,13],[41,15,41,16],[41,18,41,19],[40,0,40,2],[40,3,40,5],[40,7,40,10],[40,12,40,13],[40,15,40,16],[40,18,40,19],[39,0,39,2],[39,3,39,5],[39,7,39,10],[39,12,39,13],[39,15,39,16],[39,18,39,19],[38,0,38,2],[38,3,38,5],[38,7,38,10],[38,12,38,13],[38,15,38,16],[38,18,38,19],[34,0,34,3],[34,7,34,10],[34,12,34,13],[34,15,34,16],[34,18,34,19],[37,0,37,2],[37,3,37,5],[37,7,37,10],[37,12,37,13],[37,15,37,16],[37,18,37,19],[35,7,35,10],[35,12,35,13],[35,15,35,16],[35,18,35,19],[36,0,36,5],[36,7,36,10],[36,12,36,13],[36,15,36,16],[36,18,36,19],[30,0,30,3],[31,0,31,3],[32,0,32,3],[32,7,33,10],[32,11,32,13],[32,14,32,16],[28,0,28,5],[28,7,28,10],[28,18,28,19],[29,0,29,3],[29,7,29,14],[29,15,29,19],[32,17,32,19],[33,0,33,3],[33,11,33,13],[33,14,33,16],[33,17,33,19],[26,0,26,1],[26,2,26,5],[26,7,26,10],[26,18,26,19],[27,7,27,10],[27,18,27,19],[24,0,24,1],[24,2,24,5],[24,7,24,10],[24,18,24,19],[25,0,25,1],[25,2,25,5],[25,7,25,10],[25,18,25,19],[21,18,21,19],[22,0,22,5],[22,7,22,10],[22,18,22,19],[23,0,23,1],[23,2,23,5],[23,7,23,10],[23,18,23,19],[18,18,18,19],[19,0,19,1],[19,2,19,5],[19,7,19,10],[19,18,19,19],[20,0,21,1],[20,2,21,5],[20,7,20,10],[20,18,20,19],[21,7,21,10],[16,0,16,1],[16,2,16,5],[16,7,16,10],[16,18,16,19],[17,0,17,1],[17,2,18,5],[17,7,17,10],[17,18,17,19],[18,0,18,1],[18,7,18,10],[12,17,15,17],[12,18,15,19],[13,0,13,1],[13,2,13,5],[13,14,15,14],[13,15,15,15],[13,16,15,16],[14,0,14,5],[15,0,15,1],[15,2,15,5],[12,0,12,1],[12,2,12,5],[12,7,15,10],[12,11,15,11],[12,12,15,12],[12,13,15,13],[9,16,9,17],[9,18,9,19],[10,0,10,1],[10,2,10,5],[11,0,11,1],[11,2,11,5],[6,14,6,15],[7,0,8,1],[7,2,8,5],[7,7,7,9],[8,7,8,9],[9,0,9,1],[9,2,9,5],[9,7,9,9],[0,6,0,19],[1,7,1,19],[2,0,3,2],[2,3,3,5],[2,7,2,19],[4,0,4,5],[4,7,6,9],[4,10,4,11],[4,12,4,13],[4,14,4,15],[4,16,4,19],[5,0,6,1],[5,2,6,5],[5,10,5,11],[5,12,5,13],[5,14,5,15],[5,16,5,17],[5,18,5,19],[6,10,6,11],[6,12,6,13]]}
[null,null,null,null,null,null," MORAVSKOSLEZSKÝ KYNOLOGICKÝ SVAZ, z. s."]
[null,null,null,null,null,null," ","Člen FCI prostřednictvím Českomoravské kynologické unie"]
["Druh a stupeň",null,null,{"$f":"IF(Soupiska!W18=\"M\",Soupiska!B18,\"NE\")","v":"NE"},null,null," ","POTVRZENÍ O VYKONANÉ ZKOUŠCE MZŘ"]
[]
["Data psa-feny",null,null,null,null,null,null,"A - STOPA",null,null,"FCI - IGP 1",null,"FCI - IGP 2",null,"FCI - IGP 3",null,"FCI - IGP IFH"]
["Jméno:",null,{"$f":"Soupiska!C18","v":0},null,null,null,null,null,null,null,"FCI - FPr 1",null,"FCI - FPr 2",null,"FCI - FPr 3",null,"Stopa č. 1",null,"Stopa č. 2"]
[null,null,null,null,null,null,null,null,null,null,"FCI - IFH 1",null,"FCI - IFH 2",null,"FCI - IFH 3",null,79," ",79]
["Chovná stanice:",null,{"$f":"Soupiska!E18","v":0},null,null,null,null,"Vlastní - cizí",null,null,79,null,79," ",79," ",21," ",21]
[null,null,null,null,null,null,null,"Předměty",null,null,21," ",21," ",21,null,100,{"$f":"SUM(R7:R8)","v":0},100,{"$f":"SUM(T7:T8)","v":0}]
["Plemeno:",null,{"$f":"Soupiska!I18","v":0},null,null,null,null,"Celkem",null,null,100,{"$f":"SUM(L8:L9)","v":0},100,{"$f":"SUM(N8:N9)","v":0},100,{"$f":"SUM(P8:P9)","v":0},200,null,{"$f":"SUM(R9,T9)","v":0}]
["Pohlaví:",null,{"$f":"Soupiska!K18","v":0}]
["Narozen:",null,{"$f":"Soupiska!L18","v":"00:00:00"},null,null,null,null,null,null,null,null,null,null,null,null," "]
["Č.záp.:",null,{"$f":"Soupiska!N18","v":0},null,null,null,null,"B - POSLUŠNOST",null,null,null,"FCI - IBGH 1","FCI - IBGH 2","FCI - IBGH 3","FCI - GPr 1-3, Upr 1-3",null,null,"FCI - BH/VT","BODY"]
["T.č./čip:",null,{"$f":"Soupiska!P18","v":0},null,null,null,null,null,null,null,null,null,null,null,"FCI - IGP 1   ","FCI - IGP 2              ","FCI - IGP 3"]
["Data psovoda"]
["Jméno:",null,{"$f":"Soupiska!C19","v":0}]
["Příjmení:",null,{"$f":"Soupiska!E19","v":0},null,null,null,null,"Ovladatelnost na vodítku",null,null,null,30,20," X"," X"," X","  X",30]
["Bydliště:",null,{"$f":"Soupiska!I19","v":0},null,null,null,null,"Ovladatelnost bez vodítka",null,null,null,30,20,20,15,15,15,"X"]
[null,null,null,null,null,null,null,"Odložení v sedě",null,null,null,15,15,10,10,10,10,10]
["Narozen:",null,{"$f":"DATE(IF(MID(Soupiska!C20,1,2)*1 > YEAR(TODAY())-2000, 1900, 2000) + MID(Soupiska!C20,1,2), MOD(MID(Soupiska!C20,3,2),50), MID(Soupiska!C20,5,2))","v":{"$error":"#VALUE!"}},null,null,null,null,"Odložení vleže s přivoláním",null,null,null,15,15,10,10,10,10,10]
["Člen ZO:",null,{"$f":"Soupiska!I20","v":0},null,null,null,null,"Odložení ve stoje",null,null,null," X"," X",10," X",10,10," X"]
[null,null,null,null,null,null,null,"Aport volný",null,null,null," X",10,15,15,10,10," X"]
["Data akce",null,null,null,null,null,null,"Skok přes překážku - 2 směry",null,null,null," X"," X"," X",15," X"," X"," X"]
["Datum:",null,{"$f":"Soupiska!T6","v":"00:00:00"},null,null,null,null,"Aport skokem",null,null,null," X"," X"," X","X",15,15," X"]
["Místo:",null,{"$f":"Soupiska!P5","v":0},null,null,null,null,"Šplh jedním směrem",null,null,null," X"," X"," X",15,10," X"," X"]
["Ved.zk.:",null,{"$f":"Soupiska!D6","v":0},null,null,null,null,"Aport šplhem",null,null,null," X"," X",15," X","X",10," X"]
["Rozhodčí:",null,{"$f":"Soupiska!P6","v":0},null,null,null,null,"Vysílání vpřed s odložením",null,null,null," X",10,10,10,10,10," X"]
[" ",null,null,null,null,null,null,"Odložení",null,null,null,10,10,10,10,10,10,10]
["        FCI - StPr 1 - 3 ",null,null,null,null,null,null,"Celkem",null,null,null,100,100,100,100,100,100,60,{"$f":"SUM(S17:T28)","v":0}]
["Ovladatelnost",null,null,null,20,null,null,"FCI - BH/VT: Chování psa v doprav. ruchu/zkouška AD",null,null,null,null,null,null,null,"XX"]
["Intenzita vyhledání",null,null,null,20]
["Vytrvalost",null,null,null,10," ",null,null,null,null,null,null,null,null,null,null,null,null,null," "]
["Chování psovoda",null,null,null,10,null,null,"C - OBRANA",null,null,null,"FCI - IGP 1",null,null,"  FCI - IGP 2",null,null," FCI - IGP 3"]
["Nalezení předmětů",null,null,null,40," ",null,null,null,null,null,"FCI - GPr1, SPr1",null,null,"FCI - GPr2, SPr2",null,null,"FCI - GPr3, SPr3"]
["Celkem",null,null,null,100,{"$f":"SUM(F30:F34)","v":0},null,"Vyhledání figuranta",null,null,null,5,null,null,5,null,null,10]
[null,null,null,null,null,null,null,"Vystavení a vyštěkání",null,null,null,15,null,null,15,null,null,15]
["Výsledek zkoušky",null,null,null,null,null,null,"Pokus o útěk",null,null,null,20,null,null,15,null,null,10]
["A - stopa",null,null,{"$f":"F35+L10+N10+P10+S10","v":0},null,null,null,"Obrana psa při hlídání",null,null,null,30,null,null,20,null,null,15]
["B - poslušnost",null,null,{"$f":"S29","v":0},null,null,null,"Zadní doprovod",null,null,null," X"," X",null,5,null,null,5]
["C - obrana",null,null,{"$f":"M43+P43+S43","v":0},null,null,null,"Přepad psa při doprovodu",null,null,null," X"," X",null," X"," X",null,15]
["D - BH-VT/AD",null,null,{"$f":"IF(P30=\"XX\",\" \",P30)","v":" "},null,null,null,"Útok na psa z pohybu",null,null,null,30,null,null,20,null,null,15]
["CELKEM",null,{"$f":"VLOOKUP(D3,TYPY!A$1:D$65536,4,FALSE)","v":{"$error":"#N/A"}},{"$f":"SUM(D38:F40)","v":0},null,null,null,"Obrana psa při hlídání",null,null,null," X"," X",null,20,null,null,15]
["ZNÁMKA",null,null,{"$f":"IF(EXACT(D3,\"FCI-IGP-IFH\"),IF(SUM(R9,T9)<70,\"N\",VLOOKUP(D42,TYPY!$D$44:$E$105,2,FALSE)),IF(D42>0,IFERROR(IF(C42=300,VLOOKUP(D42,TYPY!$B$44:$C$135,2,FALSE),IF(C42=200,VLOOKUP(D42,TYPY!$D$44:$E$105,2,FALSE),IF(C42=100,VLOOKUP(D42,TYPY!$F$44:$G$75,2,FALSE),IF(AND(C42=60,D41=\"Obstál\"),VLOOKUP(D42,TYPY!$H$44:$I$63,2,FALSE),\"N\")))),\"N\"),\" \"))","v":" "},null,null,null,"Celkem",null,null,null,100,{"$f":"SUM(M35:N42)","v":0},null,100,{"$f":"SUM(P35:Q42)","v":0},null,100,{"$f":"SUM(S35:T42)","v":0}]
[]
[]
[]
[]
[" ",null,null,null,null,null,null,null,null," ",null,null,null," "]
["Razítko organizace",null,null,null,null,null,null,null,null,"Podpis vedoucího zkoušek",null,null,null,"Podpis a razítko rozhodčího"]

{"sheet":"MZR4","index":3,"n_rows":49,"n_cols":20,"rows_kept":49,"cut":false,"hidden":true,"merged":[[48,0,48,7],[48,9,48,11],[48,13,48,19],[42,0,42,2],[42,3,42,5],[42,7,42,10],[42,12,42,13],[42,15,42,16],[42,18,42,19],[41,0,41,1],[41,3,41,5],[41,7,41,10],[41,12,41,13],[41,15,41,16],[41,18,41,19],[40,0,40,2],[40,3,40,5],[40,7,40,10],[40,12,40,13],[40,15,40,16],[40,18,40,19],[39,0,39,2],[39,3,39,5],[39,7,39,10],[39,12,39,13],[39,15,39,16],[39,18,39,19],[38,0,38,2],[38,3,38,5],[38,7,38,10],[38,12,38,13],[38,15,38,16],[38,18,38,19],[34,0,34,3],[34,7,34,10],[34,12,34,13],[34,15,34,16],[34,18,34,19],[37,0,37,2],[37,3,37,5],[37,7,37,10],[37,12,37,13],[37,15,37,16],[37,18,37,19],[35,7,35,10],[35,12,35,13],[35,15,35,16],[35,18,35,19],[36,0,36,5],[36,7,36,10],[36,12,36,13],[36,15,36,16],[36,18,36,19],[30,0,30,3],[31,0,31,3],[32,0,32,3],[32,7,33,10],[32,11,32,13],[32,14,32,16],[28,0,28,5],[28,7,28,10],[28,18,28,19],[29,0,29,3],[29,7,29,14],[29,15,29,19],[32,17,32,19],[33,0,33,3],[33,11,33,13],[33,14,33,16],[33,17,33,19],[26,0,26,1],[26,2,26,5],[26,7,26,10],[26,18,26,19],[27,7,27,10],[27,18,27,19],[24,0,24,1],[24,2,24,5],[24,7,24,10],[24,18,24,19],[25,0,25,1],[25,2,25,5],[25,7,25,10],[25,18,25,19],[21,18,21,19],[22,0,22,5],[22,7,22,10],[22,18,22,19],[23,0,23,1],[23,2,23,5],[23,7,23,10],[23,18,23,19],[18,18,18,19],[19,0,19,1],[19,2,19,5],[19,7,19,10],[19,18,19,19],[20,0,21,1],[20,2,21,5],[20,7,20,10],[20,18,20,19],[21,7,21,10],[16,0,16,1],[16,2,16,5],[16,7,16,10],[16,18,16,19],[17,0,17,1],[17,2,18,5],[17,7,17,10],[17,18,17,19],[18,0,18,1],[18,7,18,10],[12,17,15,17],[12,18,15,19],[13,0,13,1],[13,2,13,5],[13,14,15,14],[13,15,15,15],[13,16,15,16],[14,0,14,5],[15,0,15,1],[15,2,15,5],[12,0,12,1],[12,2,12,5],[12,7,15,10],[12,11,15,11],[12,12,15,12],[12,13,15,13],[9,16,9,17],[9,18,9,19],[10,0,10,1],[10,2,10,5],[11,0,11,1],[11,2,11,5],[6,14,6,15],[7,0,8,1],[7,2,8,5],[7,7,7,9],[8,7,8,9],[9,0,9,1],[9,2,9,5],[9,7,9,9],[0,6,0,19],[1,7,1,19],[2,0,3,2],[2,3,3,5],[2,7,2,19],[4,0,4,5],[4,7,6,9],[4,10,4,11],[4,12,4,13],[4,14,4,15],[4,16,4,19],[5,0,6,1],[5,2,6,5],[5,10,5,11],[5,12,5,13],[5,14,5,15],[5,16,5,17],[5,18,5,19],[6,10,6,11],[6,12,6,13]]}
[null,null,null,null,null,null," MORAVSKOSLEZSKÝ KYNOLOGICKÝ SVAZ, z. s."]
[null,null,null,null,null,null," ","Člen FCI prostřednictvím Českomoravské kynologické unie"]
["Druh a stupeň",null,null,{"$f":"IF(Soupiska!W21=\"M\",Soupiska!B21,\"NE\")","v":"NE"},null,null," ","POTVRZENÍ O VYKONANÉ ZKOUŠCE MZŘ"]
[]
["Data psa-feny",null,null,null,null,null,null,"A - STOPA",null,null,"FCI - IGP 1",null,"FCI - IGP 2",null,"FCI - IGP 3",null,"FCI - IGP IFH"]
["Jméno:",null,{"$f":"Soupiska!C21","v":0},null,null,null,null,null,null,null,"FCI - FPr 1",null,"FCI - FPr 2",null,"FCI - FPr 3",null,"Stopa č. 1",null,"Stopa č. 2"]
[null,null,null,null,null,null,null,null,null,null,"FCI - IFH 1",null,"FCI - IFH 2",null,"FCI - IFH 3",null,79," ",79]
["Chovná stanice:",null,{"$f":"Soupiska!E21","v":0},null,null,null,null,"Vlastní - cizí",null,null,79," ",79," ",79,100,21," ",21]
[null,null,null,null,null,null,null,"Předměty",null,null,21," ",21," ",21,null,100,{"$f":"SUM(R7:R8)","v":0},100,{"$f":"SUM(T7:T8)","v":0}]
["Plemeno:",null,{"$f":"Soupiska!I21","v":0},null,null,null,null,"Celkem",null,null,100,{"$f":"SUM(L8:L9)","v":0},100,{"$f":"SUM(N8:N9)","v":0},100,{"$f":"SUM(P8:P9)","v":100},200,null,{"$f":"SUM(R9,T9)","v":0}]
["Pohlaví:",null,{"$f":"Soupiska!K21","v":0}]
["Narozen:",null,{"$f":"Soupiska!L21","v":"00:00:00"},null,null,null,null,null,null,null,null,null,null,null,null," "]
["Č.záp.:",null,{"$f":"Soupiska!N21","v":0},null,null,null,null,"B - POSLUŠNOST",null,null,null,"FCI - IBGH 1","FCI - IBGH 2","FCI - IBGH 3","FCI - GPr 1-3, Upr 1-3",null,null,"FCI - BH/VT","BODY"]
["T.č./čip:",null,{"$f":"Soupiska!P21","v":0},null,null,null,null,null,null,null,null,null,null,null,"FCI - IGP 1   ","FCI - IGP 2              ","FCI - IGP 3"]
["Data psovoda"]
["Jméno:",null,{"$f":"Soupiska!C22","v":0}]
["Příjmení:",null,{"$f":"Soupiska!E22","v":0},null,null,null,null,"Ovladatelnost na vodítku",null,null,null,30,20," X"," X"," X","  X",30]
["Bydliště:",null,{"$f":"Soupiska!I22","v":0},null,null,null,null,"Ovladatelnost bez vodítka",null,null,null,30,20,20,15,15,15,"X"]
[null,null,null,null,null,null,null,"Odložení v sedě",null,null,null,15,15,10,10,10,10,10]
["Narozen:",null,{"$f":"DATE(IF(MID(Soupiska!C23,1,2)*1 > YEAR(TODAY())-2000, 1900, 2000) + MID(Soupiska!C23,1,2), MOD(MID(Soupiska!C23,3,2),50), MID(Soupiska!C23,5,2))","v":{"$error":"#VALUE!"}},null,null,null,null,"Odložení vleže s přivoláním",null,null,null,15,15,10,10,10,10,10]
["Člen ZO:",null,{"$f":"Soupiska!I23","v":0},null,null,null,null,"Odložení ve stoje",null,null,null," X"," X",10," X",10,10," X"]
[null,null,null,null,null,null,null,"Aport volný",null,null,null," X",10,15,15,10,10," X"]
["Data akce",null,null,null,null,null,null,"Skok přes překážku - 2 směry",null,null,null," X"," X"," X",15," X"," X"," X"]
["Datum:",null,{"$f":"Soupiska!T6","v":"00:00:00"},null,null,null,null,"Aport skokem",null,null,null," X"," X"," X","X",15,15," X"]
["Místo:",null,{"$f":"Soupiska!P5","v":0},null,null,null,null,"Šplh jedním směrem",null,null,null," X"," X"," X",15,10," X"," X"]
["Ved.zk.:",null,{"$f":"Soupiska!D6","v":0},null,null,null,null,"Aport šplhem",null,null,null," X"," X",15," X","X",10," X"]
["Rozhodčí:",null,{"$f":"Soupiska!P6","v":0},null,null,null,null,"Vysílání vpřed s odložením",null,null,null," X",10,10,10,10,10," X"]
[" ",null,null,null,null,null,null,"Odložení",null,null,null,10,10,10,10,10,10,10]
["        FCI - StPr 1 - 3 ",null,null,null,null,null,null,"Celkem",null,null,null,100,100,100,100,100,100,60,{"$f":"SUM(S17:T28)","v":0}]
["Ovladatelnost",null,null,null,20,null,null,"FCI - BH/VT: Chování psa v doprav. ruchu/zkouška AD",null,null,null,null,null,null,null,"XX"]
["Intenzita vyhledání",null,null,null,20]
["Vytrvalost",null,null,null,10," ",null,null,null,null,null,null,null,null,null,null,null,null,null," "]
["Chování psovoda",null,null,null,10,null,null,"C - OBRANA",null,null,null,"FCI - IGP 1",null,null,"  FCI - IGP 2",null,null," FCI - IGP 3"]
["Nalezení předmětů",null,null,null,40," ",null,null,null,null,null,"FCI - GPr1, SPr1",null,null,"FCI - GPr2, SPr2",null,null,"FCI - GPr3, SPr3"]
["Celkem",null,null,null,100,{"$f":"SUM(F30:F34)","v":0},null,"Vyhledání figuranta",null,null,null,5,null,null,5,null,null,10]
[null,null,null,null,null,null,null,"Vystavení a vyštěkání",null,null,null,15,null,null,15,null,null,15]
["Výsledek zkoušky",null,null,null,null,null,null,"Pokus o útěk",null,null,null,20,null,null,15,null,null,10]
["A - stopa",null,null,{"$f":"F35+L10+N10+P10+S10","v":100},null,null,null,"Obrana psa při hlídání",null,null,null,30,null,null,20,null,null,15]
["B - poslušnost",null,null,{"$f":"S29","v":0},null,null,null,"Zadní doprovod",null,null,null," X"," X",null,5,null,null,5]
["C - obrana",null,null,{"$f":"M43+P43+S43","v":0},null,null,null,"Přepad psa při doprovodu",null,null,null," X"," X",null," X"," X",null,15]
["D - BH-VT/AD",null,null,{"$f":"IF(P30=\"XX\",\" \",P30)","v":" "},null,null,null,"Útok na psa z pohybu",null,null,null,30,null,null,20,null,null,15]
["CELKEM",null,{"$f":"VLOOKUP(D3,TYPY!A$1:D$65536,4,FALSE)","v":{"$error":"#N/A"}},{"$f":"SUM(D38:F40)","v":100},null,null,null,"Obrana psa při hlídání",null,null,null," X"," X",null,20,null,null,15]
["ZNÁMKA",null,null,{"$f":"IF(EXACT(D3,\"FCI-IGP-IFH\"),IF(SUM(R9,T9)<70,\"N\",VLOOKUP(D42,TYPY!$D$44:$E$105,2,FALSE)),IF(D42>0,IFERROR(IF(C42=300,VLOOKUP(D42,TYPY!$B$44:$C$135,2,FALSE),IF(C42=200,VLOOKUP(D42,TYPY!$D$44:$E$105,2,FALSE),IF(C42=100,VLOOKUP(D42,TYPY!$F$44:$G$75,2,FALSE),IF(AND(C42=60,D41=\"Obstál\"),VLOOKUP(D42,TYPY!$H$44:$I$63,2,FALSE),\"N\")))),\"N\"),\" \"))","v":"N"},null,null,null,"Celkem",null,null,null,100,{"$f":"SUM(M35:N42)","v":0},null,100,{"$f":"SUM(P35:Q42)","v":0},null,100,{"$f":"SUM(S35:T42)","v":0}]
[]
[]
[]
[]
[" ",null,null,null,null,null,null,null,null," ",null,null,null," "]
["Razítko organizace",null,null,null,null,null,null,null,null,"Podpis vedoucího zkoušek",null,null,null,"Podpis a razítko rozhodčího"]

{"sheet":"MZR5","index":4,"n_rows":49,"n_cols":20,"rows_kept":49,"cut":false,"hidden":true,"merged":[[48,0,48,7],[48,9,48,11],[48,13,48,19],[42,0,42,2],[42,3,42,5],[42,7,42,10],[42,12,42,13],[42,15,42,16],[42,18,42,19],[41,0,41,1],[41,3,41,5],[41,7,41,10],[41,12,41,13],[41,15,41,16],[41,18,41,19],[40,0,40,2],[40,3,40,5],[40,7,40,10],[40,12,40,13],[40,15,40,16],[40,18,40,19],[39,0,39,2],[39,3,39,5],[39,7,39,10],[39,12,39,13],[39,15,39,16],[39,18,39,19],[38,0,38,2],[38,3,38,5],[38,7,38,10],[38,12,38,13],[38,15,38,16],[38,18,38,19],[34,0,34,3],[34,7,34,10],[34,12,34,13],[34,15,34,16],[34,18,34,19],[37,0,37,2],[37,3,37,5],[37,7,37,10],[37,12,37,13],[37,15,37,16],[37,18,37,19],[35,7,35,10],[35,12,35,13],[35,15,35,16],[35,18,35,19],[36,0,36,5],[36,7,36,10],[36,12,36,13],[36,15,36,16],[36,18,36,19],[30,0,30,3],[31,0,31,3],[32,0,32,3],[32,7,33,10],[32,11,32,13],[32,14,32,16],[28,0,28,5],[28,7,28,10],[28,18,28,19],[29,0,29,3],[29,7,29,14],[29,15,29,19],[32,17,32,19],[33,0,33,3],[33,11,33,13],[33,14,33,16],[33,17,33,19],[26,0,26,1],[26,2,26,5],[26,7,26,10],[26,18,26,19],[27,7,27,10],[27,18,27,19],[24,0,24,1],[24,2,24,5],[24,7,24,10],[24,18,24,19],[25,0,25,1],[25,2,25,5],[25,7,25,10],[25,18,25,19],[21,18,21,19],[22,0,22,5],[22,7,22,10],[22,18,22,19],[23,0,23,1],[23,2,23,5],[23,7,23,10],[23,18,23,19],[18,18,18,19],[19,0,19,1],[19,2,19,5],[19,7,19,10],[19,18,19,19],[20,0,21,1],[20,2,21,5],[20,7,20,10],[20,18,20,19],[21,7,21,10],[16,0,16,1],[16,2,16,5],[16,7,16,10],[16,18,16,19],[17,0,17,1],[17,2,18,5],[17,7,17,10],[17,18,17,19],[18,0,18,1],[18,7,18,10],[12,17,15,17],[12,18,15,19],[13,0,13,1],[13,2,13,5],[13,14,15,14],[13,15,15,15],[13,16,15,16],[14,0,14,5],[15,0,15,1],[15,2,15,5],[12,0,12,1],[12,2,12,5],[12,7,15,10],[12,11,15,11],[12,12,15,12],[12,13,15,13],[9,16,9,17],[9,18,9,19],[10,0,10,1],[10,2,10,5],[11,0,11,1],[11,2,11,5],[6,14,6,15],[7,0,8,1],[7,2,8,5],[7,7,7,9],[8,7,8,9],[9,0,9,1],[9,2,9,5],[9,7,9,9],[0,6,0,19],[1,7,1,19],[2,0,3,2],[2,3,3,5],[2,7,2,19],[4,0,4,5],[4,7,6,9],[4,10,4,11],[4,12,4,13],[4,14,4,15],[4,16,4,19],[5,0,6,1],[5,2,6,5],[5,10,5,11],[5,12,5,13],[5,14,5,15],[5,16,5,17],[5,18,5,19],[6,10,6,11],[6,12,6,13]]}
[null,null,null,null,null,null," MORAVSKOSLEZSKÝ KYNOLOGICKÝ SVAZ, z. s."]
[null,null,null,null,null,null," ","Člen FCI prostřednictvím Českomoravské kynologické unie"]
["Druh a stupeň",null,null,{"$f":"IF(Soupiska!W24=\"M\",Soupiska!B24,\"NE\")","v":"NE"},null,null," ","POTVRZENÍ O VYKONANÉ ZKOUŠCE MZŘ"]
[]
["Data psa-feny",null,null,null,null,null,null,"A - STOPA",null,null,"FCI - IGP 1",null,"FCI - IGP 2",null,"FCI - IGP 3",null,"FCI - IGP IFH"]
["Jméno:",null,{"$f":"Soupiska!C24","v":0},null,null,null,null,null,null,null,"FCI - FPr 1",null,"FCI - FPr 2",null,"FCI - FPr 3",null,"Stopa č. 1",null,"Stopa č. 2"]
[null,null,null,null,null,null,null,null,null,null,"FCI - IFH 1",null,"FCI - IFH 2",null,"FCI - IFH 3",null,79," ",79]
["Chovná stanice:",null,{"$f":"Soupiska!E24","v":0},null,null,null,null,"Vlastní - cizí",null,null,79," ",79," ",79," ",21," ",21]
[null,null,null,null,null,null,null,"Předměty",null,null,21," ",21," ",21,null,100,{"$f":"SUM(R7:R8)","v":0},100,{"$f":"SUM(T7:T8)","v":0}]
["Plemeno:",null,{"$f":"Soupiska!I24","v":0},null,null,null,null,"Celkem",null,null,100,{"$f":"SUM(L8:L9)","v":0},100,{"$f":"SUM(N8:N9)","v":0},100,{"$f":"SUM(P8:P9)","v":0},200,null,{"$f":"SUM(R9,T9)","v":0}]
["Pohlaví:",null,{"$f":"Soupiska!K24","v":0}]
["Narozen:",null,{"$f":"Soupiska!L24","v":"00:00:00"},null,null,null,null,null,null,null,null,null,null,null,null," "]
["Č.záp.:",null,{"$f":"Soupiska!N24","v":0},null,null,null,null,"B - POSLUŠNOST",null,null,null,"FCI - IBGH 1","FCI - IBGH 2","FCI - IBGH 3","FCI - GPr 1-3, Upr 1-3",null,null,"FCI - BH/VT","BODY"]
["T.č./čip:",null,{"$f":"Soupiska!P24","v":0},null,null,null,null,null,null,null,null,null,null,null,"FCI - IGP 1   ","FCI - IGP 2              ","FCI - IGP 3"]
["Data psovoda"]
["Jméno:",null,{"$f":"Soupiska!C25","v":0}]
["Příjmení:",null,{"$f":"Soupiska!E25","v":0},null,null,null,null,"Ovladatelnost na vodítku",null,null,null,30,20," X"," X"," X","  X",30]
["Bydliště:",null,{"$f":"Soupiska!I25","v":0},null,null,null,null,"Ovladatelnost bez vodítka",null,null,null,30,20,20,15,15,15,"X"]
[null,null,null,null,null,null,null,"Odložení v sedě",null,null,null,15,15,10,10,10,10,10]
["Narozen:",null,{"$f":"DATE(IF(MID(Soupiska!C26,1,2)*1 > YEAR(TODAY())-2000, 1900, 2000) + MID(Soupiska!C26,1,2), MOD(MID(Soupiska!C26,3,2),50), MID(Soupiska!C26,5,2))","v":{"$error":"#VALUE!"}},null,null,null,null,"Odložení vleže s přivoláním",null,null,null,15,15,10,10,10,10,10]
["Člen ZO:",null,{"$f":"Soupiska!I26","v":0},null,null,null,null,"Odložení ve stoje",null,null,null," X"," X",10," X",10,10," X"]
[null,null,null,null,null,null,null,"Aport volný",null,null,null," X",10,15,15,10,10," X"]
["Data akce",null,null,null,null,null,null,"Skok přes překážku - 2 směry",null,null,null," X"," X"," X",15," X"," X"," X"]
["Datum:",null,{"$f":"Soupiska!T6","v":"00:00:00"},null,null,null,null,"Aport skokem",null,null,null," X"," X"," X","X",15,15," X"]
["Místo:",null,{"$f":"Soupiska!P5","v":0},null,null,null,null,"Šplh jedním směrem",null,null,null," X"," X"," X",15,10," X"," X"]
["Ved.zk.:",null,{"$f":"Soupiska!D6","v":0},null,null,null,null,"Aport šplhem",null,null,null," X"," X",15," X","X",10," X"]
["Rozhodčí:",null,{"$f":"Soupiska!P6","v":0},null,null,null,null,"Vysílání vpřed s odložením",null,null,null," X",10,10,10,10,10," X"]
[" ",null,null,null,null,null,null,"Odložení",null,null,null,10,10,10,10,10,10,10]
["        FCI - StPr 1 - 3 ",null,null,null,null,null,null,"Celkem",null,null,null,100,100,100,100,100,100,60,{"$f":"SUM(S17:T28)","v":0}]
["Ovladatelnost",null,null,null,20,null,null,"FCI - BH/VT: Chování psa v doprav. ruchu/zkouška AD",null,null,null,null,null,null,null,"XX"]
["Intenzita vyhledání",null,null,null,20]
["Vytrvalost",null,null,null,10,null,null,null,null,null,null,null,null,null,null,null,null,null,null," "]
["Chování psovoda",null,null,null,10,null,null,"C - OBRANA",null,null,null,"FCI - IGP 1",null,null,"  FCI - IGP 2",null,null," FCI - IGP 3"]
["Nalezení předmětů",null,null,null,40," ",null,null,null,null,null,"FCI - GPr1, SPr1",null,null,"FCI - GPr2, SPr2",null,null,"FCI - GPr3, SPr3"]
["Celkem",null,null,null,100,{"$f":"SUM(F30:F34)","v":0},null,"Vyhledání figuranta",null,null,null,5,null,null,5,null,null,10]
[null,null,null,null,null,null,null,"Vystavení a vyštěkání",null,null,null,15,null,null,15,null,null,15]
["Výsledek zkoušky",null,null,null,null,null,null,"Pokus o útěk",null,null,null,20,null,null,15,null,null,10]
["A - stopa",null,null,{"$f":"F35+L10+N10+P10+S10","v":0},null,null,null,"Obrana psa při hlídání",null,null,null,30,null,null,20,null,null,15]
["B - poslušnost",null,null,{"$f":"S29","v":0},null,null,null,"Zadní doprovod",null,null,null," X"," X",null,5,null,null,5]
["C - obrana",null,null,{"$f":"M43+P43+S43","v":0},null,null,null,"Přepad psa při doprovodu",null,null,null," X"," X",null," X"," X",null,15]
["D - BH-VT/AD",null,null,{"$f":"IF(P30=\"XX\",\" \",P30)","v":" "},null,null,null,"Útok na psa z pohybu",null,null,null,30,null,null,20,null,null,15]
["CELKEM",null,{"$f":"VLOOKUP(D3,TYPY!A$1:D$65536,4,FALSE)","v":{"$error":"#N/A"}},{"$f":"SUM(D38:F40)","v":0},null,null,null,"Obrana psa při hlídání",null,null,null," X"," X",null,20,null,null,15]
["ZNÁMKA",null,null,{"$f":"IF(EXACT(D3,\"FCI-IGP-IFH\"),IF(SUM(R9,T9)<70,\"N\",VLOOKUP(D42,TYPY!$D$44:$E$105,2,FALSE)),IF(D42>0,IFERROR(IF(C42=300,VLOOKUP(D42,TYPY!$B$44:$C$135,2,FALSE),IF(C42=200,VLOOKUP(D42,TYPY!$D$44:$E$105,2,FALSE),IF(C42=100,VLOOKUP(D42,TYPY!$F$44:$G$75,2,FALSE),IF(AND(C42=60,D41=\"Obstál\"),VLOOKUP(D42,TYPY!$H$44:$I$63,2,FALSE),\"N\")))),\"N\"),\" \"))","v":" "},null,null,null,"Celkem",null,null,null,100,{"$f":"SUM(M35:N42)","v":0},null,100,{"$f":"SUM(P35:Q42)","v":0},null,100,{"$f":"SUM(S35:T42)","v":0}]
[]
[]
[]
[]
[" ",null,null,null,null,null,null,null,null," ",null,null,null," "]
["Razítko organizace",null,null,null,null,null,null,null,null,"Podpis vedoucího zkoušek",null,null,null,"Podpis a razítko rozhodčího"]

{"sheet":"MZR6","index":5,"n_rows":49,"n_cols":20,"rows_kept":49,"cut":false,"hidden":true,"merged":[[48,0,48,7],[48,9,48,11],[48,13,48,19],[42,0,42,2],[42,3,42,5],[42,7,42,10],[42,12,42,13],[42,15,42,16],[42,18,42,19],[41,0,41,1],[41,3,41,5],[41,7,41,10],[41,12,41,13],[41,15,41,16],[41,18,41,19],[40,0,40,2],[40,3,40,5],[40,7,40,10],[40,12,40,13],[40,15,40,16],[40,18,40,19],[39,0,39,2],[39,3,39,5],[39,7,39,10],[39,12,39,13],[39,15,39,16],[39,18,39,19],[38,0,38,2],[38,3,38,5],[38,7,38,10],[38,12,38,13],[38,15,38,16],[38,18,38,19],[34,0,34,3],[34,7,34,10],[34,12,34,13],[34,15,34,16],[34,18,34,19],[37,0,37,2],[37,3,37,5],[37,7,37,10],[37,12,37,13],[37,15,37,16],[37,18,37,19],[35,7,35,10],[35,12,35,13],[35,15,35,16],[35,18,35,19],[36,0,36,5],[36,7,36,10],[36,12,36,13],[36,15,36,16],[36,18,36,19],[30,0,30,3],[31,0,31,3],[32,0,32,3],[32,7,33,10],[32,11,32,13],[32,14,32,16],[28,0,28,5],[28,7,28,10],[28,18,28,19],[29,0,29,3],[29,7,29,14],[29,15,29,19],[32,17,32,19],[33,0,33,3],[33,11,33,13],[33,14,33,16],[33,17,33,19],[26,0,26,1],[26,2,26,5],[26,7,26,10],[26,18,26,19],[27,7,27,10],[27,18,27,19],[24,0,24,1],[24,2,24,5],[24,7,24,10],[24,18,24,19],[25,0,25,1],[25,2,25,5],[25,7,25,10],[25,18,25,19],[21,18,21,19],[22,0,22,5],[22,7,22,10],[22,18,22,19],[23,0,23,1],[23,2,23,5],[23,7,23,10],[23,18,23,19],[18,18,18,19],[19,0,19,1],[19,2,19,5],[19,7,19,10],[19,18,19,19],[20,0,21,1],[20,2,21,5],[20,7,20,10],[20,18,20,19],[21,7,21,10],[16,0,16,1],[16,2,16,5],[16,7,16,10],[16,18,16,19],[17,0,17,1],[17,2,18,5],[17,7,17,10],[17,18,17,19],[18,0,18,1],[18,7,18,10],[12,17,15,17],[12,18,15,19],[13,0,13,1],[13,2,13,5],[13,14,15,14],[13,15,15,15],[13,16,15,16],[14,0,14,5],[15,0,15,1],[15,2,15,5],[12,0,12,1],[12,2,12,5],[12,7,15,10],[12,11,15,11],[12,12,15,12],[12,13,15,13],[9,16,9,17],[9,18,9,19],[10,0,10,1],[10,2,10,5],[11,0,11,1],[11,2,11,5],[6,14,6,15],[7,0,8,1],[7,2,8,5],[7,7,7,9],[8,7,8,9],[9,0,9,1],[9,2,9,5],[9,7,9,9],[0,6,0,19],[1,7,1,19],[2,0,3,2],[2,3,3,5],[2,7,2,19],[4,0,4,5],[4,7,6,9],[4,10,4,11],[4,12,4,13],[4,14,4,15],[4,16,4,19],[5,0,6,1],[5,2,6,5],[5,10,5,11],[5,12,5,13],[5,14,5,15],[5,16,5,17],[5,18,5,19],[6,10,6,11],[6,12,6,13]]}
[null,null,null,null,null,null," MORAVSKOSLEZSKÝ KYNOLOGICKÝ SVAZ, z. s."]
[null,null,null,null,null,null," ","Člen FCI prostřednictvím Českomoravské kynologické unie"]
["Druh a stupeň",null,null,{"$f":"IF(Soupiska!W27=\"M\",Soupiska!B27,\"NE\")","v":"NE"},null,null," ","POTVRZENÍ O VYKONANÉ ZKOUŠCE MZŘ"]
[]
["Data psa-feny",null,null,null,null,null,null,"A - STOPA",null,null,"FCI - IGP 1",null,"FCI - IGP 2",null,"FCI - IGP 3",null,"FCI - IGP IFH"]
["Jméno:",null,{"$f":"Soupiska!C27","v":0},null,null,null,null,null,null,null,"FCI - FPr 1",null,"FCI - FPr 2",null,"FCI - FPr 3",null,"Stopa č. 1",null,"Stopa č. 2"]
[null,null,null,null,null,null,null,null,null,null,"FCI - IFH 1",null,"FCI - IFH 2",null,"FCI - IFH 3",null,79," ",79]
["Chovná stanice:",null,{"$f":"Soupiska!E27","v":0},null,null,null,null,"Vlastní - cizí",null,null,79," ",79," ",79," ",21," ",21]
[null,null,null,null,null,null,null,"Předměty",null,null,21," ",21," ",21,null,100,{"$f":"SUM(R7:R8)","v":0},100,{"$f":"SUM(T7:T8)","v":0}]
["Plemeno:",null,{"$f":"Soupiska!I27","v":0},null,null,null,null,"Celkem",null,null,100,{"$f":"SUM(L8:L9)","v":0},100,{"$f":"SUM(N8:N9)","v":0},100,{"$f":"SUM(P8:P9)","v":0},200,null,{"$f":"SUM(R9,T9)","v":0}]
["Pohlaví:",null,{"$f":"Soupiska!K27","v":0}]
["Narozen:",null,{"$f":"Soupiska!L27","v":"00:00:00"},null,null,null,null,null,null,null,null,null,null,null,null," "]
["Č.záp.:",null,{"$f":"Soupiska!N27","v":0},null,null,null,null,"B - POSLUŠNOST",null,null,null,"FCI - IBGH 1","FCI - IBGH 2","FCI - IBGH 3","FCI - GPr 1-3, Upr 1-3",null,null,"FCI - BH/VT","BODY"]
["T.č./čip:",null,{"$f":"Soupiska!P27","v":0},null,null,null,null,null,null,null,null,null,null,null,"FCI - IGP 1   ","FCI - IGP 2              ","FCI - IGP 3"]
["Data psovoda"]
["Jméno:",null,{"$f":"Soupiska!C28","v":0}]
["Příjmení:",null,{"$f":"Soupiska!E28","v":0},null,null,null,null,"Ovladatelnost na vodítku",null,null,null,30,20," X"," X"," X","  X",30]
["Bydliště:",null,{"$f":"Soupiska!I28","v":0},null,null,null,null,"Ovladatelnost bez vodítka",null,null,null,30,20,20,15,15,15,"X"]
[null,null,null,null,null,null,null,"Odložení v sedě",null,null,null,15,15,10,10,10,10,10]
["Narozen:",null,{"$f":"DATE(IF(MID(Soupiska!C29,1,2)*1 > YEAR(TODAY())-2000, 1900, 2000) + MID(Soupiska!C29,1,2), MOD(MID(Soupiska!C29,3,2),50), MID(Soupiska!C29,5,2))","v":{"$error":"#VALUE!"}},null,null,null,null,"Odložení vleže s přivoláním",null,null,null,15,15,10,10,10,10,10]
["Člen ZO:",null,{"$f":"Soupiska!I29","v":0},null,null,null,null,"Odložení ve stoje",null,null,null," X"," X",10," X",10,10," X"]
[null,null,null,null,null,null,null,"Aport volný",null,null,null," X",10,15,15,10,10," X"]
["Data akce",null,null,null,null,null,null,"Skok přes překážku - 2 směry",null,null,null," X"," X"," X",15," X"," X"," X"]
["Datum:",null,{"$f":"Soupiska!T6","v":"00:00:00"},null,null,null,null,"Aport skokem",null,null,null," X"," X"," X","X",15,15," X"]
["Místo:",null,{"$f":"Soupiska!P5","v":0},null,null,null,null,"Šplh jedním směrem",null,null,null," X"," X"," X",15,10," X"," X"]
["Ved.zk.:",null,{"$f":"Soupiska!D6","v":0},null,null,null,null,"Aport šplhem",null,null,null," X"," X",15," X","X",10," X"]
["Rozhodčí:",null,{"$f":"Soupiska!P6","v":0},null,null,null,null,"Vysílání vpřed s odložením",null,null,null," X",10,10,10,10,10," X"]
[" ",null,null,null,null,null,null,"Odložení",null,null,null,10,10,10,10,10,10,10]
["        FCI - StPr 1 - 3 ",null,null,null,null,null,null,"Celkem",null,null,null,100,100,100,100,100,100,60,{"$f":"SUM(S17:T28)","v":0}]
["Ovladatelnost",null,null,null,20,null,null,"FCI - BH/VT: Chování psa v doprav. ruchu/zkouška AD",null,null,null,null,null,null,null,"XX"]
["Intenzita vyhledání",null,null,null,20]
["Vytrvalost",null,null,null,10," ",null,null,null,null,null,null,null,null,null,null,null,null,null," "]
["Chování psovoda",null,null,null,10,null,null,"C - OBRANA",null,null,null,"FCI - IGP 1",null,null,"  FCI - IGP 2",null,null," FCI - IGP 3"]
["Nalezení předmětů",null,null,null,40," ",null,null,null,null,null,"FCI - GPr1, SPr1",null,null,"FCI - GPr2, SPr2",null,null,"FCI - GPr3, SPr3"]
["Celkem",null,null,null,100,{"$f":"SUM(F30:F34)","v":0},null,"Vyhledání figuranta",null,null,null,5,null,null,5,null,null,10]
[null,null,null,null,null,null,null,"Vystavení a vyštěkání",null,null,null,15,null,null,15,null,null,15]
["Výsledek zkoušky",null,null,null,null,null,null,"Pokus o útěk",null,null,null,20,null,null,15,null,null,10]
["A - stopa",null,null,{"$f":"F35+L10+N10+P10+S10","v":0},null,null,null,"Obrana psa při hlídání",null,null,null,30,null,null,20,null,null,15]
["B - poslušnost",null,null,{"$f":"S29","v":0},null,null,null,"Zadní doprovod",null,null,null," X"," X",null,5,null,null,5]
["C - obrana",null,null,{"$f":"M43+P43+S43","v":0},null,null,null,"Přepad psa při doprovodu",null,null,null," X"," X",null," X"," X",null,15]
["D - BH-VT/AD",null,null,{"$f":"IF(P30=\"XX\",\" \",P30)","v":" "},null,null,null,"Útok na psa z pohybu",null,null,null,30,null,null,20,null,null,15]
["CELKEM",null,{"$f":"VLOOKUP(D3,TYPY!A$1:D$65536,4,FALSE)","v":{"$error":"#N/A"}},{"$f":"SUM(D38:F40)","v":0},null,null,null,"Obrana psa při hlídání",null,null,null," X"," X",null,20,null,null,15]
["ZNÁMKA",null,null,{"$f":"IF(EXACT(D3,\"FCI-IGP-IFH\"),IF(SUM(R9,T9)<70,\"N\",VLOOKUP(D42,TYPY!$D$44:$E$105,2,FALSE)),IF(D42>0,IFERROR(IF(C42=300,VLOOKUP(D42,TYPY!$B$44:$C$135,2,FALSE),IF(C42=200,VLOOKUP(D42,TYPY!$D$44:$E$105,2,FALSE),IF(C42=100,VLOOKUP(D42,TYPY!$F$44:$G$75,2,FALSE),IF(AND(C42=60,D41=\"Obstál\"),VLOOKUP(D42,TYPY!$H$44:$I$63,2,FALSE),\"N\")))),\"N\"),\" \"))","v":" "},null,null,null,"Celkem",null,null,null,100,{"$f":"SUM(M35:N42)","v":0},null,100,{"$f":"SUM(P35:Q42)","v":0},null,100,{"$f":"SUM(S35:T42)","v":0}]
[]
[]
[]
[]
[" ",null,null,null,null,null,null,null,null," ",null,null,null," "]
["Razítko organizace",null,null,null,null,null,null,null,null,"Podpis vedoucího zkoušek",null,null,null,"Podpis a razítko rozhodčího"]

{"sheet":"MZR7","index":6,"n_rows":49,"n_cols":20,"rows_kept":49,"cut":false,"hidden":true,"merged":[[48,0,48,7],[48,9,48,11],[48,13,48,19],[42,0,42,2],[42,3,42,5],[42,7,42,10],[42,12,42,13],[42,15,42,16],[42,18,42,19],[41,0,41,1],[41,3,41,5],[41,7,41,10],[41,12,41,13],[41,15,41,16],[41,18,41,19],[40,0,40,2],[40,3,40,5],[40,7,40,10],[40,12,40,13],[40,15,40,16],[40,18,40,19],[39,0,39,2],[39,3,39,5],[39,7,39,10],[39,12,39,13],[39,15,39,16],[39,18,39,19],[38,0,38,2],[38,3,38,5],[38,7,38,10],[38,12,38,13],[38,15,38,16],[38,18,38,19],[34,0,34,3],[34,7,34,10],[34,12,34,13],[34,15,34,16],[34,18,34,19],[37,0,37,2],[37,3,37,5],[37,7,37,10],[37,12,37,13],[37,15,37,16],[37,18,37,19],[35,7,35,10],[35,12,35,13],[35,15,35,16],[35,18,35,19],[36,0,36,5],[36,7,36,10],[36,12,36,13],[36,15,36,16],[36,18,36,19],[30,0,30,3],[31,0,31,3],[32,0,32,3],[32,7,33,10],[32,11,32,13],[32,14,32,16],[28,0,28,5],[28,7,28,10],[28,18,28,19],[29,0,29,3],[29,7,29,14],[29,15,29,19],[32,17,32,19],[33,0,33,3],[33,11,33,13],[33,14,33,16],[33,17,33,19],[26,0,26,1],[26,2,26,5],[26,7,26,10],[26,18,26,19],[27,7,27,10],[27,18,27,19],[24,0,24,1],[24,2,24,5],[24,7,24,10],[24,18,24,19],[25,0,25,1],[25,2,25,5],[25,7,25,10],[25,18,25,19],[21,18,21,19],[22,0,22,5],[22,7,22,10],[22,18,22,19],[23,0,23,1],[23,2,23,5],[23,7,23,10],[23,18,23,19],[18,18,18,19],[19,0,19,1],[19,2,19,5],[19,7,19,10],[19,18,19,19],[20,0,21,1],[20,2,21,5],[20,7,20,10],[20,18,20,19],[21,7,21,10],[16,0,16,1],[16,2,16,5],[16,7,16,10],[16,18,16,19],[17,0,17,1],[17,2,18,5],[17,7,17,10],[17,18,17,19],[18,0,18,1],[18,7,18,10],[12,17,15,17],[12,18,15,19],[13,0,13,1],[13,2,13,5],[13,14,15,14],[13,15,15,15],[13,16,15,16],[14,0,14,5],[15,0,15,1],[15,2,15,5],[12,0,12,1],[12,2,12,5],[12,7,15,10],[12,11,15,11],[12,12,15,12],[12,13,15,13],[9,16,9,17],[9,18,9,19],[10,0,10,1],[10,2,10,5],[11,0,11,1],[11,2,11,5],[6,14,6,15],[7,0,8,1],[7,2,8,5],[7,7,7,9],[8,7,8,9],[9,0,9,1],[9,2,9,5],[9,7,9,9],[0,6,0,19],[1,7,1,19],[2,0,3,2],[2,3,3,5],[2,7,2,19],[4,0,4,5],[4,7,6,9],[4,10,4,11],[4,12,4,13],[4,14,4,15],[4,16,4,19],[5,0,6,1],[5,2,6,5],[5,10,5,11],[5,12,5,13],[5,14,5,15],[5,16,5,17],[5,18,5,19],[6,10,6,11],[6,12,6,13]]}
[null,null,null,null,null,null," MORAVSKOSLEZSKÝ KYNOLOGICKÝ SVAZ, z. s."]
[null,null,null,null,null,null," ","Člen FCI prostřednictvím Českomoravské kynologické unie"]
["Druh a stupeň",null,null,{"$f":"IF(Soupiska!W30=\"M\",Soupiska!B30,\"NE\")","v":"NE"},null,null," ","POTVRZENÍ O VYKONANÉ ZKOUŠCE MZŘ"]
[]
["Data psa-feny",null,null,null,null,null,null,"A - STOPA",null,null,"FCI - IGP 1",null,"FCI - IGP 2",null,"FCI - IGP 3",null,"FCI - IGP IFH"]
["Jméno:",null,{"$f":"Soupiska!C30","v":0},null,null,null,null,null,null,null,"FCI - FPr 1",null,"FCI - FPr 2",null,"FCI - FPr 3",null,"Stopa č. 1",null,"Stopa č. 2"]
[null,null,null,null,null,null,null,null,null,null,"FCI - IFH 1",null,"FCI - IFH 2",null,"FCI - IFH 3",null,79," ",79]
["Chovná stanice:",null,{"$f":"Soupiska!E30","v":0},null,null,null,null,"Vlastní - cizí",null,null,79," ",79," ",79," ",21," ",21]
[null,null,null,null,null,null,null,"Předměty",null,null,21," ",21," ",21,null,100,{"$f":"SUM(R7:R8)","v":0},100,{"$f":"SUM(T7:T8)","v":0}]
["Plemeno:",null,{"$f":"Soupiska!I30","v":0},null,null,null,null,"Celkem",null,null,100,{"$f":"SUM(L8:L9)","v":0},100,{"$f":"SUM(N8:N9)","v":0},100,{"$f":"SUM(P8:P9)","v":0},200,null,{"$f":"SUM(R9,T9)","v":0}]
["Pohlaví:",null,{"$f":"Soupiska!K30","v":0}]
["Narozen:",null,{"$f":"Soupiska!L30","v":"00:00:00"},null,null,null,null,null,null,null,null,null,null,null,null," "]
["Č.záp.:",null,{"$f":"Soupiska!N30","v":0},null,null,null,null,"B - POSLUŠNOST",null,null,null,"FCI - IBGH 1","FCI - IBGH 2","FCI - IBGH 3","FCI - GPr 1-3, Upr 1-3",null,null,"FCI - BH/VT","BODY"]
["T.č./čip:",null,{"$f":"Soupiska!P30","v":0},null,null,null,null,null,null,null,null,null,null,null,"FCI - IGP 1   ","FCI - IGP 2              ","FCI - IGP 3"]
["Data psovoda"]
["Jméno:",null,{"$f":"Soupiska!C31","v":0}]
["Příjmení:",null,{"$f":"Soupiska!E31","v":0},null,null,null,null,"Ovladatelnost na vodítku",null,null,null,30,20," X"," X"," X","  X",30]
["Bydliště:",null,{"$f":"Soupiska!I31","v":0},null,null,null,null,"Ovladatelnost bez vodítka",null,null,null,30,20,20,15,15,15,"X"]
[null,null,null,null,null,null,null,"Odložení v sedě",null,null,null,15,15,10,10,10,10,10]
["Narozen:",null,{"$f":"DATE(IF(MID(Soupiska!C32,1,2)*1 > YEAR(TODAY())-2000, 1900, 2000) + MID(Soupiska!C32,1,2), MOD(MID(Soupiska!C32,3,2),50), MID(Soupiska!C32,5,2))","v":{"$error":"#VALUE!"}},null,null,null,null,"Odložení vleže s přivoláním",null,null,null,15,15,10,10,10,10,10]
["Člen ZO:",null,{"$f":"Soupiska!I32","v":0},null,null,null,null,"Odložení ve stoje",null,null,null," X"," X",10," X",10,10," X"]
[null,null,null,null,null,null,null,"Aport volný",null,null,null," X",10,15,15,10,10," X"]
["Data akce",null,null,null,null,null,null,"Skok přes překážku - 2 směry",null,null,null," X"," X"," X",15," X"," X"," X"]
["Datum:",null,{"$f":"Soupiska!T6","v":"00:00:00"},null,null,null,null,"Aport skokem",null,null,null," X"," X"," X","X",15,15," X"]
["Místo:",null,{"$f":"Soupiska!P5","v":0},null,null,null,null,"Šplh jedním směrem",null,null,null," X"," X"," X",15,10," X"," X"]
["Ved.zk.:",null,{"$f":"Soupiska!D6","v":0},null,null,null,null,"Aport šplhem",null,null,null," X"," X",15," X","X",10," X"]
["Rozhodčí:",null,{"$f":"Soupiska!P6","v":0},null,null,null,null,"Vysílání vpřed s odložením",null,null,null," X",10,10,10,10,10," X"]
[" ",null,null,null,null,null,null,"Odložení",null,null,null,10,10,10,10,10,10,10]
["        FCI - StPr 1 - 3 ",null,null,null,null,null,null,"Celkem",null,null,null,100,100,100,100,100,100,60,{"$f":"SUM(S17:T28)","v":0}]
["Ovladatelnost",null,null,null,20,null,null,"FCI - BH/VT: Chování psa v doprav. ruchu/zkouška AD",null,null,null,null,null,null,null,"XX"]
["Intenzita vyhledání",null,null,null,20]
["Vytrvalost",null,null,null,10," ",null,null,null,null,null,null,null,null,null,null,null,null,null," "]
["Chování psovoda",null,null,null,10,null,null,"C - OBRANA",null,null,null,"FCI - IGP 1",null,null,"  FCI - IGP 2",null,null," FCI - IGP 3"]
["Nalezení předmětů",null,null,null,40," ",null,null,null,null,null,"FCI - GPr1, SPr1",null,null,"FCI - GPr2, SPr2",null,null,"FCI - GPr3, SPr3"]
["Celkem",null,null,null,100,{"$f":"SUM(F30:F34)","v":0},null,"Vyhledání figuranta",null,null,null,5,null,null,5,null,null,10]
[null,null,null,null,null,null,null,"Vystavení a vyštěkání",null,null,null,15,null,null,15,null,null,15]
["Výsledek zkoušky",null,null,null,null,null,null,"Pokus o útěk",null,null,null,20,null,null,15,null,null,10]
["A - stopa",null,null,{"$f":"F35+L10+N10+P10+S10","v":0},null,null,null,"Obrana psa při hlídání",null,null,null,30,null,null,20,null,null,15]
["B - poslušnost",null,null,{"$f":"S29","v":0},null,null,null,"Zadní doprovod",null,null,null," X"," X",null,5,null,null,5]
["C - obrana",null,null,{"$f":"M43+P43+S43","v":0},null,null,null,"Přepad psa při doprovodu",null,null,null," X"," X",null," X"," X",null,15]
["D - BH-VT/AD",null,null,{"$f":"IF(P30=\"XX\",\" \",P30)","v":" "},null,null,null,"Útok na psa z pohybu",null,null,null,30,null,null,20,null,null,15]
["CELKEM",null,{"$f":"VLOOKUP(D3,TYPY!A$1:D$65536,4,FALSE)","v":{"$error":"#N/A"}},{"$f":"SUM(D38:F40)","v":0},null,null,null,"Obrana psa při hlídání",null,null,null," X"," X",null,20,null,null,15]
["ZNÁMKA",null,null,{"$f":"IF(EXACT(D3,\"FCI-IGP-IFH\"),IF(SUM(R9,T9)<70,\"N\",VLOOKUP(D42,TYPY!$D$44:$E$105,2,FALSE)),IF(D42>0,IFERROR(IF(C42=300,VLOOKUP(D42,TYPY!$B$44:$C$135,2,FALSE),IF(C42=200,VLOOKUP(D42,TYPY!$D$44:$E$105,2,FALSE),IF(C42=100,VLOOKUP(D42,TYPY!$F$44:$G$75,2,FALSE),IF(AND(C42=60,D41=\"Obstál\"),VLOOKUP(D42,TYPY!$H$44:$I$63,2,FALSE),\"N\")))),\"N\"),\" \"))","v":" "},null,null,null,"Celkem",null,null,null,100,{"$f":"SUM(M35:N42)","v":0},null,100,{"$f":"SUM(P35:Q42)","v":0},null,100,{"$f":"SUM(S35:T42)","v":0}]
[]
[]
[]
[]
[" ",null,null,null,null,null,null,null,null," ",null,null,null," "]
["Razítko organizace",null,null,null,null,null,null,null,null,"Podpis vedoucího zkoušek",null,null,null,"Podpis a razítko rozhodčího"]

{"sheet":"MZR8","index":7,"n_rows":49,"n_cols":20,"rows_kept":49,"cut":false,"hidden":true,"merged":[[48,0,48,7],[48,9,48,11],[48,13,48,19],[42,0,42,2],[42,3,42,5],[42,7,42,10],[42,12,42,13],[42,15,42,16],[42,18,42,19],[41,0,41,1],[41,3,41,5],[41,7,41,10],[41,12,41,13],[41,15,41,16],[41,18,41,19],[40,0,40,2],[40,3,40,5],[40,7,40,10],[40,12,40,13],[40,15,40,16],[40,18,40,19],[39,0,39,2],[39,3,39,5],[39,7,39,10],[39,12,39,13],[39,15,39,16],[39,18,39,19],[38,0,38,2],[38,3,38,5],[38,7,38,10],[38,12,38,13],[38,15,38,16],[38,18,38,19],[34,0,34,3],[34,7,34,10],[34,12,34,13],[34,15,34,16],[34,18,34,19],[37,0,37,2],[37,3,37,5],[37,7,37,10],[37,12,37,13],[37,15,37,16],[37,18,37,19],[35,7,35,10],[35,12,35,13],[35,15,35,16],[35,18,35,19],[36,0,36,5],[36,7,36,10],[36,12,36,13],[36,15,36,16],[36,18,36,19],[30,0,30,3],[31,0,31,3],[32,0,32,3],[32,7,33,10],[32,11,32,13],[32,14,32,16],[28,0,28,5],[28,7,28,10],[28,18,28,19],[29,0,29,3],[29,7,29,14],[29,15,29,19],[32,17,32,19],[33,0,33,3],[33,11,33,13],[33,14,33,16],[33,17,33,19],[26,0,26,1],[26,2,26,5],[26,7,26,10],[26,18,26,19],[27,7,27,10],[27,18,27,19],[24,0,24,1],[24,2,24,5],[24,7,24,10],[24,18,24,19],[25,0,25,1],[25,2,25,5],[25,7,25,10],[25,18,25,19],[21,18,21,19],[22,0,22,5],[22,7,22,10],[22,18,22,19],[23,0,23,1],[23,2,23,5],[23,7,23,10],[23,18,23,19],[18,18,18,19],[19,0,19,1],[19,2,19,5],[19,7,19,10],[19,18,19,19],[20,0,21,1],[20,2,21,5],[20,7,20,10],[20,18,20,19],[21,7,21,10],[16,0,16,1],[16,2,16,5],[16,7,16,10],[16,18,16,19],[17,0,17,1],[17,2,18,5],[17,7,17,10],[17,18,17,19],[18,0,18,1],[18,7,18,10],[12,17,15,17],[12,18,15,19],[13,0,13,1],[13,2,13,5],[13,14,15,14],[13,15,15,15],[13,16,15,16],[14,0,14,5],[15,0,15,1],[15,2,15,5],[12,0,12,1],[12,2,12,5],[12,7,15,10],[12,11,15,11],[12,12,15,12],[12,13,15,13],[9,16,9,17],[9,18,9,19],[10,0,10,1],[10,2,10,5],[11,0,11,1],[11,2,11,5],[6,14,6,15],[7,0,8,1],[7,2,8,5],[7,7,7,9],[8,7,8,9],[9,0,9,1],[9,2,9,5],[9,7,9,9],[0,6,0,19],[1,7,1,19],[2,0,3,2],[2,3,3,5],[2,7,2,19],[4,0,4,5],[4,7,6,9],[4,10,4,11],[4,12,4,13],[4,14,4,15],[4,16,4,19],[5,0,6,1],[5,2,6,5],[5,10,5,11],[5,12,5,13],[5,14,5,15],[5,16,5,17],[5,18,5,19],[6,10,6,11],[6,12,6,13]]}
[null,null,null,null,null,null," MORAVSKOSLEZSKÝ KYNOLOGICKÝ SVAZ, z. s."]
[null,null,null,null,null,null," ","Člen FCI prostřednictvím Českomoravské kynologické unie"]
["Druh a stupeň",null,null,{"$f":"IF(Soupiska!W33=\"M\",Soupiska!B33,\"NE\")","v":"NE"},null,null," ","POTVRZENÍ O VYKONANÉ ZKOUŠCE MZŘ"]
[]
["Data psa-feny",null,null,null,null,null,null,"A - STOPA",null,null,"FCI - IGP 1",null,"FCI - IGP 2",null,"FCI - IGP 3",null,"FCI - IGP IFH"]
["Jméno:",null,{"$f":"Soupiska!C33","v":0},null,null,null,null,null,null,null,"FCI - FPr 1",null,"FCI - FPr 2",null,"FCI - FPr 3",null,"Stopa č. 1",null,"Stopa č. 2"]
[null,null,null,null,null,null,null,null,null,null,"FCI - IFH 1",null,"FCI - IFH 2",null,"FCI - IFH 3",null,79," ",79]
["Chovná stanice:",null,{"$f":"Soupiska!E33","v":0},null,null,null,null,"Vlastní - cizí",null,null,79," ",79," ",79," ",21," ",21]
[null,null,null,null,null,null,null,"Předměty",null,null,21," ",21," ",21,null,100,{"$f":"SUM(R7:R8)","v":0},100,{"$f":"SUM(T7:T8)","v":0}]
["Plemeno:",null,{"$f":"Soupiska!I33","v":0},null,null,null,null,"Celkem",null,null,100,{"$f":"SUM(L8:L9)","v":0},100,{"$f":"SUM(N8:N9)","v":0},100,{"$f":"SUM(P8:P9)","v":0},200,null,{"$f":"SUM(R9,T9)","v":0}]
["Pohlaví:",null,{"$f":"Soupiska!K33","v":0}]
["Narozen:",null,{"$f":"Soupiska!L33","v":"00:00:00"},null,null,null,null,null,null,null,null,null,null,null,null," "]
["Č.záp.:",null,{"$f":"Soupiska!N33","v":0},null,null,null,null,"B - POSLUŠNOST",null,null,null,"FCI - IBGH 1","FCI - IBGH 2","FCI - IBGH 3","FCI - GPr 1-3, Upr 1-3",null,null,"FCI - BH/VT","BODY"]
["T.č./čip:",null,{"$f":"Soupiska!P33","v":0},null,null,null,null,null,null,null,null,null,null,null,"FCI - IGP 1   ","FCI - IGP 2              ","FCI - IGP 3"]
["Data psovoda"]
["Jméno:",null,{"$f":"Soupiska!C34","v":0}]
["Příjmení:",null,{"$f":"Soupiska!E34","v":0},null,null,null,null,"Ovladatelnost na vodítku",null,null,null,30,20," X"," X"," X","  X",30]
["Bydliště:",null,{"$f":"Soupiska!I34","v":0},null,null,null,null,"Ovladatelnost bez vodítka",null,null,null,30,20,20,15,15,15,"X"]
[null,null,null,null,null,null,null,"Odložení v sedě",null,null,null,15,15,10,10,10,10,10]
["Narozen:",null,{"$f":"DATE(IF(MID(Soupiska!C35,1,2)*1 > YEAR(TODAY())-2000, 1900, 2000) + MID(Soupiska!C35,1,2), MOD(MID(Soupiska!C35,3,2),50), MID(Soupiska!C35,5,2))","v":{"$error":"#VALUE!"}},null,null,null,null,"Odložení vleže s přivoláním",null,null,null,15,15,10,10,10,10,10]
["Člen ZO:",null,{"$f":"Soupiska!I35","v":0},null,null,null,null,"Odložení ve stoje",null,null,null," X"," X",10," X",10,10," X"]
[null,null,null,null,null,null,null,"Aport volný",null,null,null," X",10,15,15,10,10," X"]
["Data akce",null,null,null,null,null,null,"Skok přes překážku - 2 směry",null,null,null," X"," X"," X",15," X"," X"," X"]
["Datum:",null,{"$f":"Soupiska!T6","v":"00:00:00"},null,null,null,null,"Aport skokem",null,null,null," X"," X"," X","X",15,15," X"]
["Místo:",null,{"$f":"Soupiska!P5","v":0},null,null,null,null,"Šplh jedním směrem",null,null,null," X"," X"," X",15,10," X"," X"]
["Ved.zk.:",null,{"$f":"Soupiska!D6","v":0},null,null,null,null,"Aport šplhem",null,null,null," X"," X",15," X","X",10," X"]
["Rozhodčí:",null,{"$f":"Soupiska!P6","v":0},null,null,null,null,"Vysílání vpřed s odložením",null,null,null," X",10,10,10,10,10," X"]
[" ",null,null,null,null,null,null,"Odložení",null,null,null,10,10,10,10,10,10,10]
["        FCI - StPr 1 - 3 ",null,null,null,null,null,null,"Celkem",null,null,null,100,100,100,100,100,100,60,{"$f":"SUM(S17:T28)","v":0}]
["Ovladatelnost",null,null,null,20,null,null,"FCI - BH/VT: Chování psa v doprav. ruchu/zkouška AD",null,null,null,null,null,null,null,"XX"]
["Intenzita vyhledání",null,null,null,20]
["Vytrvalost",null,null,null,10," ",null,null,null,null,null,null,null,null,null,null,null,null,null," "]
["Chování psovoda",null,null,null,10,null,null,"C - OBRANA",null,null,null,"FCI - IGP 1",null,null,"  FCI - IGP 2",null,null," FCI - IGP 3"]
["Nalezení předmětů",null,null,null,40," ",null,null,null,null,null,"FCI - GPr1, SPr1",null,null,"FCI - GPr2, SPr2",null,null,"FCI - GPr3, SPr3"]
["Celkem",null,null,null,100,{"$f":"SUM(F30:F34)","v":0},null,"Vyhledání figuranta",null,null,null,5,null,null,5,null,null,10]
[null,null,null,null,null,null,null,"Vystavení a vyštěkání",null,null,null,15,null,null,15,null,null,15]
["Výsledek zkoušky",null,null,null,null,null,null,"Pokus o útěk",null,null,null,20,null,null,15,null,null,10]
["A - stopa",null,null,{"$f":"F35+L10+N10+P10+S10","v":0},null,null,null,"Obrana psa při hlídání",null,null,null,30,null,null,20,null,null,15]
["B - poslušnost",null,null,{"$f":"S29","v":0},null,null,null,"Zadní doprovod",null,null,null," X"," X",null,5,null,null,5]
["C - obrana",null,null,{"$f":"M43+P43+S43","v":0},null,null,null,"Přepad psa při doprovodu",null,null,null," X"," X",null," X"," X",null,15]
["D - BH-VT/AD",null,null,{"$f":"IF(P30=\"XX\",\" \",P30)","v":" "},null,null,null,"Útok na psa z pohybu",null,null,null,30,null,null,20,null,null,15]
["CELKEM",null,{"$f":"VLOOKUP(D3,TYPY!A$1:D$65536,4,FALSE)","v":{"$error":"#N/A"}},{"$f":"SUM(D38:F40)","v":0},null,null,null,"Obrana psa při hlídání",null,null,null," X"," X",null,20,null,null,15]
["ZNÁMKA",null,null,{"$f":"IF(EXACT(D3,\"FCI-IGP-IFH\"),IF(SUM(R9,T9)<70,\"N\",VLOOKUP(D42,TYPY!$D$44:$E$105,2,FALSE)),IF(D42>0,IFERROR(IF(C42=300,VLOOKUP(D42,TYPY!$B$44:$C$135,2,FALSE),IF(C42=200,VLOOKUP(D42,TYPY!$D$44:$E$105,2,FALSE),IF(C42=100,VLOOKUP(D42,TYPY!$F$44:$G$75,2,FALSE),IF(AND(C42=60,D41=\"Obstál\"),VLOOKUP(D42,TYPY!$H$44:$I$63,2,FALSE),\"N\")))),\"N\"),\" \"))","v":" "},null,null,null,"Celkem",null,null,null,100,{"$f":"SUM(M35:N42)","v":0},null,100,{"$f":"SUM(P35:Q42)","v":0},null,100,{"$f":"SUM(S35:T42)","v":0}]
[]
[]
[]
[]
[" ",null,null,null,null,null,null,null,null," ",null,null,null," "]
["Razítko organizace",null,null,null,null,null,null,null,null,"Podpis vedoucího zkoušek",null,null,null,"Podpis a razítko rozhodčího"]

{"sheet":"MZR9","index":8,"n_rows":49,"n_cols":20,"rows_kept":49,"cut":false,"hidden":true,"merged":[[48,0,48,7],[48,9,48,11],[48,13,48,19],[42,0,42,2],[42,3,42,5],[42,7,42,10],[42,12,42,13],[42,15,42,16],[42,18,42,19],[41,0,41,1],[41,3,41,5],[41,7,41,10],[41,12,41,13],[41,15,41,16],[41,18,41,19],[40,0,40,2],[40,3,40,5],[40,7,40,10],[40,12,40,13],[40,15,40,16],[40,18,40,19],[39,0,39,2],[39,3,39,5],[39,7,39,10],[39,12,39,13],[39,15,39,16],[39,18,39,19],[38,0,38,2],[38,3,38,5],[38,7,38,10],[38,12,38,13],[38,15,38,16],[38,18,38,19],[34,0,34,3],[34,7,34,10],[34,12,34,13],[34,15,34,16],[34,18,34,19],[37,0,37,2],[37,3,37,5],[37,7,37,10],[37,12,37,13],[37,15,37,16],[37,18,37,19],[35,7,35,10],[35,12,35,13],[35,15,35,16],[35,18,35,19],[36,0,36,5],[36,7,36,10],[36,12,36,13],[36,15,36,16],[36,18,36,19],[30,0,30,3],[31,0,31,3],[32,0,32,3],[32,7,33,10],[32,11,32,13],[32,14,32,16],[28,0,28,5],[28,7,28,10],[28,18,28,19],[29,0,29,3],[29,7,29,14],[29,15,29,19],[32,17,32,19],[33,0,33,3],[33,11,33,13],[33,14,33,16],[33,17,33,19],[26,0,26,1],[26,2,26,5],[26,7,26,10],[26,18,26,19],[27,7,27,10],[27,18,27,19],[24,0,24,1],[24,2,24,5],[24,7,24,10],[24,18,24,19],[25,0,25,1],[25,2,25,5],[25,7,25,10],[25,18,25,19],[21,18,21,19],[22,0,22,5],[22,7,22,10],[22,18,22,19],[23,0,23,1],[23,2,23,5],[23,7,23,10],[23,18,23,19],[18,18,18,19],[19,0,19,1],[19,2,19,5],[19,7,19,10],[19,18,19,19],[20,0,21,1],[20,2,21,5],[20,7,20,10],[20,18,20,19],[21,7,21,10],[16,0,16,1],[16,2,16,5],[16,7,16,10],[16,18,16,19],[17,0,17,1],[17,2,18,5],[17,7,17,10],[17,18,17,19],[18,0,18,1],[18,7,18,10],[12,17,15,17],[12,18,15,19],[13,0,13,1],[13,2,13,5],[13,14,15,14],[13,15,15,15],[13,16,15,16],[14,0,14,5],[15,0,15,1],[15,2,15,5],[12,0,12,1],[12,2,12,5],[12,7,15,10],[12,11,15,11],[12,12,15,12],[12,13,15,13],[9,16,9,17],[9,18,9,19],[10,0,10,1],[10,2,10,5],[11,0,11,1],[11,2,11,5],[6,14,6,15],[7,0,8,1],[7,2,8,5],[7,7,7,9],[8,7,8,9],[9,0,9,1],[9,2,9,5],[9,7,9,9],[0,6,0,19],[1,7,1,19],[2,0,3,2],[2,3,3,5],[2,7,2,19],[4,0,4,5],[4,7,6,9],[4,10,4,11],[4,12,4,13],[4,14,4,15],[4,16,4,19],[5,0,6,1],[5,2,6,5],[5,10,5,11],[5,12,5,13],[5,14,5,15],[5,16,5,17],[5,18,5,19],[6,10,6,11],[6,12,6,13]]}
[null,null,null,null,null,null," MORAVSKOSLEZSKÝ KYNOLOGICKÝ SVAZ, z. s."]
[null,null,null,null,null,null," ","Člen FCI prostřednictvím Českomoravské kynologické unie"]
["Druh a stupeň",null,null,{"$f":"IF(Soupiska!W36=\"M\",Soupiska!B36,\"NE\")","v":"NE"},null,null," ","POTVRZENÍ O VYKONANÉ ZKOUŠCE MZŘ"]
[]
["Data psa-feny",null,null,null,null,null,null,"A - STOPA",null,null,"FCI - IGP 1",null,"FCI - IGP 2",null,"FCI - IGP 3",null,"FCI - IGP IFH"]
["Jméno:",null,{"$f":"Soupiska!C36","v":0},null,null,null,null,null,null,null,"FCI - FPr 1",null,"FCI - FPr 2",null,"FCI - FPr 3",null,"Stopa č. 1",null,"Stopa č. 2"]
[null,null,null,null,null,null,null,null,null,null,"FCI - IFH 1",null,"FCI - IFH 2",null,"FCI - IFH 3",null,79," ",79]
["Chovná stanice:",null,{"$f":"Soupiska!E36","v":0},null,null,null,null,"Vlastní - cizí",null,null,79," ",79," ",79," ",21," ",21]
[null,null,null,null,null,null,null,"Předměty",null,null,21," ",21," ",21,null,100,{"$f":"SUM(R7:R8)","v":0},100,{"$f":"SUM(T7:T8)","v":0}]
["Plemeno:",null,{"$f":"Soupiska!I36","v":0},null,null,null,null,"Celkem",null,null,100,{"$f":"SUM(L8:L9)","v":0},100,{"$f":"SUM(N8:N9)","v":0},100,{"$f":"SUM(P8:P9)","v":0},200,null,{"$f":"SUM(R9,T9)","v":0}]
["Pohlaví:",null,{"$f":"Soupiska!K36","v":0}]
["Narozen:",null,{"$f":"Soupiska!L36","v":"00:00:00"},null,null,null,null,null,null,null,null,null,null,null,null," "]
["Č.záp.:",null,{"$f":"Soupiska!N36","v":0},null,null,null,null,"B - POSLUŠNOST",null,null,null,"FCI - IBGH 1","FCI - IBGH 2","FCI - IBGH 3","FCI - GPr 1-3, Upr 1-3",null,null,"FCI - BH/VT","BODY"]
["T.č./čip:",null,{"$f":"Soupiska!P36","v":0},null,null,null,null,null,null,null,null,null,null,null,"FCI - IGP 1   ","FCI - IGP 2              ","FCI - IGP 3"]
["Data psovoda"]
["Jméno:",null,{"$f":"Soupiska!C37","v":0}]
["Příjmení:",null,{"$f":"Soupiska!E37","v":0},null,null,null,null,"Ovladatelnost na vodítku",null,null,null,30,20," X"," X"," X","  X",30]
["Bydliště:",null,{"$f":"Soupiska!I37","v":0},null,null,null,null,"Ovladatelnost bez vodítka",null,null,null,30,20,20,15,15,15,"X"]
[null,null,null,null,null,null,null,"Odložení v sedě",null,null,null,15,15,10,10,10,10,10]
["Narozen:",null,{"$f":"DATE(IF(MID(Soupiska!C38,1,2)*1 > YEAR(TODAY())-2000, 1900, 2000) + MID(Soupiska!C38,1,2), MOD(MID(Soupiska!C38,3,2),50), MID(Soupiska!C38,5,2))","v":{"$error":"#VALUE!"}},null,null,null,null,"Odložení vleže s přivoláním",null,null,null,15,15,10,10,10,10,10]
["Člen ZO:",null,{"$f":"Soupiska!I38","v":0},null,null,null,null,"Odložení ve stoje",null,null,null," X"," X",10," X",10,10," X"]
[null,null,null,null,null,null,null,"Aport volný",null,null,null," X",10,15,15,10,10," X"]
["Data akce",null,null,null,null,null,null,"Skok přes překážku - 2 směry",null,null,null," X"," X"," X",15," X"," X"," X"]
["Datum:",null,{"$f":"Soupiska!T6","v":"00:00:00"},null,null,null,null,"Aport skokem",null,null,null," X"," X"," X","X",15,15," X"]
["Místo:",null,{"$f":"Soupiska!P5","v":0},null,null,null,null,"Šplh jedním směrem",null,null,null," X"," X"," X",15,10," X"," X"]
["Ved.zk.:",null,{"$f":"Soupiska!D6","v":0},null,null,null,null,"Aport šplhem",null,null,null," X"," X",15," X","X",10," X"]
["Rozhodčí:",null,{"$f":"Soupiska!P6","v":0},null,null,null,null,"Vysílání vpřed s odložením",null,null,null," X",10,10,10,10,10," X"]
[" ",null,null,null,null,null,null,"Odložení",null,null,null,10,10,10,10,10,10,10]
["        FCI - StPr 1 - 3 ",null,null,null,null,null,null,"Celkem",null,null,null,100,100,100,100,100,100,60,{"$f":"SUM(S17:T28)","v":0}]
["Ovladatelnost",null,null,null,20,null,null,"FCI - BH/VT: Chování psa v doprav. ruchu/zkouška AD",null,null,null,null,null,null,null,"XX"]
["Intenzita vyhledání",null,null,null,20]
["Vytrvalost",null,null,null,10," ",null,null,null,null,null,null,null,null,null,null,null,null,null," "]
["Chování psovoda",null,null,null,10,null,null,"C - OBRANA",null,null,null,"FCI - IGP 1",null,null,"  FCI - IGP 2",null,null," FCI - IGP 3"]
["Nalezení předmětů",null,null,null,40," ",null,null,null,null,null,"FCI - GPr1, SPr1",null,null,"FCI - GPr2, SPr2",null,null,"FCI - GPr3, SPr3"]
["Celkem",null,null,null,100,{"$f":"SUM(F30:F34)","v":0},null,"Vyhledání figuranta",null,null,null,5,null,null,5,null,null,10]
[null,null,null,null,null,null,null,"Vystavení a vyštěkání",null,null,null,15,null,null,15,null,null,15]
["Výsledek zkoušky",null,null,null,null,null,null,"Pokus o útěk",null,null,null,20,null,null,15,null,null,10]
["A - stopa",null,null,{"$f":"F35+L10+N10+P10+S10","v":0},null,null,null,"Obrana psa při hlídání",null,null,null,30,null,null,20,null,null,15]
["B - poslušnost",null,null,{"$f":"S29","v":0},null,null,null,"Zadní doprovod",null,null,null," X"," X",null,5,null,null,5]
["C - obrana",null,null,{"$f":"M43+P43+S43","v":0},null,null,null,"Přepad psa při doprovodu",null,null,null," X"," X",null," X"," X",null,15]
["D - BH-VT/AD",null,null,{"$f":"IF(P30=\"XX\",\" \",P30)","v":" "},null,null,null,"Útok na psa z pohybu",null,null,null,30,null,null,20,null,null,15]
["CELKEM",null,{"$f":"VLOOKUP(D3,TYPY!A$1:D$65536,4,FALSE)","v":{"$error":"#N/A"}},{"$f":"SUM(D38:F40)","v":0},null,null,null,"Obrana psa při hlídání",null,null,null," X"," X",null,20,null,null,15]
["ZNÁMKA",null,null,{"$f":"IF(EXACT(D3,\"FCI-IGP-IFH\"),IF(SUM(R9,T9)<70,\"N\",VLOOKUP(D42,TYPY!$D$44:$E$105,2,FALSE)),IF(D42>0,IFERROR(IF(C42=300,VLOOKUP(D42,TYPY!$B$44:$C$135,2,FALSE),IF(C42=200,VLOOKUP(D42,TYPY!$D$44:$E$105,2,FALSE),IF(C42=100,VLOOKUP(D42,TYPY!$F$44:$G$75,2,FALSE),IF(AND(C42=60,D41=\"Obstál\"),VLOOKUP(D42,TYPY!$H$44:$I$63,2,FALSE),\"N\")))),\"N\"),\" \"))","v":" "},null,null,null,"Celkem",null,null,null,100,{"$f":"SUM(M35:N42)","v":0},null,100,{"$f":"SUM(P35:Q42)","v":0},null,100,{"$f":"SUM(S35:T42)","v":0}]
[]
[]
[]
[]
[" ",null,null,null,null,null,null,null,null," ",null,null,null," "]
["Razítko organizace",null,null,null,null,null,null,null,null,"Podpis vedoucího zkoušek",null,null,null,"Podpis a razítko rozhodčího"]

{"sheet":"MZR10","index":9,"n_rows":49,"n_cols":20,"rows_kept":49,"cut":false,"hidden":true,"merged":[[48,0,48,7],[48,9,48,11],[48,13,48,19],[42,0,42,2],[42,3,42,5],[42,7,42,10],[42,12,42,13],[42,15,42,16],[42,18,42,19],[41,0,41,1],[41,3,41,5],[41,7,41,10],[41,12,41,13],[41,15,41,16],[41,18,41,19],[40,0,40,2],[40,3,40,5],[40,7,40,10],[40,12,40,13],[40,15,40,16],[40,18,40,19],[39,0,39,2],[39,3,39,5],[39,7,39,10],[39,12,39,13],[39,15,39,16],[39,18,39,19],[38,0,38,2],[38,3,38,5],[38,7,38,10],[38,12,38,13],[38,15,38,16],[38,18,38,19],[34,0,34,3],[34,7,34,10],[34,12,34,13],[34,15,34,16],[34,18,34,19],[37,0,37,2],[37,3,37,5],[37,7,37,10],[37,12,37,13],[37,15,37,16],[37,18,37,19],[35,7,35,10],[35,12,35,13],[35,15,35,16],[35,18,35,19],[36,0,36,5],[36,7,36,10],[36,12,36,13],[36,15,36,16],[36,18,36,19],[30,0,30,3],[31,0,31,3],[32,0,32,3],[32,7,33,10],[32,11,32,13],[32,14,32,16],[28,0,28,5],[28,7,28,10],[28,18,28,19],[29,0,29,3],[29,7,29,14],[29,15,29,19],[32,17,32,19],[33,0,33,3],[33,11,33,13],[33,14,33,16],[33,17,33,19],[26,0,26,1],[26,2,26,5],[26,7,26,10],[26,18,26,19],[27,7,27,10],[27,18,27,19],[24,0,24,1],[24,2,24,5],[24,7,24,10],[24,18,24,19],[25,0,25,1],[25,2,25,5],[25,7,25,10],[25,18,25,19],[21,18,21,19],[22,0,22,5],[22,7,22,10],[22,18,22,19],[23,0,23,1],[23,2,23,5],[23,7,23,10],[23,18,23,19],[18,18,18,19],[19,0,19,1],[19,2,19,5],[19,7,19,10],[19,18,19,19],[20,0,21,1],[20,2,21,5],[20,7,20,10],[20,18,20,19],[21,7,21,10],[16,0,16,1],[16,2,16,5],[16,7,16,10],[16,18,16,19],[17,0,17,1],[17,2,18,5],[17,7,17,10],[17,18,17,19],[18,0,18,1],[18,7,18,10],[12,17,15,17],[12,18,15,19],[13,0,13,1],[13,2,13,5],[13,14,15,14],[13,15,15,15],[13,16,15,16],[14,0,14,5],[15,0,15,1],[15,2,15,5],[12,0,12,1],[12,2,12,5],[12,7,15,10],[12,11,15,11],[12,12,15,12],[12,13,15,13],[9,16,9,17],[9,18,9,19],[10,0,10,1],[10,2,10,5],[11,0,11,1],[11,2,11,5],[6,14,6,15],[7,0,8,1],[7,2,8,5],[7,7,7,9],[8,7,8,9],[9,0,9,1],[9,2,9,5],[9,7,9,9],[0,6,0,19],[1,7,1,19],[2,0,3,2],[2,3,3,5],[2,7,2,19],[4,0,4,5],[4,7,6,9],[4,10,4,11],[4,12,4,13],[4,14,4,15],[4,16,4,19],[5,0,6,1],[5,2,6,5],[5,10,5,11],[5,12,5,13],[5,14,5,15],[5,16,5,17],[5,18,5,19],[6,10,6,11],[6,12,6,13]]}
[null,null,null,null,null,null," MORAVSKOSLEZSKÝ KYNOLOGICKÝ SVAZ, z. s."]
[null,null,null,null,null,null," ","Člen FCI prostřednictvím Českomoravské kynologické unie"]
["Druh a stupeň",null,null,{"$f":"IF(Soupiska!W39=\"M\",Soupiska!B39,\"NE\")","v":"NE"},null,null," ","POTVRZENÍ O VYKONANÉ ZKOUŠCE MZŘ"]
[]
["Data psa-feny",null,null,null,null,null,null,"A - STOPA",null,null,"FCI - IGP 1",null,"FCI - IGP 2",null,"FCI - IGP 3",null,"FCI - IGP IFH"]
["Jméno:",null,{"$f":"Soupiska!C39","v":0},null,null,null,null,null,null,null,"FCI - FPr 1",null,"FCI - FPr 2",null,"FCI - FPr 3",null,"Stopa č. 1",null,"Stopa č. 2"]
[null,null,null,null,null,null,null,null,null,null,"FCI - IFH 1",null,"FCI - IFH 2",null,"FCI - IFH 3",null,79," ",79]
["Chovná stanice:",null,{"$f":"Soupiska!E39","v":0},null,null,null,null,"Vlastní - cizí",null,null,79," ",79," ",79," ",21,null,21]
[null,null,null,null,null,null,null,"Předměty",null,null,21," ",21," ",21,null,100,{"$f":"SUM(R7:R8)","v":0},100,{"$f":"SUM(T7:T8)","v":0}]
["Plemeno:",null,{"$f":"Soupiska!I39","v":0},null,null,null,null,"Celkem",null,null,100,{"$f":"SUM(L8:L9)","v":0},100,{"$f":"SUM(N8:N9)","v":0},100,{"$f":"SUM(P8:P9)","v":0},200,null,{"$f":"SUM(R9,T9)","v":0}]
["Pohlaví:",null,{"$f":"Soupiska!K39","v":0}]
["Narozen:",null,{"$f":"Soupiska!L39","v":"00:00:00"},null,null,null,null,null,null,null,null,null,null,null,null," "]
["Č.záp.:",null,{"$f":"Soupiska!N39","v":0},null,null,null,null,"B - POSLUŠNOST",null,null,null,"FCI - IBGH 1","FCI - IBGH 2","FCI - IBGH 3","FCI - GPr 1-3, Upr 1-3",null,null,"FCI - BH/VT","BODY"]
["T.č./čip:",null,{"$f":"Soupiska!P39","v":0},null,null,null,null,null,null,null,null,null,null,null,"FCI - IGP 1   ","FCI - IGP 2              ","FCI - IGP 3"]
["Data psovoda"]
["Jméno:",null,{"$f":"Soupiska!C40","v":0}]
["Příjmení:",null,{"$f":"Soupiska!E40","v":0},null,null,null,null,"Ovladatelnost na vodítku",null,null,null,30,20," X"," X"," X","  X",30]
["Bydliště:",null,{"$f":"Soupiska!I40","v":0},null,null,null,null,"Ovladatelnost bez vodítka",null,null,null,30,20,20,15,15,15,"X"]
[null,null,null,null,null,null,null,"Odložení v sedě",null,null,null,15,15,10,10,10,10,10]
["Narozen:",null,{"$f":"DATE(IF(LEN(Soupiska!C41)=6,IF(MID(Soupiska!C41,1,2)*1>54,1900,2000),1900)+MID(Soupiska!C41,1,2),MOD(MID(Soupiska!C41,3,2),50),MID(Soupiska!C41,5,2))","v":{"$error":"#VALUE!"}},null,null,null,null,"Odložení vleže s přivoláním",null,null,null,15,15,10,10,10,10,10]
["Člen ZO:",null,{"$f":"Soupiska!I41","v":0},null,null,null,null,"Odložení ve stoje",null,null,null," X"," X",10," X",10,10," X"]
[null,null,null,null,null,null,null,"Aport volný",null,null,null," X",10,15,15,10,10," X"]
["Data akce",null,null,null,null,null,null,"Skok přes překážku - 2 směry",null,null,null," X"," X"," X",15," X"," X"," X"]
["Datum:",null,{"$f":"Soupiska!T6","v":"00:00:00"},null,null,null,null,"Aport skokem",null,null,null," X"," X"," X","X",15,15," X"]
["Místo:",null,{"$f":"Soupiska!P5","v":0},null,null,null,null,"Šplh jedním směrem",null,null,null," X"," X"," X",15,10," X"," X"]
["Ved.zk.:",null,{"$f":"Soupiska!D6","v":0},null,null,null,null,"Aport šplhem",null,null,null," X"," X",15," X","X",10," X"]
["Rozhodčí:",null,{"$f":"Soupiska!P6","v":0},null,null,null,null,"Vysílání vpřed s odložením",null,null,null," X",10,10,10,10,10," X"]
[" ",null,null,null,null,null,null,"Odložení",null,null,null,10,10,10,10,10,10,10]
["        FCI - StPr 1 - 3 ",null,null,null,null,null,null,"Celkem",null,null,null,100,100,100,100,100,100,60,{"$f":"SUM(S17:T28)","v":0}]
["Ovladatelnost",null,null,null,20,null,null,"FCI - BH/VT: Chování psa v doprav. ruchu/zkouška AD",null,null,null,null,null,null,null,"XX"]
["Intenzita vyhledání",null,null,null,20]
["Vytrvalost",null,null,null,10," ",null,null,null,null,null,null,null,null,null,null,null,null,null," "]
["Chování psovoda",null,null,null,10,null,null,"C - OBRANA",null,null,null,"FCI - IGP 1",null,null,"  FCI - IGP 2",null,null," FCI - IGP 3"]
["Nalezení předmětů",null,null,null,40," ",null,null,null,null,null,"FCI - GPr1, SPr1",null,null,"FCI - GPr2, SPr2",null,null,"FCI - GPr3, SPr3"]
["Celkem",null,null,null,100,{"$f":"SUM(F30:F34)","v":0},null,"Vyhledání figuranta",null,null,null,5,null,null,5,null,null,10]
[null,null,null,null,null,null,null,"Vystavení a vyštěkání",null,null,null,15,null,null,15,null,null,15]
["Výsledek zkoušky",null,null,null,null,null,null,"Pokus o útěk",null,null,null,20,null,null,15,null,null,10]
["A - stopa",null,null,{"$f":"F35+L10+N10+P10+S10","v":0},null,null,null,"Obrana psa při hlídání",null,null,null,30,null,null,20,null,null,15]
["B - poslušnost",null,null,{"$f":"S29","v":0},null,null,null,"Zadní doprovod",null,null,null," X"," X",null,5,null,null,5]
["C - obrana",null,null,{"$f":"M43+P43+S43","v":0},null,null,null,"Přepad psa při doprovodu",null,null,null," X"," X",null," X"," X",null,15]
["D - BH-VT/AD",null,null,{"$f":"IF(P30=\"XX\",\" \",P30)","v":" "},null,null,null,"Útok na psa z pohybu",null,null,null,30,null,null,20,null,null,15]
["CELKEM",null,{"$f":"VLOOKUP(D3,TYPY!A$1:D$65536,4,FALSE)","v":{"$error":"#N/A"}},{"$f":"SUM(D38:F40)","v":0},null,null,null,"Obrana psa při hlídání",null,null,null," X"," X",null,20,null,null,15]
["ZNÁMKA",null,null,{"$f":"IF(EXACT(D3,\"FCI-IGP-IFH\"),IF(SUM(R9,T9)<70,\"N\",VLOOKUP(D42,TYPY!$D$44:$E$105,2,FALSE)),IF(D42>0,IFERROR(IF(C42=300,VLOOKUP(D42,TYPY!$B$44:$C$135,2,FALSE),IF(C42=200,VLOOKUP(D42,TYPY!$D$44:$E$105,2,FALSE),IF(C42=100,VLOOKUP(D42,TYPY!$F$44:$G$75,2,FALSE),IF(AND(C42=60,D41=\"Obstál\"),VLOOKUP(D42,TYPY!$H$44:$I$63,2,FALSE),\"N\")))),\"N\"),\" \"))","v":" "},null,null,null,"Celkem",null,null,null,100,{"$f":"SUM(M35:N42)","v":0},null,100,{"$f":"SUM(P35:Q42)","v":0},null,100,{"$f":"SUM(S35:T42)","v":0}]
[]
[]
[]
[]
[" ",null,null,null,null,null,null,null,null," ",null,null,null," "]
["Razítko organizace",null,null,null,null,null,null,null,null,"Podpis vedoucího zkoušek",null,null,null,"Podpis a razítko rozhodčího"]

{"sheet":"MZR11","index":10,"n_rows":49,"n_cols":20,"rows_kept":49,"cut":false,"hidden":true,"merged":[[48,0,48,7],[48,9,48,11],[48,13,48,19],[42,0,42,2],[42,3,42,5],[42,7,42,10],[42,12,42,13],[42,15,42,16],[42,18,42,19],[41,0,41,1],[41,3,41,5],[41,7,41,10],[41,12,41,13],[41,15,41,16],[41,18,41,19],[40,0,40,2],[40,3,40,5],[40,7,40,10],[40,12,40,13],[40,15,40,16],[40,18,40,19],[39,0,39,2],[39,3,39,5],[39,7,39,10],[39,12,39,13],[39,15,39,16],[39,18,39,19],[38,0,38,2],[38,3,38,5],[38,7,38,10],[38,12,38,13],[38,15,38,16],[38,18,38,19],[34,0,34,3],[34,7,34,10],[34,12,34,13],[34,15,34,16],[34,18,34,19],[37,0,37,2],[37,3,37,5],[37,7,37,10],[37,12,37,13],[37,15,37,16],[37,18,37,19],[35,7,35,10],[35,12,35,13],[35,15,35,16],[35,18,35,19],[36,0,36,5],[36,7,36,10],[36,12,36,13],[36,15,36,16],[36,18,36,19],[30,0,30,3],[31,0,31,3],[32,0,32,3],[32,7,33,10],[32,11,32,13],[32,14,32,16],[28,0,28,5],[28,7,28,10],[28,18,28,19],[29,0,29,3],[29,7,29,14],[29,15,29,19],[32,17,32,19],[33,0,33,3],[33,11,33,13],[33,14,33,16],[33,17,33,19],[26,0,26,1],[26,2,26,5],[26,7,26,10],[26,18,26,19],[27,7,27,10],[27,18,27,19],[24,0,24,1],[24,2,24,5],[24,7,24,10],[24,18,24,19],[25,0,25,1],[25,2,25,5],[25,7,25,10],[25,18,25,19],[21,18,21,19],[22,0,22,5],[22,7,22,10],[22,18,22,19],[23,0,23,1],[23,2,23,5],[23,7,23,10],[23,18,23,19],[18,18,18,19],[19,0,19,1],[19,2,19,5],[19,7,19,10],[19,18,19,19],[20,0,21,1],[20,2,21,5],[20,7,20,10],[20,18,20,19],[21,7,21,10],[16,0,16,1],[16,2,16,5],[16,7,16,10],[16,18,16,19],[17,0,17,1],[17,2,18,5],[17,7,17,10],[17,18,17,19],[18,0,18,1],[18,7,18,10],[12,17,15,17],[12,18,15,19],[13,0,13,1],[13,2,13,5],[13,14,15,14],[13,15,15,15],[13,16,15,16],[14,0,14,5],[15,0,15,1],[15,2,15,5],[12,0,12,1],[12,2,12,5],[12,7,15,10],[12,11,15,11],[12,12,15,12],[12,13,15,13],[9,16,9,17],[9,18,9,19],[10,0,10,1],[10,2,10,5],[11,0,11,1],[11,2,11,5],[6,14,6,15],[7,0,8,1],[7,2,8,5],[7,7,7,9],[8,7,8,9],[9,0,9,1],[9,2,9,5],[9,7,9,9],[0,6,0,19],[1,7,1,19],[2,0,3,2],[2,3,3,5],[2,7,2,19],[4,0,4,5],[4,7,6,9],[4,10,4,11],[4,12,4,13],[4,14,4,15],[4,16,4,19],[5,0,6,1],[5,2,6,5],[5,10,5,11],[5,12,5,13],[5,14,5,15],[5,16,5,17],[5,18,5,19],[6,10,6,11],[6,12,6,13]]}
[null,null,null,null,null,null," MORAVSKOSLEZSKÝ KYNOLOGICKÝ SVAZ, z. s."]
[null,null,null,null,null,null," ","Člen FCI prostřednictvím Českomoravské kynologické unie"]
["Druh a stupeň",null,null,{"$f":"IF(Soupiska!W42=\"M\",Soupiska!B42,\"NE\")","v":"NE"},null,null," ","POTVRZENÍ O VYKONANÉ ZKOUŠCE MZŘ"]
[]
["Data psa-feny",null,null,null,null,null,null,"A - STOPA",null,null,"FCI - IGP 1",null,"FCI - IGP 2",null,"FCI - IGP 3",null,"FCI - IGP IFH"]
["Jméno:",null,{"$f":"Soupiska!C42","v":0},null,null,null,null,null,null,null,"FCI - FPr 1",null,"FCI - FPr 2",null,"FCI - FPr 3",null,"Stopa č. 1",null,"Stopa č. 2"]
[null,null,null,null,null,null,null,null,null,null,"FCI - IFH 1",null,"FCI - IFH 2",null,"FCI - IFH 3",null,79," ",79]
["Chovná stanice:",null,{"$f":"Soupiska!E42","v":0},null,null,null,null,"Vlastní - cizí",null,null,79," ",79," ",79," ",21,null,21]
[null,null,null,null,null,null,null,"Předměty",null,null,21," ",21," ",21,null,100,{"$f":"SUM(R7:R8)","v":0},100,{"$f":"SUM(T7:T8)","v":0}]
["Plemeno:",null,{"$f":"Soupiska!I42","v":0},null,null,null,null,"Celkem",null,null,100,{"$f":"SUM(L8:L9)","v":0},100,{"$f":"SUM(N8:N9)","v":0},100,{"$f":"SUM(P8:P9)","v":0},200,null,{"$f":"SUM(R9,T9)","v":0}]
["Pohlaví:",null,{"$f":"Soupiska!K42","v":0}]
["Narozen:",null,{"$f":"Soupiska!L42","v":"00:00:00"},null,null,null,null,null,null,null,null,null,null,null,null," "]
["Č.záp.:",null,{"$f":"Soupiska!N42","v":0},null,null,null,null,"B - POSLUŠNOST",null,null,null,"FCI - IBGH 1","FCI - IBGH 2","FCI - IBGH 3","FCI - GPr 1-3, Upr 1-3",null,null,"FCI - BH/VT","BODY"]
["T.č./čip:",null,{"$f":"Soupiska!P42","v":0},null,null,null,null,null,null,null,null,null,null,null,"FCI - IGP 1   ","FCI - IGP 2              ","FCI - IGP 3"]
["Data psovoda"]
["Jméno:",null,{"$f":"Soupiska!C43","v":0}]
["Příjmení:",null,{"$f":"Soupiska!E43","v":0},null,null,null,null,"Ovladatelnost na vodítku",null,null,null,30,20," X"," X"," X","  X",30]
["Bydliště:",null,{"$f":"Soupiska!I43","v":0},null,null,null,null,"Ovladatelnost bez vodítka",null,null,null,30,20,20,15,15,15,"X"]
[null,null,null,null,null,null,null,"Odložení v sedě",null,null,null,15,15,10,10,10,10,10]
["Narozen:",null,{"$f":"DATE(IF(MID(Soupiska!C44,1,2)*1 > YEAR(TODAY())-2000, 1900, 2000) + MID(Soupiska!C44,1,2), MOD(MID(Soupiska!C44,3,2),50), MID(Soupiska!C44,5,2))","v":{"$error":"#VALUE!"}},null,null,null,null,"Odložení vleže s přivoláním",null,null,null,15,15,10,10,10,10,10]
["Člen ZO:",null,{"$f":"Soupiska!I44","v":0},null,null,null,null,"Odložení ve stoje",null,null,null," X"," X",10," X",10,10," X"]
[null,null,null,null,null,null,null,"Aport volný",null,null,null," X",10,15,15,10,10," X"]
["Data akce",null,null,null,null,null,null,"Skok přes překážku - 2 směry",null,null,null," X"," X"," X",15," X"," X"," X"]
["Datum:",null,{"$f":"Soupiska!T6","v":"00:00:00"},null,null,null,null,"Aport skokem",null,null,null," X"," X"," X","X",15,15," X"]
["Místo:",null,{"$f":"Soupiska!P5","v":0},null,null,null,null,"Šplh jedním směrem",null,null,null," X"," X"," X",15,10," X"," X"]
["Ved.zk.:",null,{"$f":"Soupiska!D6","v":0},null,null,null,null,"Aport šplhem",null,null,null," X"," X",15," X","X",10," X"]
["Rozhodčí:",null,{"$f":"Soupiska!P6","v":0},null,null,null,null,"Vysílání vpřed s odložením",null,null,null," X",10,10,10,10,10," X"]
[" ",null,null,null,null,null,null,"Odložení",null,null,null,10,10,10,10,10,10,10]
["        FCI - StPr 1 - 3 ",null,null,null,null,null,null,"Celkem",null,null,null,100,100,100,100,100,100,60,{"$f":"SUM(S17:T28)","v":0}]
["Ovladatelnost",null,null,null,20,null,null,"FCI - BH/VT: Chování psa v doprav. ruchu/zkouška AD",null,null,null,null,null,null,null,"XX"]
["Intenzita vyhledání",null,null,null,20]
["Vytrvalost",null,null,null,10," ",null,null,null,null,null,null,null,null,null,null,null,null,null," "]
["Chování psovoda",null,null,null,10,null,null,"C - OBRANA",null,null,null,"FCI - IGP 1",null,null,"  FCI - IGP 2",null,null," FCI - IGP 3"]
["Nalezení předmětů",null,null,null,40," ",null,null,null,null,null,"FCI - GPr1, SPr1",null,null,"FCI - GPr2, SPr2",null,null,"FCI - GPr3, SPr3"]
["Celkem",null,null,null,100,{"$f":"SUM(F30:F34)","v":0},null,"Vyhledání figuranta",null,null,null,5,null,null,5,null,null,10]
[null,null,null,null,null,null,null,"Vystavení a vyštěkání",null,null,null,15,null,null,15,null,null,15]
["Výsledek zkoušky",null,null,null,null,null,null,"Pokus o útěk",null,null,null,20,null,null,15,null,null,10]
["A - stopa",null,null,{"$f":"F35+L10+N10+P10+S10","v":0},null,null,null,"Obrana psa při hlídání",null,null,null,30,null,null,20,null,null,15]
["B - poslušnost",null,null,{"$f":"S29","v":0},null,null,null,"Zadní doprovod",null,null,null," X"," X",null,5,null,null,5]
["C - obrana",null,null,{"$f":"M43+P43+S43","v":0},null,null,null,"Přepad psa při doprovodu",null,null,null," X"," X",null," X"," X",null,15]
["D - BH-VT/AD",null,null,{"$f":"IF(P30=\"XX\",\" \",P30)","v":" "},null,null,null,"Útok na psa z pohybu",null,null,null,30,null,null,20,null,null,15]
["CELKEM",null,{"$f":"VLOOKUP(D3,TYPY!A$1:D$65536,4,FALSE)","v":{"$error":"#N/A"}},{"$f":"SUM(D38:F40)","v":0},null,null,null,"Obrana psa při hlídání",null,null,null," X"," X",null,20,null,null,15]
["ZNÁMKA",null,null,{"$f":"IF(EXACT(D3,\"FCI-IGP-IFH\"),IF(SUM(R9,T9)<70,\"N\",VLOOKUP(D42,TYPY!$D$44:$E$105,2,FALSE)),IF(D42>0,IFERROR(IF(C42=300,VLOOKUP(D42,TYPY!$B$44:$C$135,2,FALSE),IF(C42=200,VLOOKUP(D42,TYPY!$D$44:$E$105,2,FALSE),IF(C42=100,VLOOKUP(D42,TYPY!$F$44:$G$75,2,FALSE),IF(AND(C42=60,D41=\"Obstál\"),VLOOKUP(D42,TYPY!$H$44:$I$63,2,FALSE),\"N\")))),\"N\"),\" \"))","v":" "},null,null,null,"Celkem",null,null,null,100,{"$f":"SUM(M35:N42)","v":0},null,100,{"$f":"SUM(P35:Q42)","v":0},null,100,{"$f":"SUM(S35:T42)","v":0}]
[]
[]
[]
[]
[" ",null,null,null,null,null,null,null,null," ",null,null,null," "]
["Razítko organizace",null,null,null,null,null,null,null,null,"Podpis vedoucího zkoušek",null,null,null,"Podpis a razítko rozhodčího"]

{"sheet":"MZR12","index":11,"n_rows":49,"n_cols":20,"rows_kept":49,"cut":false,"hidden":true,"merged":[[48,0,48,7],[48,9,48,11],[48,13,48,19],[42,0,42,2],[42,3,42,5],[42,7,42,10],[42,12,42,13],[42,15,42,16],[42,18,42,19],[41,0,41,1],[41,3,41,5],[41,7,41,10],[41,12,41,13],[41,15,41,16],[41,18,41,19],[40,0,40,2],[40,3,40,5],[40,7,40,10],[40,12,40,13],[40,15,40,16],[40,18,40,19],[39,0,39,2],[39,3,39,5],[39,7,39,10],[39,12,39,13],[39,15,39,16],[39,18,39,19],[38,0,38,2],[38,3,38,5],[38,7,38,10],[38,12,38,13],[38,15,38,16],[38,18,38,19],[34,0,34,3],[34,7,34,10],[34,12,34,13],[34,15,34,16],[34,18,34,19],[37,0,37,2],[37,3,37,5],[37,7,37,10],[37,12,37,13],[37,15,37,16],[37,18,37,19],[35,7,35,10],[35,12,35,13],[35,15,35,16],[35,18,35,19],[36,0,36,5],[36,7,36,10],[36,12,36,13],[36,15,36,16],[36,18,36,19],[30,0,30,3],[31,0,31,3],[32,0,32,3],[32,7,33,10],[32,11,32,13],[32,14,32,16],[28,0,28,5],[28,7,28,10],[28,18,28,19],[29,0,29,3],[29,7,29,14],[29,15,29,19],[32,17,32,19],[33,0,33,3],[33,11,33,13],[33,14,33,16],[33,17,33,19],[26,0,26,1],[26,2,26,5],[26,7,26,10],[26,18,26,19],[27,7,27,10],[27,18,27,19],[24,0,24,1],[24,2,24,5],[24,7,24,10],[24,18,24,19],[25,0,25,1],[25,2,25,5],[25,7,25,10],[25,18,25,19],[21,18,21,19],[22,0,22,5],[22,7,22,10],[22,18,22,19],[23,0,23,1],[23,2,23,5],[23,7,23,10],[23,18,23,19],[18,18,18,19],[19,0,19,1],[19,2,19,5],[19,7,19,10],[19,18,19,19],[20,0,21,1],[20,2,21,5],[20,7,20,10],[20,18,20,19],[21,7,21,10],[16,0,16,1],[16,2,16,5],[16,7,16,10],[16,18,16,19],[17,0,17,1],[17,2,18,5],[17,7,17,10],[17,18,17,19],[18,0,18,1],[18,7,18,10],[12,17,15,17],[12,18,15,19],[13,0,13,1],[13,2,13,5],[13,14,15,14],[13,15,15,15],[13,16,15,16],[14,0,14,5],[15,0,15,1],[15,2,15,5],[12,0,12,1],[12,2,12,5],[12,7,15,10],[12,11,15,11],[12,12,15,12],[12,13,15,13],[9,16,9,17],[9,18,9,19],[10,0,10,1],[10,2,10,5],[11,0,11,1],[11,2,11,5],[6,14,6,15],[7,0,8,1],[7,2,8,5],[7,7,7,9],[8,7,8,9],[9,0,9,1],[9,2,9,5],[9,7,9,9],[0,6,0,19],[1,7,1,19],[2,0,3,2],[2,3,3,5],[2,7,2,19],[4,0,4,5],[4,7,6,9],[4,10,4,11],[4,12,4,13],[4,14,4,15],[4,16,4,19],[5,0,6,1],[5,2,6,5],[5,10,5,11],[5,12,5,13],[5,14,5,15],[5,16,5,17],[5,18,5,19],[6,10,6,11],[6,12,6,13]]}
[null,null,null,null,null,null," MORAVSKOSLEZSKÝ KYNOLOGICKÝ SVAZ, z. s."]
[null,null,null,null,null,null," ","Člen FCI prostřednictvím Českomoravské kynologické unie"]
["Druh a stupeň",null,null,{"$f":"IF(Soupiska!W45=\"M\",Soupiska!B45,\"NE\")","v":"NE"},null,null," ","POTVRZENÍ O VYKONANÉ ZKOUŠCE MZŘ"]
[]
["Data psa-feny",null,null,null,null,null,null,"A - STOPA",null,null,"FCI - IGP 1",null,"FCI - IGP 2",null,"FCI - IGP 3",null,"FCI - IGP IFH"]
["Jméno:",null,{"$f":"Soupiska!C45","v":0},null,null,null,null,null,null,null,"FCI - FPr 1",null,"FCI - FPr 2",null,"FCI - FPr 3",null,"Stopa č. 1",null,"Stopa č. 2"]
[null,null,null,null,null,null,null,null,null,null,"FCI - IFH 1",null,"FCI - IFH 2",null,"FCI - IFH 3",null,79," ",79]
["Chovná stanice:",null,{"$f":"Soupiska!E45","v":0},null,null,null,null,"Vlastní - cizí",null,null,79," ",79," ",79," ",21,null,21]
[null,null,null,null,null,null,null,"Předměty",null,null,21," ",21," ",21,null,100,{"$f":"SUM(R7:R8)","v":0},100,{"$f":"SUM(T7:T8)","v":0}]
["Plemeno:",null,{"$f":"Soupiska!I45","v":0},null,null,null,null,"Celkem",null,null,100,{"$f":"SUM(L8:L9)","v":0},100,{"$f":"SUM(N8:N9)","v":0},100,{"$f":"SUM(P8:P9)","v":0},200,null,{"$f":"SUM(R9,T9)","v":0}]
["Pohlaví:",null,{"$f":"Soupiska!K45","v":0}]
["Narozen:",null,{"$f":"Soupiska!L45","v":"00:00:00"},null,null,null,null,null,null,null,null,null,null,null,null," "]
["Č.záp.:",null,{"$f":"Soupiska!N45","v":0},null,null,null,null,"B - POSLUŠNOST",null,null,null,"FCI - IBGH 1","FCI - IBGH 2","FCI - IBGH 3","FCI - GPr 1-3, Upr 1-3",null,null,"FCI - BH/VT","BODY"]
["T.č./čip:",null,{"$f":"Soupiska!P45","v":0},null,null,null,null,null,null,null,null,null,null,null,"FCI - IGP 1   ","FCI - IGP 2              ","FCI - IGP 3"]
["Data psovoda"]
["Jméno:",null,{"$f":"Soupiska!C46","v":0}]
["Příjmení:",null,{"$f":"Soupiska!E46","v":0},null,null,null,null,"Ovladatelnost na vodítku",null,null,null,30,20," X"," X"," X","  X",30]
["Bydliště:",null,{"$f":"Soupiska!I46","v":0},null,null,null,null,"Ovladatelnost bez vodítka",null,null,null,30,20,20,15,15,15,"X"]
[null,null,null,null,null,null,null,"Odložení v sedě",null,null,null,15,15,10,10,10,10,10]
["Narozen:",null,{"$f":"DATE(IF(MID(Soupiska!C47,1,2)*1 > YEAR(TODAY())-2000, 1900, 2000) + MID(Soupiska!C47,1,2), MOD(MID(Soupiska!C47,3,2),50), MID(Soupiska!C47,5,2))","v":{"$error":"#VALUE!"}},null,null,null,null,"Odložení vleže s přivoláním",null,null,null,15,15,10,10,10,10,10]
["Člen ZO:",null,{"$f":"Soupiska!I47","v":0},null,null,null,null,"Odložení ve stoje",null,null,null," X"," X",10," X",10,10," X"]
[null,null,null,null,null,null,null,"Aport volný",null,null,null," X",10,15,15,10,10," X"]
["Data akce",null,null,null,null,null,null,"Skok přes překážku - 2 směry",null,null,null," X"," X"," X",15," X"," X"," X"]
["Datum:",null,{"$f":"Soupiska!T6","v":"00:00:00"},null,null,null,null,"Aport skokem",null,null,null," X"," X"," X","X",15,15," X"]
["Místo:",null,{"$f":"Soupiska!P5","v":0},null,null,null,null,"Šplh jedním směrem",null,null,null," X"," X"," X",15,10," X"," X"]
["Ved.zk.:",null,{"$f":"Soupiska!D6","v":0},null,null,null,null,"Aport šplhem",null,null,null," X"," X",15," X","X",10," X"]
["Rozhodčí:",null,{"$f":"Soupiska!P6","v":0},null,null,null,null,"Vysílání vpřed s odložením",null,null,null," X",10,10,10,10,10," X"]
[" ",null,null,null,null,null,null,"Odložení",null,null,null,10,10,10,10,10,10,10]
["        FCI - StPr 1 - 3 ",null,null,null,null,null,null,"Celkem",null,null,null,100,100,100,100,100,100,60,{"$f":"SUM(S17:T28)","v":0}]
["Ovladatelnost",null,null,null,20,null,null,"FCI - BH/VT: Chování psa v doprav. ruchu/zkouška AD",null,null,null,null,null,null,null,"XX"]
["Intenzita vyhledání",null,null,null,20]
["Vytrvalost",null,null,null,10," ",null,null,null,null,null,null,null,null,null,null,null,null,null," "]
["Chování psovoda",null,null,null,10,null,null,"C - OBRANA",null,null,null,"FCI - IGP 1",null,null,"  FCI - IGP 2",null,null," FCI - IGP 3"]
["Nalezení předmětů",null,null,null,40," ",null,null,null,null,null,"FCI - GPr1, SPr1",null,null,"FCI - GPr2, SPr2",null,null,"FCI - GPr3, SPr3"]
["Celkem",null,null,null,100,{"$f":"SUM(F30:F34)","v":0},null,"Vyhledání figuranta",null,null,null,5,null,null,5,null,null,10]
[null,null,null,null,null,null,null,"Vystavení a vyštěkání",null,null,null,15,null,null,15,null,null,15]
["Výsledek zkoušky",null,null,null,null,null,null,"Pokus o útěk",null,null,null,20,null,null,15,null,null,10]
["A - stopa",null,null,{"$f":"F35+L10+N10+P10+S10","v":0},null,null,null,"Obrana psa při hlídání",null,null,null,30,null,null,20,null,null,15]
["B - poslušnost",null,null,{"$f":"S29","v":0},null,null,null,"Zadní doprovod",null,null,null," X"," X",null,5,null,null,5]
["C - obrana",null,null,{"$f":"M43+P43+S43","v":0},null,null,null,"Přepad psa při doprovodu",null,null,null," X"," X",null," X"," X",null,15]
["D - BH-VT/AD",null,null,{"$f":"IF(P30=\"XX\",\" \",P30)","v":" "},null,null,null,"Útok na psa z pohybu",null,null,null,30,null,null,20,null,null,15]
["CELKEM",null,{"$f":"VLOOKUP(D3,TYPY!A$1:D$65536,4,FALSE)","v":{"$error":"#N/A"}},{"$f":"SUM(D38:F40)","v":0},null,null,null,"Obrana psa při hlídání",null,null,null," X"," X",null,20,null,null,15]
["ZNÁMKA",null,null,{"$f":"IF(EXACT(D3,\"FCI-IGP-IFH\"),IF(SUM(R9,T9)<70,\"N\",VLOOKUP(D42,TYPY!$D$44:$E$105,2,FALSE)),IF(D42>0,IFERROR(IF(C42=300,VLOOKUP(D42,TYPY!$B$44:$C$135,2,FALSE),IF(C42=200,VLOOKUP(D42,TYPY!$D$44:$E$105,2,FALSE),IF(C42=100,VLOOKUP(D42,TYPY!$F$44:$G$75,2,FALSE),IF(AND(C42=60,D41=\"Obstál\"),VLOOKUP(D42,TYPY!$H$44:$I$63,2,FALSE),\"N\")))),\"N\"),\" \"))","v":" "},null,null,null,"Celkem",null,null,null,100,{"$f":"SUM(M35:N42)","v":0},null,100,{"$f":"SUM(P35:Q42)","v":0},null,100,{"$f":"SUM(S35:T42)","v":0}]
[]
[]
[]
[]
[" ",null,null,null,null,null,null,null,null," ",null,null,null," "]
["Razítko organizace",null,null,null,null,null,null,null,null,"Podpis vedoucího zkoušek",null,null,null,"Podpis a razítko rozhodčího"]

{"sheet":"MZR13","index":12,"n_rows":49,"n_cols":20,"rows_kept":49,"cut":false,"hidden":true,"merged":[[48,0,48,7],[48,9,48,11],[48,13,48,19],[42,0,42,2],[42,3,42,5],[42,7,42,10],[42,12,42,13],[42,15,42,16],[42,18,42,19],[41,0,41,1],[41,3,41,5],[41,7,41,10],[41,12,41,13],[41,15,41,16],[41,18,41,19],[40,0,40,2],[40,3,40,5],[40,7,40,10],[40,12,40,13],[40,15,40,16],[40,18,40,19],[39,0,39,2],[39,3,39,5],[39,7,39,10],[39,12,39,13],[39,15,39,16],[39,18,39,19],[38,0,38,2],[38,3,38,5],[38,7,38,10],[38,12,38,13],[38,15,38,16],[38,18,38,19],[34,0,34,3],[34,7,34,10],[34,12,34,13],[34,15,34,16],[34,18,34,19],[37,0,37,2],[37,3,37,5],[37,7,37,10],[37,12,37,13],[37,15,37,16],[37,18,37,19],[35,7,35,10],[35,12,35,13],[35,15,35,16],[35,18,35,19],[36,0,36,5],[36,7,36,10],[36,12,36,13],[36,15,36,16],[36,18,36,19],[30,0,30,3],[31,0,31,3],[32,0,32,3],[32,7,33,10],[32,11,32,13],[32,14,32,16],[28,0,28,5],[28,7,28,10],[28,18,28,19],[29,0,29,3],[29,7,29,14],[29,15,29,19],[32,17,32,19],[33,0,33,3],[33,11,33,13],[33,14,33,16],[33,17,33,19],[26,0,26,1],[26,2,26,5],[26,7,26,10],[26,18,26,19],[27,7,27,10],[27,18,27,19],[24,0,24,1],[24,2,24,5],[24,7,24,10],[24,18,24,19],[25,0,25,1],[25,2,25,5],[25,7,25,10],[25,18,25,19],[21,18,21,19],[22,0,22,5],[22,7,22,10],[22,18,22,19],[23,0,23,1],[23,2,23,5],[23,7,23,10],[23,18,23,19],[18,18,18,19],[19,0,19,1],[19,2,19,5],[19,7,19,10],[19,18,19,19],[20,0,21,1],[20,2,21,5],[20,7,20,10],[20,18,20,19],[21,7,21,10],[16,0,16,1],[16,2,16,5],[16,7,16,10],[16,18,16,19],[17,0,17,1],[17,2,18,5],[17,7,17,10],[17,18,17,19],[18,0,18,1],[18,7,18,10],[12,17,15,17],[12,18,15,19],[13,0,13,1],[13,2,13,5],[13,14,15,14],[13,15,15,15],[13,16,15,16],[14,0,14,5],[15,0,15,1],[15,2,15,5],[12,0,12,1],[12,2,12,5],[12,7,15,10],[12,11,15,11],[12,12,15,12],[12,13,15,13],[9,16,9,17],[9,18,9,19],[10,0,10,1],[10,2,10,5],[11,0,11,1],[11,2,11,5],[6,14,6,15],[7,0,8,1],[7,2,8,5],[7,7,7,9],[8,7,8,9],[9,0,9,1],[9,2,9,5],[9,7,9,9],[0,6,0,19],[1,7,1,19],[2,0,3,2],[2,3,3,5],[2,7,2,19],[4,0,4,5],[4,7,6,9],[4,10,4,11],[4,12,4,13],[4,14,4,15],[4,16,4,19],[5,0,6,1],[5,2,6,5],[5,10,5,11],[5,12,5,13],[5,14,5,15],[5,16,5,17],[5,18,5,19],[6,10,6,11],[6,12,6,13]]}
[null,null,null,null,null,null," MORAVSKOSLEZSKÝ KYNOLOGICKÝ SVAZ, z. s."]
[null,null,null,null,null,null," ","Člen FCI prostřednictvím Českomoravské kynologické unie"]
["Druh a stupeň",null,null,{"$f":"IF(Soupiska!W48=\"M\",Soupiska!B48,\"NE\")","v":"NE"},null,null," ","POTVRZENÍ O VYKONANÉ ZKOUŠCE MZŘ"]
[]
["Data psa-feny",null,null,null,null,null,null,"A - STOPA",null,null,"FCI - IGP 1",null,"FCI - IGP 2",null,"FCI - IGP 3",null,"FCI - IGP IFH"]
["Jméno:",null,{"$f":"Soupiska!C48","v":0},null,null,null,null,null,null,null,"FCI - FPr 1",null,"FCI - FPr 2",null,"FCI - FPr 3",null,"Stopa č. 1",null,"Stopa č. 2"]
[null,null,null,null,null,null,null,null,null,null,"FCI - IFH 1",null,"FCI - IFH 2",null,"FCI - IFH 3",null,79," ",79]
["Chovná stanice:",null,{"$f":"Soupiska!E48","v":0},null,null,null,null,"Vlastní - cizí",null,null,79," ",79," ",79," ",21," ",21]
[null,null,null,null,null,null,null,"Předměty",null,null,21," ",21," ",21,null,100,{"$f":"SUM(R7:R8)","v":0},100,{"$f":"SUM(T7:T8)","v":0}]
["Plemeno:",null,{"$f":"Soupiska!I48","v":0},null,null,null,null,"Celkem",null,null,100,{"$f":"SUM(L8:L9)","v":0},100,{"$f":"SUM(N8:N9)","v":0},100,{"$f":"SUM(P8:P9)","v":0},200,null,{"$f":"SUM(R9,T9)","v":0}]
["Pohlaví:",null,{"$f":"Soupiska!K48","v":0}]
["Narozen:",null,{"$f":"Soupiska!L48","v":"00:00:00"},null,null,null,null,null,null,null,null,null,null,null,null," "]
["Č.záp.:",null,{"$f":"Soupiska!N48","v":0},null,null,null,null,"B - POSLUŠNOST",null,null,null,"FCI - IBGH 1","FCI - IBGH 2","FCI - IBGH 3","FCI - GPr 1-3, Upr 1-3",null,null,"FCI - BH/VT","BODY"]
["T.č./čip:",null,{"$f":"Soupiska!P48","v":0},null,null,null,null,null,null,null,null,null,null,null,"FCI - IGP 1   ","FCI - IGP 2              ","FCI - IGP 3"]
["Data psovoda"]
["Jméno:",null,{"$f":"Soupiska!C49","v":0}]
["Příjmení:",null,{"$f":"Soupiska!E49","v":0},null,null,null,null,"Ovladatelnost na vodítku",null,null,null,30,20," X"," X"," X","  X",30]
["Bydliště:",null,{"$f":"Soupiska!I49","v":0},null,null,null,null,"Ovladatelnost bez vodítka",null,null,null,30,20,20,15,15,15,"X"]
[null,null,null,null,null,null,null,"Odložení v sedě",null,null,null,15,15,10,10,10,10,10]
["Narozen:",null,{"$f":"DATE(IF(MID(Soupiska!C50,1,2)*1 > YEAR(TODAY())-2000, 1900, 2000) + MID(Soupiska!C50,1,2), MOD(MID(Soupiska!C50,3,2),50), MID(Soupiska!C50,5,2))","v":{"$error":"#VALUE!"}},null,null,null,null,"Odložení vleže s přivoláním",null,null,null,15,15,10,10,10,10,10]
["Člen ZO:",null,{"$f":"Soupiska!I50","v":0},null,null,null,null,"Odložení ve stoje",null,null,null," X"," X",10," X",10,10," X"]
[null,null,null,null,null,null,null,"Aport volný",null,null,null," X",10,15,15,10,10," X"]
["Data akce",null,null,null,null,null,null,"Skok přes překážku - 2 směry",null,null,null," X"," X"," X",15," X"," X"," X"]
["Datum:",null,{"$f":"Soupiska!T6","v":"00:00:00"},null,null,null,null,"Aport skokem",null,null,null," X"," X"," X","X",15,15," X"]
["Místo:",null,{"$f":"Soupiska!P5","v":0},null,null,null,null,"Šplh jedním směrem",null,null,null," X"," X"," X",15,10," X"," X"]
["Ved.zk.:",null,{"$f":"Soupiska!D6","v":0},null,null,null,null,"Aport šplhem",null,null,null," X"," X",15," X","X",10," X"]
["Rozhodčí:",null,{"$f":"Soupiska!P6","v":0},null,null,null,null,"Vysílání vpřed s odložením",null,null,null," X",10,10,10,10,10," X"]
[" ",null,null,null,null,null,null,"Odložení",null,null,null,10,10,10,10,10,10,10]
["        FCI - StPr 1 - 3 ",null,null,null,null,null,null,"Celkem",null,null,null,100,100,100,100,100,100,60,{"$f":"SUM(S17:T28)","v":0}]
["Ovladatelnost",null,null,null,20,null,null,"FCI - BH/VT: Chování psa v doprav. ruchu/zkouška AD",null,null,null,null,null,null,null,"XX"]
["Intenzita vyhledání",null,null,null,20]
["Vytrvalost",null,null,null,10," ",null,null,null,null,null,null,null,null,null,null,null,null,null," "]
["Chování psovoda",null,null,null,10,null,null,"C - OBRANA",null,null,null,"FCI - IGP 1",null,null,"  FCI - IGP 2",null,null," FCI - IGP 3"]
["Nalezení předmětů",null,null,null,40," ",null,null,null,null,null,"FCI - GPr1, SPr1",null,null,"FCI - GPr2, SPr2",null,null,"FCI - GPr3, SPr3"]
["Celkem",null,null,null,100,{"$f":"SUM(F30:F34)","v":0},null,"Vyhledání figuranta",null,null,null,5,null,null,5,null,null,10]
[null,null,null,null,null,null,null,"Vystavení a vyštěkání",null,null,null,15,null,null,15,null,null,15]
["Výsledek zkoušky",null,null,null,null,null,null,"Pokus o útěk",null,null,null,20,null,null,15,null,null,10]
["A - stopa",null,null,{"$f":"F35+L10+N10+P10+S10","v":0},null,null,null,"Obrana psa při hlídání",null,null,null,30,null,null,20,null,null,15]
["B - poslušnost",null,null,{"$f":"S29","v":0},null,null,null,"Zadní doprovod",null,null,null," X"," X",null,5,null,null,5]
["C - obrana",null,null,{"$f":"M43+P43+S43","v":0},null,null,null,"Přepad psa při doprovodu",null,null,null," X"," X",null," X"," X",null,15]
["D - BH-VT/AD",null,null,{"$f":"IF(P30=\"XX\",\" \",P30)","v":" "},null,null,null,"Útok na psa z pohybu",null,null,null,30,null,null,20,null,null,15]
["CELKEM",null,{"$f":"VLOOKUP(D3,TYPY!A$1:D$65536,4,FALSE)","v":{"$error":"#N/A"}},{"$f":"SUM(D38:F40)","v":0},null,null,null,"Obrana psa při hlídání",null,null,null," X"," X",null,20,null,null,15]
["ZNÁMKA",null,null,{"$f":"IF(EXACT(D3,\"FCI-IGP-IFH\"),IF(SUM(R9,T9)<70,\"N\",VLOOKUP(D42,TYPY!$D$44:$E$105,2,FALSE)),IF(D42>0,IFERROR(IF(C42=300,VLOOKUP(D42,TYPY!$B$44:$C$135,2,FALSE),IF(C42=200,VLOOKUP(D42,TYPY!$D$44:$E$105,2,FALSE),IF(C42=100,VLOOKUP(D42,TYPY!$F$44:$G$75,2,FALSE),IF(AND(C42=60,D41=\"Obstál\"),VLOOKUP(D42,TYPY!$H$44:$I$63,2,FALSE),\"N\")))),\"N\"),\" \"))","v":" "},null,null,null,"Celkem",null,null,null,100,{"$f":"SUM(M35:N42)","v":0},null,100,{"$f":"SUM(P35:Q42)","v":0},null,100,{"$f":"SUM(S35:T42)","v":0}]
[]
[]
[]
[]
[" ",null,null,null,null,null,null,null,null," ",null,null,null," "]
["Razítko organizace",null,null,null,null,null,null,null,null,"Podpis vedoucího zkoušek",null,null,null,"Podpis a razítko rozhodčího"]

{"sheet":"MZR14","index":13,"n_rows":49,"n_cols":20,"rows_kept":49,"cut":false,"hidden":true,"merged":[[48,0,48,7],[48,9,48,11],[48,13,48,19],[42,0,42,2],[42,3,42,5],[42,7,42,10],[42,12,42,13],[42,15,42,16],[42,18,42,19],[41,0,41,1],[41,3,41,5],[41,7,41,10],[41,12,41,13],[41,15,41,16],[41,18,41,19],[40,0,40,2],[40,3,40,5],[40,7,40,10],[40,12,40,13],[40,15,40,16],[40,18,40,19],[39,0,39,2],[39,3,39,5],[39,7,39,10],[39,12,39,13],[39,15,39,16],[39,18,39,19],[38,0,38,2],[38,3,38,5],[38,7,38,10],[38,12,38,13],[38,15,38,16],[38,18,38,19],[34,0,34,3],[34,7,34,10],[34,12,34,13],[34,15,34,16],[34,18,34,19],[37,0,37,2],[37,3,37,5],[37,7,37,10],[37,12,37,13],[37,15,37,16],[37,18,37,19],[35,7,35,10],[35,12,35,13],[35,15,35,16],[35,18,35,19],[36,0,36,5],[36,7,36,10],[36,12,36,13],[36,15,36,16],[36,18,36,19],[30,0,30,3],[31,0,31,3],[32,0,32,3],[32,7,33,10],[32,11,32,13],[32,14,32,16],[28,0,28,5],[28,7,28,10],[28,18,28,19],[29,0,29,3],[29,7,29,14],[29,15,29,19],[32,17,32,19],[33,0,33,3],[33,11,33,13],[33,14,33,16],[33,17,33,19],[26,0,26,1],[26,2,26,5],[26,7,26,10],[26,18,26,19],[27,7,27,10],[27,18,27,19],[24,0,24,1],[24,2,24,5],[24,7,24,10],[24,18,24,19],[25,0,25,1],[25,2,25,5],[25,7,25,10],[25,18,25,19],[21,18,21,19],[22,0,22,5],[22,7,22,10],[22,18,22,19],[23,0,23,1],[23,2,23,5],[23,7,23,10],[23,18,23,19],[18,18,18,19],[19,0,19,1],[19,2,19,5],[19,7,19,10],[19,18,19,19],[20,0,21,1],[20,2,21,5],[20,7,20,10],[20,18,20,19],[21,7,21,10],[16,0,16,1],[16,2,16,5],[16,7,16,10],[16,18,16,19],[17,0,17,1],[17,2,18,5],[17,7,17,10],[17,18,17,19],[18,0,18,1],[18,7,18,10],[12,17,15,17],[12,18,15,19],[13,0,13,1],[13,2,13,5],[13,14,15,14],[13,15,15,15],[13,16,15,16],[14,0,14,5],[15,0,15,1],[15,2,15,5],[12,0,12,1],[12,2,12,5],[12,7,15,10],[12,11,15,11],[12,12,15,12],[12,13,15,13],[9,16,9,17],[9,18,9,19],[10,0,10,1],[10,2,10,5],[11,0,11,1],[11,2,11,5],[6,14,6,15],[7,0,8,1],[7,2,8,5],[7,7,7,9],[8,7,8,9],[9,0,9,1],[9,2,9,5],[9,7,9,9],[0,6,0,19],[1,7,1,19],[2,0,3,2],[2,3,3,5],[2,7,2,19],[4,0,4,5],[4,7,6,9],[4,10,4,11],[4,12,4,13],[4,14,4,15],[4,16,4,19],[5,0,6,1],[5,2,6,5],[5,10,5,11],[5,12,5,13],[5,14,5,15],[5,16,5,17],[5,18,5,19],[6,10,6,11],[6,12,6,13]]}
[null,null,null,null,null,null," MORAVSKOSLEZSKÝ KYNOLOGICKÝ SVAZ, z. s."]
[null,null,null,null,null,null," ","Člen FCI prostřednictvím Českomoravské kynologické unie"]
["Druh a stupeň",null,null,{"$f":"IF(Soupiska!W51=\"M\",Soupiska!B51,\"NE\")","v":"NE"},null,null," ","POTVRZENÍ O VYKONANÉ ZKOUŠCE MZŘ"]
[]
["Data psa-feny",null,null,null,null,null,null,"A - STOPA",null,null,"FCI - IGP 1",null,"FCI - IGP 2",null,"FCI - IGP 3",null,"FCI - IGP IFH"]
["Jméno:",null,{"$f":"Soupiska!C51","v":0},null,null,null,null,null,null,null,"FCI - FPr 1",null,"FCI - FPr 2",null,"FCI - FPr 3",null,"Stopa č. 1",null,"Stopa č. 2"]
[null,null,null,null,null,null,null,null,null,null,"FCI - IFH 1",null,"FCI - IFH 2",null,"FCI - IFH 3",null,79," ",79]
["Chovná stanice:",null,{"$f":"Soupiska!E51","v":0},null,null,null,null,"Vlastní - cizí",null,null,79," ",79," ",79," ",21," ",21]
[null,null,null,null,null,null,null,"Předměty",null,null,21," ",21," ",21,null,100,{"$f":"SUM(R7:R8)","v":0},100,{"$f":"SUM(T7:T8)","v":0}]
["Plemeno:",null,{"$f":"Soupiska!I51","v":0},null,null,null,null,"Celkem",null,null,100,{"$f":"SUM(L8:L9)","v":0},100,{"$f":"SUM(N8:N9)","v":0},100,{"$f":"SUM(P8:P9)","v":0},200,null,{"$f":"SUM(R9,T9)","v":0}]
["Pohlaví:",null,{"$f":"Soupiska!K51","v":0}]
["Narozen:",null,{"$f":"Soupiska!L51","v":"00:00:00"},null,null,null,null,null,null,null,null,null,null,null,null," "]
["Č.záp.:",null,{"$f":"Soupiska!N51","v":0},null,null,null,null,"B - POSLUŠNOST",null,null,null,"FCI - IBGH 1","FCI - IBGH 2","FCI - IBGH 3","FCI - GPr 1-3, Upr 1-3",null,null,"FCI - BH/VT","BODY"]
["T.č./čip:",null,{"$f":"Soupiska!P51","v":0},null,null,null,null,null,null,null,null,null,null,null,"FCI - IGP 1   ","FCI - IGP 2              ","FCI - IGP 3"]
["Data psovoda"]
["Jméno:",null,{"$f":"Soupiska!C52","v":0}]
["Příjmení:",null,{"$f":"Soupiska!E52","v":0},null,null,null,null,"Ovladatelnost na vodítku",null,null,null,30,20," X"," X"," X","  X",30]
["Bydliště:",null,{"$f":"Soupiska!I52","v":0},null,null,null,null,"Ovladatelnost bez vodítka",null,null,null,30,20,20,15,15,15,"X"]
[null,null,null,null,null,null,null,"Odložení v sedě",null,null,null,15,15,10,10,10,10,10]
["Narozen:",null,{"$f":"DATE(IF(MID(Soupiska!C53,1,2)*1 > YEAR(TODAY())-2000, 1900, 2000) + MID(Soupiska!C53,1,2), MOD(MID(Soupiska!C53,3,2),50), MID(Soupiska!C53,5,2))","v":{"$error":"#VALUE!"}},null,null,null,null,"Odložení vleže s přivoláním",null,null,null,15,15,10,10,10,10,10]
["Člen ZO:",null,{"$f":"Soupiska!I53","v":0},null,null,null,null,"Odložení ve stoje",null,null,null," X"," X",10," X",10,10," X"]
[null,null,null,null,null,null,null,"Aport volný",null,null,null," X",10,15,15,10,10," X"]
["Data akce",null,null,null,null,null,null,"Skok přes překážku - 2 směry",null,null,null," X"," X"," X",15," X"," X"," X"]
["Datum:",null,{"$f":"Soupiska!T6","v":"00:00:00"},null,null,null,null,"Aport skokem",null,null,null," X"," X"," X","X",15,15," X"]
["Místo:",null,{"$f":"Soupiska!P5","v":0},null,null,null,null,"Šplh jedním směrem",null,null,null," X"," X"," X",15,10," X"," X"]
["Ved.zk.:",null,{"$f":"Soupiska!D6","v":0},null,null,null,null,"Aport šplhem",null,null,null," X"," X",15," X","X",10," X"]
["Rozhodčí:",null,{"$f":"Soupiska!P6","v":0},null,null,null,null,"Vysílání vpřed s odložením",null,null,null," X",10,10,10,10,10," X"]
[" ",null,null,null,null,null,null,"Odložení",null,null,null,10,10,10,10,10,10,10]
["        FCI - StPr 1 - 3 ",null,null,null,null,null,null,"Celkem",null,null,null,100,100,100,100,100,100,60,{"$f":"SUM(S17:T28)","v":0}]
["Ovladatelnost",null,null,null,20,null,null,"FCI - BH/VT: Chování psa v doprav. ruchu/zkouška AD",null,null,null,null,null,null,null,"XX"]
["Intenzita vyhledání",null,null,null,20]
["Vytrvalost",null,null,null,10," ",null,null,null,null,null,null,null,null,null,null,null,null,null," "]
["Chování psovoda",null,null,null,10,null,null,"C - OBRANA",null,null,null,"FCI - IGP 1",null,null,"  FCI - IGP 2",null,null," FCI - IGP 3"]
["Nalezení předmětů",null,null,null,40," ",null,null,null,null,null,"FCI - GPr1, SPr1",null,null,"FCI - GPr2, SPr2",null,null,"FCI - GPr3, SPr3"]
["Celkem",null,null,null,100,{"$f":"SUM(F30:F34)","v":0},null,"Vyhledání figuranta",null,null,null,5,null,null,5,null,null,10]
[null,null,null,null,null,null,null,"Vystavení a vyštěkání",null,null,null,15,null,null,15,null,null,15]
["Výsledek zkoušky",null,null,null,null,null,null,"Pokus o útěk",null,null,null,20,null,null,15,null,null,10]
["A - stopa",null,null,{"$f":"F35+L10+N10+P10+S10","v":0},null,null,null,"Obrana psa při hlídání",null,null,null,30,null,null,20,null,null,15]
["B - poslušnost",null,null,{"$f":"S29","v":0},null,null,null,"Zadní doprovod",null,null,null," X"," X",null,5,null,null,5]
["C - obrana",null,null,{"$f":"M43+P43+S43","v":0},null,null,null,"Přepad psa při doprovodu",null,null,null," X"," X",null," X"," X",null,15]
["D - BH-VT/AD",null,null,{"$f":"IF(P30=\"XX\",\" \",P30)","v":" "},null,null,null,"Útok na psa z pohybu",null,null,null,30,null,null,20,null,null,15]
["CELKEM",null,{"$f":"VLOOKUP(D3,TYPY!A$1:D$65536,4,FALSE)","v":{"$error":"#N/A"}},{"$f":"SUM(D38:F40)","v":0},null,null,null,"Obrana psa při hlídání",null,null,null," X"," X",null,20,null,null,15]
["ZNÁMKA",null,null,{"$f":"IF(EXACT(D3,\"FCI-IGP-IFH\"),IF(SUM(R9,T9)<70,\"N\",VLOOKUP(D42,TYPY!$D$44:$E$105,2,FALSE)),IF(D42>0,IFERROR(IF(C42=300,VLOOKUP(D42,TYPY!$B$44:$C$135,2,FALSE),IF(C42=200,VLOOKUP(D42,TYPY!$D$44:$E$105,2,FALSE),IF(C42=100,VLOOKUP(D42,TYPY!$F$44:$G$75,2,FALSE),IF(AND(C42=60,D41=\"Obstál\"),VLOOKUP(D42,TYPY!$H$44:$I$63,2,FALSE),\"N\")))),\"N\"),\" \"))","v":" "},null,null,null,"Celkem",null,null,null,100,{"$f":"SUM(M35:N42)","v":0},null,100,{"$f":"SUM(P35:Q42)","v":0},null,100,{"$f":"SUM(S35:T42)","v":0}]
[]
[]
[]
[]
[" ",null,null,null,null,null,null,null,null," ",null,null,null," "]
["Razítko organizace",null,null,null,null,null,null,null,null,"Podpis vedoucího zkoušek",null,null,null,"Podpis a razítko rozhodčího"]

{"sheet":"MZR15","index":14,"n_rows":49,"n_cols":20,"rows_kept":49,"cut":false,"hidden":true,"merged":[[48,0,48,7],[48,9,48,11],[48,13,48,19],[42,0,42,2],[42,3,42,5],[42,7,42,10],[42,12,42,13],[42,15,42,16],[42,18,42,19],[41,0,41,1],[41,3,41,5],[41,7,41,10],[41,12,41,13],[41,15,41,16],[41,18,41,19],[40,0,40,2],[40,3,40,5],[40,7,40,10],[40,12,40,13],[40,15,40,16],[40,18,40,19],[39,0,39,2],[39,3,39,5],[39,7,39,10],[39,12,39,13],[39,15,39,16],[39,18,39,19],[38,0,38,2],[38,3,38,5],[38,7,38,10],[38,12,38,13],[38,15,38,16],[38,18,38,19],[34,0,34,3],[34,7,34,10],[34,12,34,13],[34,15,34,16],[34,18,34,19],[37,0,37,2],[37,3,37,5],[37,7,37,10],[37,12,37,13],[37,15,37,16],[37,18,37,19],[35,7,35,10],[35,12,35,13],[35,15,35,16],[35,18,35,19],[36,0,36,5],[36,7,36,10],[36,12,36,13],[36,15,36,16],[36,18,36,19],[30,0,30,3],[31,0,31,3],[32,0,32,3],[32,7,33,10],[32,11,32,13],[32,14,32,16],[28,0,28,5],[28,7,28,10],[28,18,28,19],[29,0,29,3],[29,7,29,14],[29,15,29,19],[32,17,32,19],[33,0,33,3],[33,11,33,13],[33,14,33,16],[33,17,33,19],[26,0,26,1],[26,2,26,5],[26,7,26,10],[26,18,26,19],[27,7,27,10],[27,18,27,19],[24,0,24,1],[24,2,24,5],[24,7,24,10],[24,18,24,19],[25,0,25,1],[25,2,25,5],[25,7,25,10],[25,18,25,19],[21,18,21,19],[22,0,22,5],[22,7,22,10],[22,18,22,19],[23,0,23,1],[23,2,23,5],[23,7,23,10],[23,18,23,19],[18,18,18,19],[19,0,19,1],[19,2,19,5],[19,7,19,10],[19,18,19,19],[20,0,21,1],[20,2,21,5],[20,7,20,10],[20,18,20,19],[21,7,21,10],[16,0,16,1],[16,2,16,5],[16,7,16,10],[16,18,16,19],[17,0,17,1],[17,2,18,5],[17,7,17,10],[17,18,17,19],[18,0,18,1],[18,7,18,10],[12,17,15,17],[12,18,15,19],[13,0,13,1],[13,2,13,5],[13,14,15,14],[13,15,15,15],[13,16,15,16],[14,0,14,5],[15,0,15,1],[15,2,15,5],[12,0,12,1],[12,2,12,5],[12,7,15,10],[12,11,15,11],[12,12,15,12],[12,13,15,13],[9,16,9,17],[9,18,9,19],[10,0,10,1],[10,2,10,5],[11,0,11,1],[11,2,11,5],[6,14,6,15],[7,0,8,1],[7,2,8,5],[7,7,7,9],[8,7,8,9],[9,0,9,1],[9,2,9,5],[9,7,9,9],[0,6,0,19],[1,7,1,19],[2,0,3,2],[2,3,3,5],[2,7,2,19],[4,0,4,5],[4,7,6,9],[4,10,4,11],[4,12,4,13],[4,14,4,15],[4,16,4,19],[5,0,6,1],[5,2,6,5],[5,10,5,11],[5,12,5,13],[5,14,5,15],[5,16,5,17],[5,18,5,19],[6,10,6,11],[6,12,6,13]]}
[null,null,null,null,null,null," MORAVSKOSLEZSKÝ KYNOLOGICKÝ SVAZ, z. s."]
[null,null,null,null,null,null," ","Člen FCI prostřednictvím Českomoravské kynologické unie"]
["Druh a stupeň",null,null,{"$f":"IF(Soupiska!W54=\"M\",Soupiska!B54,\"NE\")","v":"NE"},null,null," ","POTVRZENÍ O VYKONANÉ ZKOUŠCE MZŘ"]
[]
["Data psa-feny",null,null,null,null,null,null,"A - STOPA",null,null,"FCI - IGP 1",null,"FCI - IGP 2",null,"FCI - IGP 3",null,"FCI - IGP IFH"]
["Jméno:",null,{"$f":"Soupiska!C54","v":0},null,null,null,null,null,null,null,"FCI - FPr 1",null,"FCI - FPr 2",null,"FCI - FPr 3",null,"Stopa č. 1",null,"Stopa č. 2"]
[null,null,null,null,null,null,null,null,null,null,"FCI - IFH 1",null,"FCI - IFH 2",null,"FCI - IFH 3",null,79," ",79]
["Chovná stanice:",null,{"$f":"Soupiska!E54","v":0},null,null,null,null,"Vlastní - cizí",null,null,79," ",79," ",79," ",21," ",21]
[null,null,null,null,null,null,null,"Předměty",null,null,21," ",21," ",21,null,100,{"$f":"SUM(R7:R8)","v":0},100,{"$f":"SUM(T7:T8)","v":0}]
["Plemeno:",null,{"$f":"Soupiska!I54","v":0},null,null,null,null,"Celkem",null,null,100,{"$f":"SUM(L8:L9)","v":0},100,{"$f":"SUM(N8:N9)","v":0},100,{"$f":"SUM(P8:P9)","v":0},200,null,{"$f":"SUM(R9,T9)","v":0}]
["Pohlaví:",null,{"$f":"Soupiska!K54","v":0}]
["Narozen:",null,{"$f":"Soupiska!L54","v":"00:00:00"},null,null,null,null,null,null,null,null,null,null,null,null," "]
["Č.záp.:",null,{"$f":"Soupiska!N54","v":0},null,null,null,null,"B - POSLUŠNOST",null,null,null,"FCI - IBGH 1","FCI - IBGH 2","FCI - IBGH 3","FCI - GPr 1-3, Upr 1-3",null,null,"FCI - BH/VT","BODY"]
["T.č./čip:",null,{"$f":"Soupiska!P54","v":0},null,null,null,null,null,null,null,null,null,null,null,"FCI - IGP 1   ","FCI - IGP 2              ","FCI - IGP 3"]
["Data psovoda"]
["Jméno:",null,{"$f":"Soupiska!C55","v":0}]
["Příjmení:",null,{"$f":"Soupiska!E55","v":0},null,null,null,null,"Ovladatelnost na vodítku",null,null,null,30,20," X"," X"," X","  X",30]
["Bydliště:",null,{"$f":"Soupiska!I55","v":0},null,null,null,null,"Ovladatelnost bez vodítka",null,null,null,30,20,20,15,15,15,"X"]
[null,null,null,null,null,null,null,"Odložení v sedě",null,null,null,15,15,10,10,10,10,10]
["Narozen:",null,{"$f":"DATE(IF(MID(Soupiska!C56,1,2)*1 > YEAR(TODAY())-2000, 1900, 2000) + MID(Soupiska!C56,1,2), MOD(MID(Soupiska!C56,3,2),50), MID(Soupiska!C56,5,2))","v":{"$error":"#VALUE!"}},null,null,null,null,"Odložení vleže s přivoláním",null,null,null,15,15,10,10,10,10,10]
["Člen ZO:",null,{"$f":"Soupiska!I56","v":0},null,null,null,null,"Odložení ve stoje",null,null,null," X"," X",10," X",10,10," X"]
[null,null,null,null,null,null,null,"Aport volný",null,null,null," X",10,15,15,10,10," X"]
["Data akce",null,null,null,null,null,null,"Skok přes překážku - 2 směry",null,null,null," X"," X"," X",15," X"," X"," X"]
["Datum:",null,{"$f":"Soupiska!T6","v":"00:00:00"},null,null,null,null,"Aport skokem",null,null,null," X"," X"," X","X",15,15," X"]
["Místo:",null,{"$f":"Soupiska!P5","v":0},null,null,null,null,"Šplh jedním směrem",null,null,null," X"," X"," X",15,10," X"," X"]
["Ved.zk.:",null,{"$f":"Soupiska!D6","v":0},null,null,null,null,"Aport šplhem",null,null,null," X"," X",15," X","X",10," X"]
["Rozhodčí:",null,{"$f":"Soupiska!P6","v":0},null,null,null,null,"Vysílání vpřed s odložením",null,null,null," X",10,10,10,10,10," X"]
[" ",null,null,null,null,null,null,"Odložení",null,null,null,10,10,10,10,10,10,10]
["        FCI - StPr 1 - 3 ",null,null,null,null,null,null,"Celkem",null,null,null,100,100,100,100,100,100,60,{"$f":"SUM(S17:T28)","v":0}]
["Ovladatelnost",null,null,null,20,null,null,"FCI - BH/VT: Chování psa v doprav. ruchu/zkouška AD",null,null,null,null,null,null,null,"XX"]
["Intenzita vyhledání",null,null,null,20]
["Vytrvalost",null,null,null,10," ",null,null,null,null,null,null,null,null,null,null,null,null,null," "]
["Chování psovoda",null,null,null,10,null,null,"C - OBRANA",null,null,null,"FCI - IGP 1",null,null,"  FCI - IGP 2",null,null," FCI - IGP 3"]
["Nalezení předmětů",null,null,null,40," ",null,null,null,null,null,"FCI - GPr1, SPr1",null,null,"FCI - GPr2, SPr2",null,null,"FCI - GPr3, SPr3"]
["Celkem",null,null,null,100,{"$f":"SUM(F30:F34)","v":0},null,"Vyhledání figuranta",null,null,null,5,null,null,5,null,null,10]
[null,null,null,null,null,null,null,"Vystavení a vyštěkání",null,null,null,15,null,null,15,null,null,15]
["Výsledek zkoušky",null,null,null,null,null,null,"Pokus o útěk",null,null,null,20,null,null,15,null,null,10]
["A - stopa",null,null,{"$f":"F35+L10+N10+P10+S10","v":0},null,null,null,"Obrana psa při hlídání",null,null,null,30,null,null,20,null,null,15]
["B - poslušnost",null,null,{"$f":"S29","v":0},null,null,null,"Zadní doprovod",null,null,null," X"," X",null,5,null,null,5]
["C - obrana",null,null,{"$f":"M43+P43+S43","v":0},null,null,null,"Přepad psa při doprovodu",null,null,null," X"," X",null," X"," X",null,15]
["D - BH-VT/AD",null,null,{"$f":"IF(P30=\"XX\",\" \",P30)","v":" "},null,null,null,"Útok na psa z pohybu",null,null,null,30,null,null,20,null,null,15]
["CELKEM",null,{"$f":"VLOOKUP(D3,TYPY!A$1:D$65536,4,FALSE)","v":{"$error":"#N/A"}},{"$f":"SUM(D38:F40)","v":0},null,null,null,"Obrana psa při hlídání",null,null,null," X"," X",null,20,null,null,15]
["ZNÁMKA",null,null,{"$f":"IF(EXACT(D3,\"FCI-IGP-IFH\"),IF(SUM(R9,T9)<70,\"N\",VLOOKUP(D42,TYPY!$D$44:$E$105,2,FALSE)),IF(D42>0,IFERROR(IF(C42=300,VLOOKUP(D42,TYPY!$B$44:$C$135,2,FALSE),IF(C42=200,VLOOKUP(D42,TYPY!$D$44:$E$105,2,FALSE),IF(C42=100,VLOOKUP(D42,TYPY!$F$44:$G$75,2,FALSE),IF(AND(C42=60,D41=\"Obstál\"),VLOOKUP(D42,TYPY!$H$44:$I$63,2,FALSE),\"N\")))),\"N\"),\" \"))","v":" "},null,null,null,"Celkem",null,null,null,100,{"$f":"SUM(M35:N42)","v":0},null,100,{"$f":"SUM(P35:Q42)","v":0},null,100,{"$f":"SUM(S35:T42)","v":0}]
[]
[]
[]
[]
[" ",null,null,null,null,null,null,null,null," ",null,null,null," "]
["Razítko organizace",null,null,null,null,null,null,null,null,"Podpis vedoucího zkoušek",null,null,null,"Podpis a razítko rozhodčího"]

{"sheet":"MZR16","index":15,"n_rows":49,"n_cols":20,"rows_kept":49,"cut":false,"hidden":true,"merged":[[48,0,48,7],[48,9,48,11],[48,13,48,19],[42,0,42,2],[42,3,42,5],[42,7,42,10],[42,12,42,13],[42,15,42,16],[42,18,42,19],[41,0,41,1],[41,3,41,5],[41,7,41,10],[41,12,41,13],[41,15,41,16],[41,18,41,19],[40,0,40,2],[40,3,40,5],[40,7,40,10],[40,12,40,13],[40,15,40,16],[40,18,40,19],[39,0,39,2],[39,3,39,5],[39,7,39,10],[39,12,39,13],[39,15,39,16],[39,18,39,19],[38,0,38,2],[38,3,38,5],[38,7,38,10],[38,12,38,13],[38,15,38,16],[38,18,38,19],[34,0,34,3],[34,7,34,10],[34,12,34,13],[34,15,34,16],[34,18,34,19],[37,0,37,2],[37,3,37,5],[37,7,37,10],[37,12,37,13],[37,15,37,16],[37,18,37,19],[35,7,35,10],[35,12,35,13],[35,15,35,16],[35,18,35,19],[36,0,36,5],[36,7,36,10],[36,12,36,13],[36,15,36,16],[36,18,36,19],[30,0,30,3],[31,0,31,3],[32,0,32,3],[32,7,33,10],[32,11,32,13],[32,14,32,16],[28,0,28,5],[28,7,28,10],[28,18,28,19],[29,0,29,3],[29,7,29,14],[29,15,29,19],[32,17,32,19],[33,0,33,3],[33,11,33,13],[33,14,33,16],[33,17,33,19],[26,0,26,1],[26,2,26,5],[26,7,26,10],[26,18,26,19],[27,7,27,10],[27,18,27,19],[24,0,24,1],[24,2,24,5],[24,7,24,10],[24,18,24,19],[25,0,25,1],[25,2,25,5],[25,7,25,10],[25,18,25,19],[21,18,21,19],[22,0,22,5],[22,7,22,10],[22,18,22,19],[23,0,23,1],[23,2,23,5],[23,7,23,10],[23,18,23,19],[18,18,18,19],[19,0,19,1],[19,2,19,5],[19,7,19,10],[19,18,19,19],[20,0,21,1],[20,2,21,5],[20,7,20,10],[20,18,20,19],[21,7,21,10],[16,0,16,1],[16,2,16,5],[16,7,16,10],[16,18,16,19],[17,0,17,1],[17,2,18,5],[17,7,17,10],[17,18,17,19],[18,0,18,1],[18,7,18,10],[12,17,15,17],[12,18,15,19],[13,0,13,1],[13,2,13,5],[13,14,15,14],[13,15,15,15],[13,16,15,16],[14,0,14,5],[15,0,15,1],[15,2,15,5],[12,0,12,1],[12,2,12,5],[12,7,15,10],[12,11,15,11],[12,12,15,12],[12,13,15,13],[9,16,9,17],[9,18,9,19],[10,0,10,1],[10,2,10,5],[11,0,11,1],[11,2,11,5],[6,14,6,15],[7,0,8,1],[7,2,8,5],[7,7,7,9],[8,7,8,9],[9,0,9,1],[9,2,9,5],[9,7,9,9],[0,6,0,19],[1,7,1,19],[2,0,3,2],[2,3,3,5],[2,7,2,19],[4,0,4,5],[4,7,6,9],[4,10,4,11],[4,12,4,13],[4,14,4,15],[4,16,4,19],[5,0,6,1],[5,2,6,5],[5,10,5,11],[5,12,5,13],[5,14,5,15],[5,16,5,17],[5,18,5,19],[6,10,6,11],[6,12,6,13]]}
[null,null,null,null,null,null," MORAVSKOSLEZSKÝ KYNOLOGICKÝ SVAZ, z. s."]
[null,null,null,null,null,null," ","Člen FCI prostřednictvím Českomoravské kynologické unie"]
["Druh a stupeň",null,null,{"$f":"IF(Soupiska!W57=\"M\",Soupiska!B57,\"NE\")","v":"NE"},null,null," ","POTVRZENÍ O VYKONANÉ ZKOUŠCE MZŘ"]
[]
["Data psa-feny",null,null,null,null,null,null,"A - STOPA",null,null,"FCI - IGP 1",null,"FCI - IGP 2",null,"FCI - IGP 3",null,"FCI - IGP IFH"]
["Jméno:",null,{"$f":"Soupiska!C57","v":0},null,null,null,null,null,null,null,"FCI - FPr 1",null,"FCI - FPr 2",null,"FCI - FPr 3",null,"Stopa č. 1",null,"Stopa č. 2"]
[null,null,null,null,null,null,null,null,null,null,"FCI - IFH 1",null,"FCI - IFH 2",null,"FCI - IFH 3",null,79," ",79]
["Chovná stanice:",null,{"$f":"Soupiska!E57","v":0},null,null,null,null,"Vlastní - cizí",null,null,79," ",79," ",79," ",21," ",21]
[null,null,null,null,null,null,null,"Předměty",null,null,21," ",21," ",21,null,100,{"$f":"SUM(R7:R8)","v":0},100,{"$f":"SUM(T7:T8)","v":0}]
["Plemeno:",null,{"$f":"Soupiska!I57","v":0},null,null,null,null,"Celkem",null,null,100,{"$f":"SUM(L8:L9)","v":0},100,{"$f":"SUM(N8:N9)","v":0},100,{"$f":"SUM(P8:P9)","v":0},200,null,{"$f":"SUM(R9,T9)","v":0}]
["Pohlaví:",null,{"$f":"Soupiska!K57","v":0}]
["Narozen:",null,{"$f":"Soupiska!L57","v":"00:00:00"},null,null,null,null,null,null,null,null,null,null,null,null," "]
["Č.záp.:",null,{"$f":"Soupiska!N57","v":0},null,null,null,null,"B - POSLUŠNOST",null,null,null,"FCI - IBGH 1","FCI - IBGH 2","FCI - IBGH 3","FCI - GPr 1-3, Upr 1-3",null,null,"FCI - BH/VT","BODY"]
["T.č./čip:",null,{"$f":"Soupiska!P57","v":0},null,null,null,null,null,null,null,null,null,null,null,"FCI - IGP 1   ","FCI - IGP 2              ","FCI - IGP 3"]
["Data psovoda"]
["Jméno:",null,{"$f":"Soupiska!C58","v":0}]
["Příjmení:",null,{"$f":"Soupiska!E58","v":0},null,null,null,null,"Ovladatelnost na vodítku",null,null,null,30,20," X"," X"," X","  X",30]
["Bydliště:",null,{"$f":"Soupiska!I58","v":0},null,null,null,null,"Ovladatelnost bez vodítka",null,null,null,30,20,20,15,15,15,"X"]
[null,null,null,null,null,null,null,"Odložení v sedě",null,null,null,15,15,10,10,10,10,10]
["Narozen:",null,{"$f":"DATE(IF(MID(Soupiska!C59,1,2)*1 > YEAR(TODAY())-2000, 1900, 2000) + MID(Soupiska!C59,1,2), MOD(MID(Soupiska!C59,3,2),50), MID(Soupiska!C59,5,2))","v":{"$error":"#VALUE!"}},null,null,null,null,"Odložení vleže s přivoláním",null,null,null,15,15,10,10,10,10,10]
["Člen ZO:",null,{"$f":"Soupiska!I59","v":0},null,null,null,null,"Odložení ve stoje",null,null,null," X"," X",10," X",10,10," X"]
[null,null,null,null,null,null,null,"Aport volný",null,null,null," X",10,15,15,10,10," X"]
["Data akce",null,null,null,null,null,null,"Skok přes překážku - 2 směry",null,null,null," X"," X"," X",15," X"," X"," X"]
["Datum:",null,{"$f":"Soupiska!T6","v":"00:00:00"},null,null,null,null,"Aport skokem",null,null,null," X"," X"," X","X",15,15," X"]
["Místo:",null,{"$f":"Soupiska!P5","v":0},null,null,null,null,"Šplh jedním směrem",null,null,null," X"," X"," X",15,10," X"," X"]
["Ved.zk.:",null,{"$f":"Soupiska!D6","v":0},null,null,null,null,"Aport šplhem",null,null,null," X"," X",15," X","X",10," X"]
["Rozhodčí:",null,{"$f":"Soupiska!P6","v":0},null,null,null,null,"Vysílání vpřed s odložením",null,null,null," X",10,10,10,10,10," X"]
[" ",null,null,null,null,null,null,"Odložení",null,null,null,10,10,10,10,10,10,10]
["        FCI - StPr 1 - 3 ",null,null,null,null,null,null,"Celkem",null,null,null,100,100,100,100,100,100,60,{"$f":"SUM(S17:T28)","v":0}]
["Ovladatelnost",null,null,null,20,null,null,"FCI - BH/VT: Chování psa v doprav. ruchu/zkouška AD",null,null,null,null,null,null,null,"XX"]
["Intenzita vyhledání",null,null,null,20]
["Vytrvalost",null,null,null,10," ",null,null,null,null,null,null,null,null,null,null,null,null,null," "]
["Chování psovoda",null,null,null,10,null,null,"C - OBRANA",null,null,null,"FCI - IGP 1",null,null,"  FCI - IGP 2",null,null," FCI - IGP 3"]
["Nalezení předmětů",null,null,null,40," ",null,null,null,null,null,"FCI - GPr1, SPr1",null,null,"FCI - GPr2, SPr2",null,null,"FCI - GPr3, SPr3"]
["Celkem",null,null,null,100,{"$f":"SUM(F30:F34)","v":0},null,"Vyhledání figuranta",null,null,null,5,null,null,5,null,null,10]
[null,null,null,null,null,null,null,"Vystavení a vyštěkání",null,null,null,15,null,null,15,null,null,15]
["Výsledek zkoušky",null,null,null,null,null,null,"Pokus o útěk",null,null,null,20,null,null,15,null,null,10]
["A - stopa",null,null,{"$f":"F35+L10+N10+P10+S10","v":0},null,null,null,"Obrana psa při hlídání",null,null,null,30,null,null,20,null,null,15]
["B - poslušnost",null,null,{"$f":"S29","v":0},null,null,null,"Zadní doprovod",null,null,null," X"," X",null,5,null,null,5]
["C - obrana",null,null,{"$f":"M43+P43+S43","v":0},null,null,null,"Přepad psa při doprovodu",null,null,null," X"," X",null," X"," X",null,15]
["D - BH-VT/AD",null,null,{"$f":"IF(P30=\"XX\",\" \",P30)","v":" "},null,null,null,"Útok na psa z pohybu",null,null,null,30,null,null,20,null,null,15]
["CELKEM",null,{"$f":"VLOOKUP(D3,TYPY!A$1:D$65536,4,FALSE)","v":{"$error":"#N/A"}},{"$f":"SUM(D38:F40)","v":0},null,null,null,"Obrana psa při hlídání",null,null,null," X"," X",null,20,null,null,15]
["ZNÁMKA",null,null,{"$f":"IF(EXACT(D3,\"FCI-IGP-IFH\"),IF(SUM(R9,T9)<70,\"N\",VLOOKUP(D42,TYPY!$D$44:$E$105,2,FALSE)),IF(D42>0,IFERROR(IF(C42=300,VLOOKUP(D42,TYPY!$B$44:$C$135,2,FALSE),IF(C42=200,VLOOKUP(D42,TYPY!$D$44:$E$105,2,FALSE),IF(C42=100,VLOOKUP(D42,TYPY!$F$44:$G$75,2,FALSE),IF(AND(C42=60,D41=\"Obstál\"),VLOOKUP(D42,TYPY!$H$44:$I$63,2,FALSE),\"N\")))),\"N\"),\" \"))","v":" "},null,null,null,"Celkem",null,null,null,100,{"$f":"SUM(M35:N42)","v":0},null,100,{"$f":"SUM(P35:Q42)","v":0},null,100,{"$f":"SUM(S35:T42)","v":0}]
[]
[]
[]
[]
[" ",null,null,null,null,null,null,null,null," ",null,null,null," "]
["Razítko organizace",null,null,null,null,null,null,null,null,"Podpis vedoucího zkoušek",null,null,null,"Podpis a razítko rozhodčího"]

{"sheet":"MZR17","index":16,"n_rows":49,"n_cols":20,"rows_kept":49,"cut":false,"hidden":true,"merged":[[48,0,48,7],[48,9,48,11],[48,13,48,19],[42,0,42,2],[42,3,42,5],[42,7,42,10],[42,12,42,13],[42,15,42,16],[42,18,42,19],[41,0,41,1],[41,3,41,5],[41,7,41,10],[41,12,41,13],[41,15,41,16],[41,18,41,19],[40,0,40,2],[40,3,40,5],[40,7,40,10],[40,12,40,13],[40,15,40,16],[40,18,40,19],[39,0,39,2],[39,3,39,5],[39,7,39,10],[39,12,39,13],[39,15,39,16],[39,18,39,19],[38,0,38,2],[38,3,38,5],[38,7,38,10],[38,12,38,13],[38,15,38,16],[38,18,38,19],[34,0,34,3],[34,7,34,10],[34,12,34,13],[34,15,34,16],[34,18,34,19],[37,0,37,2],[37,3,37,5],[37,7,37,10],[37,12,37,13],[37,15,37,16],[37,18,37,19],[35,7,35,10],[35,12,35,13],[35,15,35,16],[35,18,35,19],[36,0,36,5],[36,7,36,10],[36,12,36,13],[36,15,36,16],[36,18,36,19],[30,0,30,3],[31,0,31,3],[32,0,32,3],[32,7,33,10],[32,11,32,13],[32,14,32,16],[28,0,28,5],[28,7,28,10],[28,18,28,19],[29,0,29,3],[29,7,29,14],[29,15,29,19],[32,17,32,19],[33,0,33,3],[33,11,33,13],[33,14,33,16],[33,17,33,19],[26,0,26,1],[26,2,26,5],[26,7,26,10],[26,18,26,19],[27,7,27,10],[27,18,27,19],[24,0,24,1],[24,2,24,5],[24,7,24,10],[24,18,24,19],[25,0,25,1],[25,2,25,5],[25,7,25,10],[25,18,25,19],[21,18,21,19],[22,0,22,5],[22,7,22,10],[22,18,22,19],[23,0,23,1],[23,2,23,5],[23,7,23,10],[23,18,23,19],[18,18,18,19],[19,0,19,1],[19,2,19,5],[19,7,19,10],[19,18,19,19],[20,0,21,1],[20,2,21,5],[20,7,20,10],[20,18,20,19],[21,7,21,10],[16,0,16,1],[16,2,16,5],[16,7,16,10],[16,18,16,19],[17,0,17,1],[17,2,18,5],[17,7,17,10],[17,18,17,19],[18,0,18,1],[18,7,18,10],[12,17,15,17],[12,18,15,19],[13,0,13,1],[13,2,13,5],[13,14,15,14],[13,15,15,15],[13,16,15,16],[14,0,14,5],[15,0,15,1],[15,2,15,5],[12,0,12,1],[12,2,12,5],[12,7,15,10],[12,11,15,11],[12,12,15,12],[12,13,15,13],[9,16,9,17],[9,18,9,19],[10,0,10,1],[10,2,10,5],[11,0,11,1],[11,2,11,5],[6,14,6,15],[7,0,8,1],[7,2,8,5],[7,7,7,9],[8,7,8,9],[9,0,9,1],[9,2,9,5],[9,7,9,9],[0,6,0,19],[1,7,1,19],[2,0,3,2],[2,3,3,5],[2,7,2,19],[4,0,4,5],[4,7,6,9],[4,10,4,11],[4,12,4,13],[4,14,4,15],[4,16,4,19],[5,0,6,1],[5,2,6,5],[5,10,5,11],[5,12,5,13],[5,14,5,15],[5,16,5,17],[5,18,5,19],[6,10,6,11],[6,12,6,13]]}
[null,null,null,null,null,null," MORAVSKOSLEZSKÝ KYNOLOGICKÝ SVAZ, z. s."]
[null,null,null,null,null,null," ","Člen FCI prostřednictvím Českomoravské kynologické unie"]
["Druh a stupeň",null,null,{"$f":"IF(Soupiska!W60=\"M\",Soupiska!B60,\"NE\")","v":"NE"},null,null," ","POTVRZENÍ O VYKONANÉ ZKOUŠCE MZŘ"]
[]
["Data psa-feny",null,null,null,null,null,null,"A - STOPA",null,null,"FCI - IGP 1",null,"FCI - IGP 2",null,"FCI - IGP 3",null,"FCI - IGP IFH"]
["Jméno:",null,{"$f":"Soupiska!C60","v":0},null,null,null,null,null,null,null,"FCI - FPr 1",null,"FCI - FPr 2",null,"FCI - FPr 3",null,"Stopa č. 1",null,"Stopa č. 2"]
[null,null,null,null,null,null,null,null,null,null,"FCI - IFH 1",null,"FCI - IFH 2",null,"FCI - IFH 3",null,79," ",79]
["Chovná stanice:",null,{"$f":"Soupiska!E60","v":0},null,null,null,null,"Vlastní - cizí",null,null,79," ",79," ",79," ",21," ",21]
[null,null,null,null,null,null,null,"Předměty",null,null,21," ",21," ",21,null,100,{"$f":"SUM(R7:R8)","v":0},100,{"$f":"SUM(T7:T8)","v":0}]
["Plemeno:",null,{"$f":"Soupiska!I60","v":0},null,null,null,null,"Celkem",null,null,100,{"$f":"SUM(L8:L9)","v":0},100,{"$f":"SUM(N8:N9)","v":0},100,{"$f":"SUM(P8:P9)","v":0},200,null,{"$f":"SUM(R9,T9)","v":0}]
["Pohlaví:",null,{"$f":"Soupiska!K60","v":0}]
["Narozen:",null,{"$f":"Soupiska!L60","v":"00:00:00"},null,null,null,null,null,null,null,null,null,null,null,null," "]
["Č.záp.:",null,{"$f":"Soupiska!N60","v":0},null,null,null,null,"B - POSLUŠNOST",null,null,null,"FCI - IBGH 1","FCI - IBGH 2","FCI - IBGH 3","FCI - GPr 1-3, Upr 1-3",null,null,"FCI - BH/VT","BODY"]
["T.č./čip:",null,{"$f":"Soupiska!P60","v":0},null,null,null,null,null,null,null,null,null,null,null,"FCI - IGP 1   ","FCI - IGP 2              ","FCI - IGP 3"]
["Data psovoda"]
["Jméno:",null,{"$f":"Soupiska!C61","v":0}]
["Příjmení:",null,{"$f":"Soupiska!E61","v":0},null,null,null,null,"Ovladatelnost na vodítku",null,null,null,30,20," X"," X"," X","  X",30]
["Bydliště:",null,{"$f":"Soupiska!I61","v":0},null,null,null,null,"Ovladatelnost bez vodítka",null,null,null,30,20,20,15,15,15,"X"]
[null,null,null,null,null,null,null,"Odložení v sedě",null,null,null,15,15,10,10,10,10,10]
["Narozen:",null,{"$f":"DATE(IF(MID(Soupiska!C62,1,2)*1 > YEAR(TODAY())-2000, 1900, 2000) + MID(Soupiska!C62,1,2), MOD(MID(Soupiska!C62,3,2),50), MID(Soupiska!C62,5,2))","v":{"$error":"#VALUE!"}},null,null,null,null,"Odložení vleže s přivoláním",null,null,null,15,15,10,10,10,10,10]
["Člen ZO:",null,{"$f":"Soupiska!I62","v":0},null,null,null,null,"Odložení ve stoje",null,null,null," X"," X",10," X",10,10," X"]
[null,null,null,null,null,null,null,"Aport volný",null,null,null," X",10,15,15,10,10," X"]
["Data akce",null,null,null,null,null,null,"Skok přes překážku - 2 směry",null,null,null," X"," X"," X",15," X"," X"," X"]
["Datum:",null,{"$f":"Soupiska!T6","v":"00:00:00"},null,null,null,null,"Aport skokem",null,null,null," X"," X"," X","X",15,15," X"]
["Místo:",null,{"$f":"Soupiska!P5","v":0},null,null,null,null,"Šplh jedním směrem",null,null,null," X"," X"," X",15,10," X"," X"]
["Ved.zk.:",null,{"$f":"Soupiska!D6","v":0},null,null,null,null,"Aport šplhem",null,null,null," X"," X",15," X","X",10," X"]
["Rozhodčí:",null,{"$f":"Soupiska!P6","v":0},null,null,null,null,"Vysílání vpřed s odložením",null,null,null," X",10,10,10,10,10," X"]
[" ",null,null,null,null,null,null,"Odložení",null,null,null,10,10,10,10,10,10,10]
["        FCI - StPr 1 - 3 ",null,null,null,null,null,null,"Celkem",null,null,null,100,100,100,100,100,100,60,{"$f":"SUM(S17:T28)","v":0}]
["Ovladatelnost",null,null,null,20,null,null,"FCI - BH/VT: Chování psa v doprav. ruchu/zkouška AD",null,null,null,null,null,null,null,"XX"]
["Intenzita vyhledání",null,null,null,20]
["Vytrvalost",null,null,null,10," ",null,null,null,null,null,null,null,null,null,null,null,null,null," "]
["Chování psovoda",null,null,null,10,null,null,"C - OBRANA",null,null,null,"FCI - IGP 1",null,null,"  FCI - IGP 2",null,null," FCI - IGP 3"]
["Nalezení předmětů",null,null,null,40," ",null,null,null,null,null,"FCI - GPr1, SPr1",null,null,"FCI - GPr2, SPr2",null,null,"FCI - GPr3, SPr3"]
["Celkem",null,null,null,100,{"$f":"SUM(F30:F34)","v":0},null,"Vyhledání figuranta",null,null,null,5,null,null,5,null,null,10]
[null,null,null,null,null,null,null,"Vystavení a vyštěkání",null,null,null,15,null,null,15,null,null,15]
["Výsledek zkoušky",null,null,null,null,null,null,"Pokus o útěk",null,null,null,20,null,null,15,null,null,10]
["A - stopa",null,null,{"$f":"F35+L10+N10+P10+S10","v":0},null,null,null,"Obrana psa při hlídání",null,null,null,30,null,null,20,null,null,15]
["B - poslušnost",null,null,{"$f":"S29","v":0},null,null,null,"Zadní doprovod",null,null,null," X"," X",null,5,null,null,5]
["C - obrana",null,null,{"$f":"M43+P43+S43","v":0},null,null,null,"Přepad psa při doprovodu",null,null,null," X"," X",null," X"," X",null,15]
["D - BH-VT/AD",null,null,{"$f":"IF(P30=\"XX\",\" \",P30)","v":" "},null,null,null,"Útok na psa z pohybu",null,null,null,30,null,null,20,null,null,15]
["CELKEM",null,{"$f":"VLOOKUP(D3,TYPY!A$1:D$65536,4,FALSE)","v":{"$error":"#N/A"}},{"$f":"SUM(D38:F40)","v":0},null,null,null,"Obrana psa při hlídání",null,null,null," X"," X",null,20,null,null,15]
["ZNÁMKA",null,null,{"$f":"IF(EXACT(D3,\"FCI-IGP-IFH\"),IF(SUM(R9,T9)<70,\"N\",VLOOKUP(D42,TYPY!$D$44:$E$105,2,FALSE)),IF(D42>0,IFERROR(IF(C42=300,VLOOKUP(D42,TYPY!$B$44:$C$135,2,FALSE),IF(C42=200,VLOOKUP(D42,TYPY!$D$44:$E$105,2,FALSE),IF(C42=100,VLOOKUP(D42,TYPY!$F$44:$G$75,2,FALSE),IF(AND(C42=60,D41=\"Obstál\"),VLOOKUP(D42,TYPY!$H$44:$I$63,2,FALSE),\"N\")))),\"N\"),\" \"))","v":" "},null,null,null,"Celkem",null,null,null,100,{"$f":"SUM(M35:N42)","v":0},null,100,{"$f":"SUM(P35:Q42)","v":0},null,100,{"$f":"SUM(S35:T42)","v":0}]
[]
[]
[]
[]
[" ",null,null,null,null,null,null,null,null," ",null,null,null," "]
["Razítko organizace",null,null,null,null,null,null,null,null,"Podpis vedoucího zkoušek",null,null,null,"Podpis a razítko rozhodčího"]

{"sheet":"MZR18","index":17,"n_rows":49,"n_cols":20,"rows_kept":49,"cut":false,"hidden":true,"merged":[[48,0,48,7],[48,9,48,11],[48,13,48,19],[42,0,42,2],[42,3,42,5],[42,7,42,10],[42,12,42,13],[42,15,42,16],[42,18,42,19],[41,0,41,1],[41,3,41,5],[41,7,41,10],[41,12,41,13],[41,15,41,16],[41,18,41,19],[40,0,40,2],[40,3,40,5],[40,7,40,10],[40,12,40,13],[40,15,40,16],[40,18,40,19],[39,0,39,2],[39,3,39,5],[39,7,39,10],[39,12,39,13],[39,15,39,16],[39,18,39,19],[38,0,38,2],[38,3,38,5],[38,7,38,10],[38,12,38,13],[38,15,38,16],[38,18,38,19],[34,0,34,3],[34,7,34,10],[34,12,34,13],[34,15,34,16],[34,18,34,19],[37,0,37,2],[37,3,37,5],[37,7,37,10],[37,12,37,13],[37,15,37,16],[37,18,37,19],[35,7,35,10],[35,12,35,13],[35,15,35,16],[35,18,35,19],[36,0,36,5],[36,7,36,10],[36,12,36,13],[36,15,36,16],[36,18,36,19],[30,0,30,3],[31,0,31,3],[32,0,32,3],[32,7,33,10],[32,11,32,13],[32,14,32,16],[28,0,28,5],[28,7,28,10],[28,18,28,19],[29,0,29,3],[29,7,29,14],[29,15,29,19],[32,17,32,19],[33,0,33,3],[33,11,33,13],[33,14,33,16],[33,17,33,19],[26,0,26,1],[26,2,26,5],[26,7,26,10],[26,18,26,19],[27,7,27,10],[27,18,27,19],[24,0,24,1],[24,2,24,5],[24,7,24,10],[24,18,24,19],[25,0,25,1],[25,2,25,5],[25,7,25,10],[25,18,25,19],[21,18,21,19],[22,0,22,5],[22,7,22,10],[22,18,22,19],[23,0,23,1],[23,2,23,5],[23,7,23,10],[23,18,23,19],[18,18,18,19],[19,0,19,1],[19,2,19,5],[19,7,19,10],[19,18,19,19],[20,0,21,1],[20,2,21,5],[20,7,20,10],[20,18,20,19],[21,7,21,10],[16,0,16,1],[16,2,16,5],[16,7,16,10],[16,18,16,19],[17,0,17,1],[17,2,18,5],[17,7,17,10],[17,18,17,19],[18,0,18,1],[18,7,18,10],[12,17,15,17],[12,18,15,19],[13,0,13,1],[13,2,13,5],[13,14,15,14],[13,15,15,15],[13,16,15,16],[14,0,14,5],[15,0,15,1],[15,2,15,5],[12,0,12,1],[12,2,12,5],[12,7,15,10],[12,11,15,11],[12,12,15,12],[12,13,15,13],[9,16,9,17],[9,18,9,19],[10,0,10,1],[10,2,10,5],[11,0,11,1],[11,2,11,5],[6,14,6,15],[7,0,8,1],[7,2,8,5],[7,7,7,9],[8,7,8,9],[9,0,9,1],[9,2,9,5],[9,7,9,9],[0,6,0,19],[1,7,1,19],[2,0,3,2],[2,3,3,5],[2,7,2,19],[4,0,4,5],[4,7,6,9],[4,10,4,11],[4,12,4,13],[4,14,4,15],[4,16,4,19],[5,0,6,1],[5,2,6,5],[5,10,5,11],[5,12,5,13],[5,14,5,15],[5,16,5,17],[5,18,5,19],[6,10,6,11],[6,12,6,13]]}
[null,null,null,null,null,null," MORAVSKOSLEZSKÝ KYNOLOGICKÝ SVAZ, z. s."]
[null,null,null,null,null,null," ","Člen FCI prostřednictvím Českomoravské kynologické unie"]
["Druh a stupeň",null,null,{"$f":"IF(Soupiska!W63=\"M\",Soupiska!B63,\"NE\")","v":"NE"},null,null," ","POTVRZENÍ O VYKONANÉ ZKOUŠCE MZŘ"]
[]
["Data psa-feny",null,null,null,null,null,null,"A - STOPA",null,null,"FCI - IGP 1",null,"FCI - IGP 2",null,"FCI - IGP 3",null,"FCI - IGP IFH"]
["Jméno:",null,{"$f":"Soupiska!C63","v":0},null,null,null,null,null,null,null,"FCI - FPr 1",null,"FCI - FPr 2",null,"FCI - FPr 3",null,"Stopa č. 1",null,"Stopa č. 2"]
[null,null,null,null,null,null,null,null,null,null,"FCI - IFH 1",null,"FCI - IFH 2",null,"FCI - IFH 3",null,79," ",79]
["Chovná stanice:",null,{"$f":"Soupiska!E63","v":0},null,null,null,null,"Vlastní - cizí",null,null,79," ",79," ",79," ",21," ",21]
[null,null,null,null,null,null,null,"Předměty",null,null,21," ",21," ",21,null,100,{"$f":"SUM(R7:R8)","v":0},100,{"$f":"SUM(T7:T8)","v":0}]
["Plemeno:",null,{"$f":"Soupiska!I63","v":0},null,null,null,null,"Celkem",null,null,100,{"$f":"SUM(L8:L9)","v":0},100,{"$f":"SUM(N8:N9)","v":0},100,{"$f":"SUM(P8:P9)","v":0},200,null,{"$f":"SUM(R9,T9)","v":0}]
["Pohlaví:",null,{"$f":"Soupiska!K63","v":0}]
["Narozen:",null,{"$f":"Soupiska!L63","v":"00:00:00"},null,null,null,null,null,null,null,null,null,null,null,null," "]
["Č.záp.:",null,{"$f":"Soupiska!N63","v":0},null,null,null,null,"B - POSLUŠNOST",null,null,null,"FCI - IBGH 1","FCI - IBGH 2","FCI - IBGH 3","FCI - GPr 1-3, Upr 1-3",null,null,"FCI - BH/VT","BODY"]
["T.č./čip:",null,{"$f":"Soupiska!P63","v":0},null,null,null,null,null,null,null,null,null,null,null,"FCI - IGP 1   ","FCI - IGP 2              ","FCI - IGP 3"]
["Data psovoda"]
["Jméno:",null,{"$f":"Soupiska!C64","v":0}]
["Příjmení:",null,{"$f":"Soupiska!E64","v":0},null,null,null,null,"Ovladatelnost na vodítku",null,null,null,30,20," X"," X"," X","  X",30]
["Bydliště:",null,{"$f":"Soupiska!I64","v":0},null,null,null,null,"Ovladatelnost bez vodítka",null,null,null,30,20,20,15,15,15,"X"]
[null,null,null,null,null,null,null,"Odložení v sedě",null,null,null,15,15,10,10,10,10,10]
["Narozen:",null,{"$f":"DATE(IF(MID(Soupiska!C65,1,2)*1 > YEAR(TODAY())-2000, 1900, 2000) + MID(Soupiska!C65,1,2), MOD(MID(Soupiska!C65,3,2),50), MID(Soupiska!C65,5,2))","v":{"$error":"#VALUE!"}},null,null,null,null,"Odložení vleže s přivoláním",null,null,null,15,15,10,10,10,10,10]
["Člen ZO:",null,{"$f":"Soupiska!I65","v":0},null,null,null,null,"Odložení ve stoje",null,null,null," X"," X",10," X",10,10," X"]
[null,null,null,null,null,null,null,"Aport volný",null,null,null," X",10,15,15,10,10," X"]
["Data akce",null,null,null,null,null,null,"Skok přes překážku - 2 směry",null,null,null," X"," X"," X",15," X"," X"," X"]
["Datum:",null,{"$f":"Soupiska!T6","v":"00:00:00"},null,null,null,null,"Aport skokem",null,null,null," X"," X"," X","X",15,15," X"]
["Místo:",null,{"$f":"Soupiska!P5","v":0},null,null,null,null,"Šplh jedním směrem",null,null,null," X"," X"," X",15,10," X"," X"]
["Ved.zk.:",null,{"$f":"Soupiska!D6","v":0},null,null,null,null,"Aport šplhem",null,null,null," X"," X",15," X","X",10," X"]
["Rozhodčí:",null,{"$f":"Soupiska!P6","v":0},null,null,null,null,"Vysílání vpřed s odložením",null,null,null," X",10,10,10,10,10," X"]
[" ",null,null,null,null,null,null,"Odložení",null,null,null,10,10,10,10,10,10,10]
["        FCI - StPr 1 - 3 ",null,null,null,null,null,null,"Celkem",null,null,null,100,100,100,100,100,100,60,{"$f":"SUM(S17:T28)","v":0}]
["Ovladatelnost",null,null,null,20,null,null,"FCI - BH/VT: Chování psa v doprav. ruchu/zkouška AD",null,null,null,null,null,null,null,"XX"]
["Intenzita vyhledání",null,null,null,20]
["Vytrvalost",null,null,null,10," ",null,null,null,null,null,null,null,null,null,null,null,null,null," "]
["Chování psovoda",null,null,null,10,null,null,"C - OBRANA",null,null,null,"FCI - IGP 1",null,null,"  FCI - IGP 2",null,null," FCI - IGP 3"]
["Nalezení předmětů",null,null,null,40," ",null,null,null,null,null,"FCI - GPr1, SPr1",null,null,"FCI - GPr2, SPr2",null,null,"FCI - GPr3, SPr3"]
["Celkem",null,null,null,100,{"$f":"SUM(F30:F34)","v":0},null,"Vyhledání figuranta",null,null,null,5,null,null,5,null,null,10]
[null,null,null,null,null,null,null,"Vystavení a vyštěkání",null,null,null,15,null,null,15,null,null,15]
["Výsledek zkoušky",null,null,null,null,null,null,"Pokus o útěk",null,null,null,20,null,null,15,null,null,10]
["A - stopa",null,null,{"$f":"F35+L10+N10+P10+S10","v":0},null,null,null,"Obrana psa při hlídání",null,null,null,30,null,null,20,null,null,15]
["B - poslušnost",null,null,{"$f":"S29","v":0},null,null,null,"Zadní doprovod",null,null,null," X"," X",null,5,null,null,5]
["C - obrana",null,null,{"$f":"M43+P43+S43","v":0},null,null,null,"Přepad psa při doprovodu",null,null,null," X"," X",null," X"," X",null,15]
["D - BH-VT/AD",null,null,{"$f":"IF(P30=\"XX\",\" \",P30)","v":" "},null,null,null,"Útok na psa z pohybu",null,null,null,30,null,null,20,null,null,15]
["CELKEM",null,{"$f":"VLOOKUP(D3,TYPY!A$1:D$65536,4,FALSE)","v":{"$error":"#N/A"}},{"$f":"SUM(D38:F40)","v":0},null,null,null,"Obrana psa při hlídání",null,null,null," X"," X",null,20,null,null,15]
["ZNÁMKA",null,null,{"$f":"IF(EXACT(D3,\"FCI-IGP-IFH\"),IF(SUM(R9,T9)<70,\"N\",VLOOKUP(D42,TYPY!$D$44:$E$105,2,FALSE)),IF(D42>0,IFERROR(IF(C42=300,VLOOKUP(D42,TYPY!$B$44:$C$135,2,FALSE),IF(C42=200,VLOOKUP(D42,TYPY!$D$44:$E$105,2,FALSE),IF(C42=100,VLOOKUP(D42,TYPY!$F$44:$G$75,2,FALSE),IF(AND(C42=60,D41=\"Obstál\"),VLOOKUP(D42,TYPY!$H$44:$I$63,2,FALSE),\"N\")))),\"N\"),\" \"))","v":" "},null,null,null,"Celkem",null,null,null,100,{"$f":"SUM(M35:N42)","v":0},null,100,{"$f":"SUM(P35:Q42)","v":0},null,100,{"$f":"SUM(S35:T42)","v":0}]
[]
[]
[]
[]
[" ",null,null,null,null,null,null,null,null," ",null,null,null," "]
["Razítko organizace",null,null,null,null,null,null,null,null,"Podpis vedoucího zkoušek",null,null,null,"Podpis a razítko rozhodčího"]

{"sheet":"MZR19","index":18,"n_rows":49,"n_cols":20,"rows_kept":49,"cut":false,"hidden":true,"merged":[[48,0,48,7],[48,9,48,11],[48,13,48,19],[42,0,42,2],[42,3,42,5],[42,7,42,10],[42,12,42,13],[42,15,42,16],[42,18,42,19],[41,0,41,1],[41,3,41,5],[41,7,41,10],[41,12,41,13],[41,15,41,16],[41,18,41,19],[40,0,40,2],[40,3,40,5],[40,7,40,10],[40,12,40,13],[40,15,40,16],[40,18,40,19],[39,0,39,2],[39,3,39,5],[39,7,39,10],[39,12,39,13],[39,15,39,16],[39,18,39,19],[38,0,38,2],[38,3,38,5],[38,7,38,10],[38,12,38,13],[38,15,38,16],[38,18,38,19],[34,0,34,3],[34,7,34,10],[34,12,34,13],[34,15,34,16],[34,18,34,19],[37,0,37,2],[37,3,37,5],[37,7,37,10],[37,12,37,13],[37,15,37,16],[37,18,37,19],[35,7,35,10],[35,12,35,13],[35,15,35,16],[35,18,35,19],[36,0,36,5],[36,7,36,10],[36,12,36,13],[36,15,36,16],[36,18,36,19],[30,0,30,3],[31,0,31,3],[32,0,32,3],[32,7,33,10],[32,11,32,13],[32,14,32,16],[28,0,28,5],[28,7,28,10],[28,18,28,19],[29,0,29,3],[29,7,29,14],[29,15,29,19],[32,17,32,19],[33,0,33,3],[33,11,33,13],[33,14,33,16],[33,17,33,19],[26,0,26,1],[26,2,26,5],[26,7,26,10],[26,18,26,19],[27,7,27,10],[27,18,27,19],[24,0,24,1],[24,2,24,5],[24,7,24,10],[24,18,24,19],[25,0,25,1],[25,2,25,5],[25,7,25,10],[25,18,25,19],[21,18,21,19],[22,0,22,5],[22,7,22,10],[22,18,22,19],[23,0,23,1],[23,2,23,5],[23,7,23,10],[23,18,23,19],[18,18,18,19],[19,0,19,1],[19,2,19,5],[19,7,19,10],[19,18,19,19],[20,0,21,1],[20,2,21,5],[20,7,20,10],[20,18,20,19],[21,7,21,10],[16,0,16,1],[16,2,16,5],[16,7,16,10],[16,18,16,19],[17,0,17,1],[17,2,18,5],[17,7,17,10],[17,18,17,19],[18,0,18,1],[18,7,18,10],[12,17,15,17],[12,18,15,19],[13,0,13,1],[13,2,13,5],[13,14,15,14],[13,15,15,15],[13,16,15,16],[14,0,14,5],[15,0,15,1],[15,2,15,5],[12,0,12,1],[12,2,12,5],[12,7,15,10],[12,11,15,11],[12,12,15,12],[12,13,15,13],[9,16,9,17],[9,18,9,19],[10,0,10,1],[10,2,10,5],[11,0,11,1],[11,2,11,5],[6,14,6,15],[7,0,8,1],[7,2,8,5],[7,7,7,9],[8,7,8,9],[9,0,9,1],[9,2,9,5],[9,7,9,9],[0,6,0,19],[1,7,1,19],[2,0,3,2],[2,3,3,5],[2,7,2,19],[4,0,4,5],[4,7,6,9],[4,10,4,11],[4,12,4,13],[4,14,4,15],[4,16,4,19],[5,0,6,1],[5,2,6,5],[5,10,5,11],[5,12,5,13],[5,14,5,15],[5,16,5,17],[5,18,5,19],[6,10,6,11],[6,12,6,13]]}
[null,null,null,null,null,null," MORAVSKOSLEZSKÝ KYNOLOGICKÝ SVAZ, z. s."]
[null,null,null,null,null,null," ","Člen FCI prostřednictvím Českomoravské kynologické unie"]
["Druh a stupeň",null,null,{"$f":"IF(Soupiska!W66=\"M\",Soupiska!B66,\"NE\")","v":"NE"},null,null," ","POTVRZENÍ O VYKONANÉ ZKOUŠCE MZŘ"]
[]
["Data psa-feny",null,null,null,null,null,null,"A - STOPA",null,null,"FCI - IGP 1",null,"FCI - IGP 2",null,"FCI - IGP 3",null,"FCI - IGP IFH"]
["Jméno:",null,{"$f":"Soupiska!C66","v":0},null,null,null,null,null,null,null,"FCI - FPr 1",null,"FCI - FPr 2",null,"FCI - FPr 3",null,"Stopa č. 1",null,"Stopa č. 2"]
[null,null,null,null,null,null,null,null,null,null,"FCI - IFH 1",null,"FCI - IFH 2",null,"FCI - IFH 3",null,79," ",79]
["Chovná stanice:",null,{"$f":"Soupiska!E66","v":0},null,null,null,null,"Vlastní - cizí",null,null,79," ",79," ",79," ",21," ",21]
[null,null,null,null,null,null,null,"Předměty",null,null,21," ",21," ",21,null,100,{"$f":"SUM(R7:R8)","v":0},100,{"$f":"SUM(T7:T8)","v":0}]
["Plemeno:",null,{"$f":"Soupiska!I66","v":0},null,null,null,null,"Celkem",null,null,100,{"$f":"SUM(L8:L9)","v":0},100,{"$f":"SUM(N8:N9)","v":0},100,{"$f":"SUM(P8:P9)","v":0},200,null,{"$f":"SUM(R9,T9)","v":0}]
["Pohlaví:",null,{"$f":"Soupiska!K66","v":0}]
["Narozen:",null,{"$f":"Soupiska!L66","v":"00:00:00"},null,null,null,null,null,null,null,null,null,null,null,null," "]
["Č.záp.:",null,{"$f":"Soupiska!N66","v":0},null,null,null,null,"B - POSLUŠNOST",null,null,null,"FCI - IBGH 1","FCI - IBGH 2","FCI - IBGH 3","FCI - GPr 1-3, Upr 1-3",null,null,"FCI - BH/VT","BODY"]
["T.č./čip:",null,{"$f":"Soupiska!P66","v":0},null,null,null,null,null,null,null,null,null,null,null,"FCI - IGP 1   ","FCI - IGP 2              ","FCI - IGP 3"]
["Data psovoda"]
["Jméno:",null,{"$f":"Soupiska!C67","v":0}]
["Příjmení:",null,{"$f":"Soupiska!E67","v":0},null,null,null,null,"Ovladatelnost na vodítku",null,null,null,30,20," X"," X"," X","  X",30]
["Bydliště:",null,{"$f":"Soupiska!I67","v":0},null,null,null,null,"Ovladatelnost bez vodítka",null,null,null,30,20,20,15,15,15,"X"]
[null,null,null,null,null,null,null,"Odložení v sedě",null,null,null,15,15,10,10,10,10,10]
["Narozen:",null,{"$f":"DATE(IF(MID(Soupiska!C68,1,2)*1 > YEAR(TODAY())-2000, 1900, 2000) + MID(Soupiska!C68,1,2), MOD(MID(Soupiska!C68,3,2),50), MID(Soupiska!C68,5,2))","v":{"$error":"#VALUE!"}},null,null,null,null,"Odložení vleže s přivoláním",null,null,null,15,15,10,10,10,10,10]
["Člen ZO:",null,{"$f":"Soupiska!I68","v":0},null,null,null,null,"Odložení ve stoje",null,null,null," X"," X",10," X",10,10," X"]
[null,null,null,null,null,null,null,"Aport volný",null,null,null," X",10,15,15,10,10," X"]
["Data akce",null,null,null,null,null,null,"Skok přes překážku - 2 směry",null,null,null," X"," X"," X",15," X"," X"," X"]
["Datum:",null,{"$f":"Soupiska!T6","v":"00:00:00"},null,null,null,null,"Aport skokem",null,null,null," X"," X"," X","X",15,15," X"]
["Místo:",null,{"$f":"Soupiska!P5","v":0},null,null,null,null,"Šplh jedním směrem",null,null,null," X"," X"," X",15,10," X"," X"]
["Ved.zk.:",null,{"$f":"Soupiska!D6","v":0},null,null,null,null,"Aport šplhem",null,null,null," X"," X",15," X","X",10," X"]
["Rozhodčí:",null,{"$f":"Soupiska!P6","v":0},null,null,null,null,"Vysílání vpřed s odložením",null,null,null," X",10,10,10,10,10," X"]
[" ",null,null,null,null,null,null,"Odložení",null,null,null,10,10,10,10,10,10,10]
["        FCI - StPr 1 - 3 ",null,null,null,null,null,null,"Celkem",null,null,null,100,100,100,100,100,100,60,{"$f":"SUM(S17:T28)","v":0}]
["Ovladatelnost",null,null,null,20,null,null,"FCI - BH/VT: Chování psa v doprav. ruchu/zkouška AD",null,null,null,null,null,null,null,"XX"]
["Intenzita vyhledání",null,null,null,20]
["Vytrvalost",null,null,null,10," ",null,null,null,null,null,null,null,null,null,null,null,null,null," "]
["Chování psovoda",null,null,null,10,null,null,"C - OBRANA",null,null,null,"FCI - IGP 1",null,null,"  FCI - IGP 2",null,null," FCI - IGP 3"]
["Nalezení předmětů",null,null,null,40," ",null,null,null,null,null,"FCI - GPr1, SPr1",null,null,"FCI - GPr2, SPr2",null,null,"FCI - GPr3, SPr3"]
["Celkem",null,null,null,100,{"$f":"SUM(F30:F34)","v":0},null,"Vyhledání figuranta",null,null,null,5,null,null,5,null,null,10]
[null,null,null,null,null,null,null,"Vystavení a vyštěkání",null,null,null,15,null,null,15,null,null,15]
["Výsledek zkoušky",null,null,null,null,null,null,"Pokus o útěk",null,null,null,20,null,null,15,null,null,10]
["A - stopa",null,null,{"$f":"F35+L10+N10+P10+S10","v":0},null,null,null,"Obrana psa při hlídání",null,null,null,30,null,null,20,null,null,15]
["B - poslušnost",null,null,{"$f":"S29","v":0},null,null,null,"Zadní doprovod",null,null,null," X"," X",null,5,null,null,5]
["C - obrana",null,null,{"$f":"M43+P43+S43","v":0},null,null,null,"Přepad psa při doprovodu",null,null,null," X"," X",null," X"," X",null,15]
["D - BH-VT/AD",null,null,{"$f":"IF(P30=\"XX\",\" \",P30)","v":" "},null,null,null,"Útok na psa z pohybu",null,null,null,30,null,null,20,null,null,15]
["CELKEM",null,{"$f":"VLOOKUP(D3,TYPY!A$1:D$65536,4,FALSE)","v":{"$error":"#N/A"}},{"$f":"SUM(D38:F40)","v":0},null,null,null,"Obrana psa při hlídání",null,null,null," X"," X",null,20,null,null,15]
["ZNÁMKA",null,null,{"$f":"IF(EXACT(D3,\"FCI-IGP-IFH\"),IF(SUM(R9,T9)<70,\"N\",VLOOKUP(D42,TYPY!$D$44:$E$105,2,FALSE)),IF(D42>0,IFERROR(IF(C42=300,VLOOKUP(D42,TYPY!$B$44:$C$135,2,FALSE),IF(C42=200,VLOOKUP(D42,TYPY!$D$44:$E$105,2,FALSE),IF(C42=100,VLOOKUP(D42,TYPY!$F$44:$G$75,2,FALSE),IF(AND(C42=60,D41=\"Obstál\"),VLOOKUP(D42,TYPY!$H$44:$I$63,2,FALSE),\"N\")))),\"N\"),\" \"))","v":" "},null,null,null,"Celkem",null,null,null,100,{"$f":"SUM(M35:N42)","v":0},null,100,{"$f":"SUM(P35:Q42)","v":0},null,100,{"$f":"SUM(S35:T42)","v":0}]
[]
[]
[]
[]
[" ",null,null,null,null,null,null,null,null," ",null,null,null," "]
["Razítko organizace",null,null,null,null,null,null,null,null,"Podpis vedoucího zkoušek",null,null,null,"Podpis a razítko rozhodčího"]

{"sheet":"MZR20","index":19,"n_rows":49,"n_cols":20,"rows_kept":49,"cut":false,"hidden":true,"merged":[[48,0,48,7],[48,9,48,11],[48,13,48,19],[42,0,42,2],[42,3,42,5],[42,7,42,10],[42,12,42,13],[42,15,42,16],[42,18,42,19],[41,0,41,1],[41,3,41,5],[41,7,41,10],[41,12,41,13],[41,15,41,16],[41,18,41,19],[40,0,40,2],[40,3,40,5],[40,7,40,10],[40,12,40,13],[40,15,40,16],[40,18,40,19],[39,0,39,2],[39,3,39,5],[39,7,39,10],[39,12,39,13],[39,15,39,16],[39,18,39,19],[38,0,38,2],[38,3,38,5],[38,7,38,10],[38,12,38,13],[38,15,38,16],[38,18,38,19],[34,0,34,3],[34,7,34,10],[34,12,34,13],[34,15,34,16],[34,18,34,19],[37,0,37,2],[37,3,37,5],[37,7,37,10],[37,12,37,13],[37,15,37,16],[37,18,37,19],[35,7,35,10],[35,12,35,13],[35,15,35,16],[35,18,35,19],[36,0,36,5],[36,7,36,10],[36,12,36,13],[36,15,36,16],[36,18,36,19],[30,0,30,3],[31,0,31,3],[32,0,32,3],[32,7,33,10],[32,11,32,13],[32,14,32,16],[28,0,28,5],[28,7,28,10],[28,18,28,19],[29,0,29,3],[29,7,29,14],[29,15,29,19],[32,17,32,19],[33,0,33,3],[33,11,33,13],[33,14,33,16],[33,17,33,19],[26,0,26,1],[26,2,26,5],[26,7,26,10],[26,18,26,19],[27,7,27,10],[27,18,27,19],[24,0,24,1],[24,2,24,5],[24,7,24,10],[24,18,24,19],[25,0,25,1],[25,2,25,5],[25,7,25,10],[25,18,25,19],[21,18,21,19],[22,0,22,5],[22,7,22,10],[22,18,22,19],[23,0,23,1],[23,2,23,5],[23,7,23,10],[23,18,23,19],[18,18,18,19],[19,0,19,1],[19,2,19,5],[19,7,19,10],[19,18,19,19],[20,0,21,1],[20,2,21,5],[20,7,20,10],[20,18,20,19],[21,7,21,10],[16,0,16,1],[16,2,16,5],[16,7,16,10],[16,18,16,19],[17,0,17,1],[17,2,18,5],[17,7,17,10],[17,18,17,19],[18,0,18,1],[18,7,18,10],[12,17,15,17],[12,18,15,19],[13,0,13,1],[13,2,13,5],[13,14,15,14],[13,15,15,15],[13,16,15,16],[14,0,14,5],[15,0,15,1],[15,2,15,5],[12,0,12,1],[12,2,12,5],[12,7,15,10],[12,11,15,11],[12,12,15,12],[12,13,15,13],[9,16,9,17],[9,18,9,19],[10,0,10,1],[10,2,10,5],[11,0,11,1],[11,2,11,5],[6,14,6,15],[7,0,8,1],[7,2,8,5],[7,7,7,9],[8,7,8,9],[9,0,9,1],[9,2,9,5],[9,7,9,9],[0,6,0,19],[1,7,1,19],[2,0,3,2],[2,3,3,5],[2,7,2,19],[4,0,4,5],[4,7,6,9],[4,10,4,11],[4,12,4,13],[4,14,4,15],[4,16,4,19],[5,0,6,1],[5,2,6,5],[5,10,5,11],[5,12,5,13],[5,14,5,15],[5,16,5,17],[5,18,5,19],[6,10,6,11],[6,12,6,13]]}
[null,null,null,null,null,null," MORAVSKOSLEZSKÝ KYNOLOGICKÝ SVAZ, z. s."]
[null,null,null,null,null,null," ","Člen FCI prostřednictvím Českomoravské kynologické unie"]
["Druh a stupeň",null,null,{"$f":"IF(Soupiska!W69=\"M\",Soupiska!B69,\"NE\")","v":"NE"},null,null," ","POTVRZENÍ O VYKONANÉ ZKOUŠCE MZŘ"]
[]
["Data psa-feny",null,null,null,null,null,null,"A - STOPA",null,null,"FCI - IGP 1",null,"FCI - IGP 2",null,"FCI - IGP 3",null,"FCI - IGP IFH"]
["Jméno:",null,{"$f":"Soupiska!C69","v":0},null,null,null,null,null,null,null,"FCI - FPr 1",null,"FCI - FPr 2",null,"FCI - FPr 3",null,"Stopa č. 1",null,"Stopa č. 2"]
[null,null,null,null,null,null,null,null,null,null,"FCI - IFH 1",null,"FCI - IFH 2",null,"FCI - IFH 3",null,79," ",79]
["Chovná stanice:",null,{"$f":"Soupiska!E69","v":0},null,null,null,null,"Vlastní - cizí",null,null,79," ",79," ",79," ",21," ",21]
[null,null,null,null,null,null,null,"Předměty",null,null,21," ",21," ",21,null,100,{"$f":"SUM(R7:R8)","v":0},100,{"$f":"SUM(T7:T8)","v":0}]
["Plemeno:",null,{"$f":"Soupiska!I69","v":0},null,null,null,null,"Celkem",null,null,100,{"$f":"SUM(L8:L9)","v":0},100,{"$f":"SUM(N8:N9)","v":0},100,{"$f":"SUM(P8:P9)","v":0},200,null,{"$f":"SUM(R9,T9)","v":0}]
["Pohlaví:",null,{"$f":"Soupiska!K69","v":0}]
["Narozen:",null,{"$f":"Soupiska!L69","v":"00:00:00"},null,null,null,null,null,null,null,null,null,null,null,null," "]
["Č.záp.:",null,{"$f":"Soupiska!N69","v":0},null,null,null,null,"B - POSLUŠNOST",null,null,null,"FCI - IBGH 1","FCI - IBGH 2","FCI - IBGH 3","FCI - GPr 1-3, Upr 1-3",null,null,"FCI - BH/VT","BODY"]
["T.č./čip:",null,{"$f":"Soupiska!P69","v":0},null,null,null,null,null,null,null,null,null,null,null,"FCI - IGP 1   ","FCI - IGP 2              ","FCI - IGP 3"]
["Data psovoda"]
["Jméno:",null,{"$f":"Soupiska!C70","v":0}]
["Příjmení:",null,{"$f":"Soupiska!E70","v":0},null,null,null,null,"Ovladatelnost na vodítku",null,null,null,30,20," X"," X"," X","  X",30]
["Bydliště:",null,{"$f":"Soupiska!I70","v":0},null,null,null,null,"Ovladatelnost bez vodítka",null,null,null,30,20,20,15,15,15,"X"]
[null,null,null,null,null,null,null,"Odložení v sedě",null,null,null,15,15,10,10,10,10,10]
["Narozen:",null,{"$f":"DATE(IF(MID(Soupiska!C71,1,2)*1 > YEAR(TODAY())-2000, 1900, 2000) + MID(Soupiska!C71,1,2), MOD(MID(Soupiska!C71,3,2),50), MID(Soupiska!C71,5,2))","v":{"$error":"#VALUE!"}},null,null,null,null,"Odložení vleže s přivoláním",null,null,null,15,15,10,10,10,10,10]
["Člen ZO:",null,{"$f":"Soupiska!I71","v":0},null,null,null,null,"Odložení ve stoje",null,null,null," X"," X",10," X",10,10," X"]
[null,null,null,null,null,null,null,"Aport volný",null,null,null," X",10,15,15,10,10," X"]
["Data akce",null,null,null,null,null,null,"Skok přes překážku - 2 směry",null,null,null," X"," X"," X",15," X"," X"," X"]
["Datum:",null,{"$f":"Soupiska!T6","v":"00:00:00"},null,null,null,null,"Aport skokem",null,null,null," X"," X"," X","X",15,15," X"]
["Místo:",null,{"$f":"Soupiska!P5","v":0},null,null,null,null,"Šplh jedním směrem",null,null,null," X"," X"," X",15,10," X"," X"]
["Ved.zk.:",null,{"$f":"Soupiska!D6","v":0},null,null,null,null,"Aport šplhem",null,null,null," X"," X",15," X","X",10," X"]
["Rozhodčí:",null,{"$f":"Soupiska!P6","v":0},null,null,null,null,"Vysílání vpřed s odložením",null,null,null," X",10,10,10,10,10," X"]
[" ",null,null,null,null,null,null,"Odložení",null,null,null,10,10,10,10,10,10,10]
["        FCI - StPr 1 - 3 ",null,null,null,null,null,null,"Celkem",null,null,null,100,100,100,100,100,100,60,{"$f":"SUM(S17:T28)","v":0}]
["Ovladatelnost",null,null,null,20,null,null,"FCI - BH/VT: Chování psa v doprav. ruchu/zkouška AD",null,null,null,null,null,null,null,"XX"]
["Intenzita vyhledání",null,null,null,20]
["Vytrvalost",null,null,null,10," ",null,null,null,null,null,null,null,null,null,null,null,null,null," "]
["Chování psovoda",null,null,null,10,null,null,"C - OBRANA",null,null,null,"FCI - IGP 1",null,null,"  FCI - IGP 2",null,null," FCI - IGP 3"]
["Nalezení předmětů",null,null,null,40," ",null,null,null,null,null,"FCI - GPr1, SPr1",null,null,"FCI - GPr2, SPr2",null,null,"FCI - GPr3, SPr3"]
["Celkem",null,null,null,100,{"$f":"SUM(F30:F34)","v":0},null,"Vyhledání figuranta",null,null,null,5,null,null,5,null,null,10]
[null,null,null,null,null,null,null,"Vystavení a vyštěkání",null,null,null,15,null,null,15,null,null,15]
["Výsledek zkoušky",null,null,null,null,null,null,"Pokus o útěk",null,null,null,20,null,null,15,null,null,10]
["A - stopa",null,null,{"$f":"F35+L10+N10+P10+S10","v":0},null,null,null,"Obrana psa při hlídání",null,null,null,30,null,null,20,null,null,15]
["B - poslušnost",null,null,{"$f":"S29","v":0},null,null,null,"Zadní doprovod",null,null,null," X"," X",null,5,null,null,5]
["C - obrana",null,null,{"$f":"M43+P43+S43","v":0},null,null,null,"Přepad psa při doprovodu",null,null,null," X"," X",null," X"," X",null,15]
["D - BH-VT/AD",null,null,{"$f":"IF(P30=\"XX\",\" \",P30)","v":" "},null,null,null,"Útok na psa z pohybu",null,null,null,30,null,null,20,null,null,15]
["CELKEM",null,{"$f":"VLOOKUP(D3,TYPY!A$1:D$65536,4,FALSE)","v":{"$error":"#N/A"}},{"$f":"SUM(D38:F40)","v":0},null,null,null,"Obrana psa při hlídání",null,null,null," X"," X",null,20,null,null,15]
["ZNÁMKA",null,null,{"$f":"IF(EXACT(D3,\"FCI-IGP-IFH\"),IF(SUM(R9,T9)<70,\"N\",VLOOKUP(D42,TYPY!$D$44:$E$105,2,FALSE)),IF(D42>0,IFERROR(IF(C42=300,VLOOKUP(D42,TYPY!$B$44:$C$135,2,FALSE),IF(C42=200,VLOOKUP(D42,TYPY!$D$44:$E$105,2,FALSE),IF(C42=100,VLOOKUP(D42,TYPY!$F$44:$G$75,2,FALSE),IF(AND(C42=60,D41=\"Obstál\"),VLOOKUP(D42,TYPY!$H$44:$I$63,2,FALSE),\"N\")))),\"N\"),\" \"))","v":" "},null,null,null,"Celkem",null,null,null,100,{"$f":"SUM(M35:N42)","v":0},null,100,{"$f":"SUM(P35:Q42)","v":0},null,100,{"$f":"SUM(S35:T42)","v":0}]
[]
[]
[]
[]
[" ",null,null,null,null,null,null,null,null," ",null,null,null," "]
["Razítko organizace",null,null,null,null,null,null,null,null,"Podpis vedoucího zkoušek",null,null,null,"Podpis a razítko rozhodčího"]

{"sheet":"MZR21","index":20,"n_rows":49,"n_cols":20,"rows_kept":49,"cut":false,"hidden":true,"merged":[[48,0,48,7],[48,9,48,11],[48,13,48,19],[42,0,42,2],[42,3,42,5],[42,7,42,10],[42,12,42,13],[42,15,42,16],[42,18,42,19],[41,0,41,1],[41,3,41,5],[41,7,41,10],[41,12,41,13],[41,15,41,16],[41,18,41,19],[40,0,40,2],[40,3,40,5],[40,7,40,10],[40,12,40,13],[40,15,40,16],[40,18,40,19],[39,0,39,2],[39,3,39,5],[39,7,39,10],[39,12,39,13],[39,15,39,16],[39,18,39,19],[38,0,38,2],[38,3,38,5],[38,7,38,10],[38,12,38,13],[38,15,38,16],[38,18,38,19],[34,0,34,3],[34,7,34,10],[34,12,34,13],[34,15,34,16],[34,18,34,19],[37,0,37,2],[37,3,37,5],[37,7,37,10],[37,12,37,13],[37,15,37,16],[37,18,37,19],[35,7,35,10],[35,12,35,13],[35,15,35,16],[35,18,35,19],[36,0,36,5],[36,7,36,10],[36,12,36,13],[36,15,36,16],[36,18,36,19],[30,0,30,3],[31,0,31,3],[32,0,32,3],[32,7,33,10],[32,11,32,13],[32,14,32,16],[28,0,28,5],[28,7,28,10],[28,18,28,19],[29,0,29,3],[29,7,29,14],[29,15,29,19],[32,17,32,19],[33,0,33,3],[33,11,33,13],[33,14,33,16],[33,17,33,19],[26,0,26,1],[26,2,26,5],[26,7,26,10],[26,18,26,19],[27,7,27,10],[27,18,27,19],[24,0,24,1],[24,2,24,5],[24,7,24,10],[24,18,24,19],[25,0,25,1],[25,2,25,5],[25,7,25,10],[25,18,25,19],[21,18,21,19],[22,0,22,5],[22,7,22,10],[22,18,22,19],[23,0,23,1],[23,2,23,5],[23,7,23,10],[23,18,23,19],[18,18,18,19],[19,0,19,1],[19,2,19,5],[19,7,19,10],[19,18,19,19],[20,0,21,1],[20,2,21,5],[20,7,20,10],[20,18,20,19],[21,7,21,10],[16,0,16,1],[16,2,16,5],[16,7,16,10],[16,18,16,19],[17,0,17,1],[17,2,18,5],[17,7,17,10],[17,18,17,19],[18,0,18,1],[18,7,18,10],[12,17,15,17],[12,18,15,19],[13,0,13,1],[13,2,13,5],[13,14,15,14],[13,15,15,15],[13,16,15,16],[14,0,14,5],[15,0,15,1],[15,2,15,5],[12,0,12,1],[12,2,12,5],[12,7,15,10],[12,11,15,11],[12,12,15,12],[12,13,15,13],[9,16,9,17],[9,18,9,19],[10,0,10,1],[10,2,10,5],[11,0,11,1],[11,2,11,5],[6,14,6,15],[7,0,8,1],[7,2,8,5],[7,7,7,9],[8,7,8,9],[9,0,9,1],[9,2,9,5],[9,7,9,9],[0,6,0,19],[1,7,1,19],[2,0,3,2],[2,3,3,5],[2,7,2,19],[4,0,4,5],[4,7,6,9],[4,10,4,11],[4,12,4,13],[4,14,4,15],[4,16,4,19],[5,0,6,1],[5,2,6,5],[5,10,5,11],[5,12,5,13],[5,14,5,15],[5,16,5,17],[5,18,5,19],[6,10,6,11],[6,12,6,13]]}
[null,null,null,null,null,null," MORAVSKOSLEZSKÝ KYNOLOGICKÝ SVAZ, z. s."]
[null,null,null,null,null,null," ","Člen FCI prostřednictvím Českomoravské kynologické unie"]
["Druh a stupeň",null,null,{"$f":"IF(Soupiska!W72=\"M\",Soupiska!B72,\"NE\")","v":"NE"},null,null," ","POTVRZENÍ O VYKONANÉ ZKOUŠCE MZŘ"]
[]
["Data psa-feny",null,null,null,null,null,null,"A - STOPA",null,null,"FCI - IGP 1",null,"FCI - IGP 2",null,"FCI - IGP 3",null,"FCI - IGP IFH"]
["Jméno:",null,{"$f":"Soupiska!C72","v":0},null,null,null,null,null,null,null,"FCI - FPr 1",null,"FCI - FPr 2",null,"FCI - FPr 3",null,"Stopa č. 1",null,"Stopa č. 2"]
[null,null,null,null,null,null,null,null,null,null,"FCI - IFH 1",null,"FCI - IFH 2",null,"FCI - IFH 3",null,79," ",79]
["Chovná stanice:",null,{"$f":"Soupiska!E72","v":0},null,null,null,null,"Vlastní - cizí",null,null,79," ",79," ",79," ",21," ",21]
[null,null,null,null,null,null,null,"Předměty",null,null,21," ",21," ",21,null,100,{"$f":"SUM(R7:R8)","v":0},100,{"$f":"SUM(T7:T8)","v":0}]
["Plemeno:",null,{"$f":"Soupiska!I72","v":0},null,null,null,null,"Celkem",null,null,100,{"$f":"SUM(L8:L9)","v":0},100,{"$f":"SUM(N8:N9)","v":0},100,{"$f":"SUM(P8:P9)","v":0},200,null,{"$f":"SUM(R9,T9)","v":0}]
["Pohlaví:",null,{"$f":"Soupiska!K72","v":0}]
["Narozen:",null,{"$f":"Soupiska!L72","v":"00:00:00"},null,null,null,null,null,null,null,null,null,null,null,null," "]
["Č.záp.:",null,{"$f":"Soupiska!N72","v":0},null,null,null,null,"B - POSLUŠNOST",null,null,null,"FCI - IBGH 1","FCI - IBGH 2","FCI - IBGH 3","FCI - GPr 1-3, Upr 1-3",null,null,"FCI - BH/VT","BODY"]
["T.č./čip:",null,{"$f":"Soupiska!P72","v":0},null,null,null,null,null,null,null,null,null,null,null,"FCI - IGP 1   ","FCI - IGP 2              ","FCI - IGP 3"]
["Data psovoda"]
["Jméno:",null,{"$f":"Soupiska!C73","v":0}]
["Příjmení:",null,{"$f":"Soupiska!E73","v":0},null,null,null,null,"Ovladatelnost na vodítku",null,null,null,30,20," X"," X"," X","  X",30]
["Bydliště:",null,{"$f":"Soupiska!I73","v":0},null,null,null,null,"Ovladatelnost bez vodítka",null,null,null,30,20,20,15,15,15,"X"]
[null,null,null,null,null,null,null,"Odložení v sedě",null,null,null,15,15,10,10,10,10,10]
["Narozen:",null,{"$f":"DATE(IF(MID(Soupiska!C74,1,2)*1 > YEAR(TODAY())-2000, 1900, 2000) + MID(Soupiska!C74,1,2), MOD(MID(Soupiska!C74,3,2),50), MID(Soupiska!C74,5,2))","v":{"$error":"#VALUE!"}},null,null,null,null,"Odložení vleže s přivoláním",null,null,null,15,15,10,10,10,10,10]
["Člen ZO:",null,{"$f":"Soupiska!I74","v":0},null,null,null,null,"Odložení ve stoje",null,null,null," X"," X",10," X",10,10," X"]
[null,null,null,null,null,null,null,"Aport volný",null,null,null," X",10,15,15,10,10," X"]
["Data akce",null,null,null,null,null,null,"Skok přes překážku - 2 směry",null,null,null," X"," X"," X",15," X"," X"," X"]
["Datum:",null,{"$f":"Soupiska!T6","v":"00:00:00"},null,null,null,null,"Aport skokem",null,null,null," X"," X"," X","X",15,15," X"]
["Místo:",null,{"$f":"Soupiska!P5","v":0},null,null,null,null,"Šplh jedním směrem",null,null,null," X"," X"," X",15,10," X"," X"]
["Ved.zk.:",null,{"$f":"Soupiska!D6","v":0},null,null,null,null,"Aport šplhem",null,null,null," X"," X",15," X","X",10," X"]
["Rozhodčí:",null,{"$f":"Soupiska!P6","v":0},null,null,null,null,"Vysílání vpřed s odložením",null,null,null," X",10,10,10,10,10," X"]
[" ",null,null,null,null,null,null,"Odložení",null,null,null,10,10,10,10,10,10,10]
["        FCI - StPr 1 - 3 ",null,null,null,null,null,null,"Celkem",null,null,null,100,100,100,100,100,100,60,{"$f":"SUM(S17:T28)","v":0}]
["Ovladatelnost",null,null,null,20,null,null,"FCI - BH/VT: Chování psa v doprav. ruchu/zkouška AD",null,null,null,null,null,null,null,"XX"]
["Intenzita vyhledání",null,null,null,20]
["Vytrvalost",null,null,null,10," ",null,null,null,null,null,null,null,null,null,null,null,null,null," "]
["Chování psovoda",null,null,null,10,null,null,"C - OBRANA",null,null,null,"FCI - IGP 1",null,null,"  FCI - IGP 2",null,null," FCI - IGP 3"]
["Nalezení předmětů",null,null,null,40," ",null,null,null,null,null,"FCI - GPr1, SPr1",null,null,"FCI - GPr2, SPr2",null,null,"FCI - GPr3, SPr3"]
["Celkem",null,null,null,100,{"$f":"SUM(F30:F34)","v":0},null,"Vyhledání figuranta",null,null,null,5,null,null,5,null,null,10]
[null,null,null,null,null,null,null,"Vystavení a vyštěkání",null,null,null,15,null,null,15,null,null,15]
["Výsledek zkoušky",null,null,null,null,null,null,"Pokus o útěk",null,null,null,20,null,null,15,null,null,10]
["A - stopa",null,null,{"$f":"F35+L10+N10+P10+S10","v":0},null,null,null,"Obrana psa při hlídání",null,null,null,30,null,null,20,null,null,15]
["B - poslušnost",null,null,{"$f":"S29","v":0},null,null,null,"Zadní doprovod",null,null,null," X"," X",null,5,null,null,5]
["C - obrana",null,null,{"$f":"M43+P43+S43","v":0},null,null,null,"Přepad psa při doprovodu",null,null,null," X"," X",null," X"," X",null,15]
["D - BH-VT/AD",null,null,{"$f":"IF(P30=\"XX\",\" \",P30)","v":" "},null,null,null,"Útok na psa z pohybu",null,null,null,30,null,null,20,null,null,15]
["CELKEM",null,{"$f":"VLOOKUP(D3,TYPY!A$1:D$65536,4,FALSE)","v":{"$error":"#N/A"}},{"$f":"SUM(D38:F40)","v":0},null,null,null,"Obrana psa při hlídání",null,null,null," X"," X",null,20,null,null,15]
["ZNÁMKA",null,null,{"$f":"IF(EXACT(D3,\"FCI-IGP-IFH\"),IF(SUM(R9,T9)<70,\"N\",VLOOKUP(D42,TYPY!$D$44:$E$105,2,FALSE)),IF(D42>0,IFERROR(IF(C42=300,VLOOKUP(D42,TYPY!$B$44:$C$135,2,FALSE),IF(C42=200,VLOOKUP(D42,TYPY!$D$44:$E$105,2,FALSE),IF(C42=100,VLOOKUP(D42,TYPY!$F$44:$G$75,2,FALSE),IF(AND(C42=60,D41=\"Obstál\"),VLOOKUP(D42,TYPY!$H$44:$I$63,2,FALSE),\"N\")))),\"N\"),\" \"))","v":" "},null,null,null,"Celkem",null,null,null,100,{"$f":"SUM(M35:N42)","v":0},null,100,{"$f":"SUM(P35:Q42)","v":0},null,100,{"$f":"SUM(S35:T42)","v":0}]
[]
[]
[]
[]
[" ",null,null,null,null,null,null,null,null," ",null,null,null," "]
["Razítko organizace",null,null,null,null,null,null,null,null,"Podpis vedoucího zkoušek",null,null,null,"Podpis a razítko rozhodčího"]

{"sheet":"MZR22","index":21,"n_rows":49,"n_cols":20,"rows_kept":49,"cut":false,"hidden":true,"merged":[[48,0,48,7],[48,9,48,11],[48,13,48,19],[42,0,42,2],[42,3,42,5],[42,7,42,10],[42,12,42,13],[42,15,42,16],[42,18,42,19],[41,0,41,1],[41,3,41,5],[41,7,41,10],[41,12,41,13],[41,15,41,16],[41,18,41,19],[40,0,40,2],[40,3,40,5],[40,7,40,10],[40,12,40,13],[40,15,40,16],[40,18,40,19],[39,0,39,2],[39,3,39,5],[39,7,39,10],[39,12,39,13],[39,15,39,16],[39,18,39,19],[38,0,38,2],[38,3,38,5],[38,7,38,10],[38,12,38,13],[38,15,38,16],[38,18,38,19],[34,0,34,3],[34,7,34,10],[34,12,34,13],[34,15,34,16],[34,18,34,19],[37,0,37,2],[37,3,37,5],[37,7,37,10],[37,12,37,13],[37,15,37,16],[37,18,37,19],[35,7,35,10],[35,12,35,13],[35,15,35,16],[35,18,35,19],[36,0,36,5],[36,7,36,10],[36,12,36,13],[36,15,36,16],[36,18,36,19],[30,0,30,3],[31,0,31,3],[32,0,32,3],[32,7,33,10],[32,11,32,13],[32,14,32,16],[28,0,28,5],[28,7,28,10],[28,18,28,19],[29,0,29,3],[29,7,29,14],[29,15,29,19],[32,17,32,19],[33,0,33,3],[33,11,33,13],[33,14,33,16],[33,17,33,19],[26,0,26,1],[26,2,26,5],[26,7,26,10],[26,18,26,19],[27,7,27,10],[27,18,27,19],[24,0,24,1],[24,2,24,5],[24,7,24,10],[24,18,24,19],[25,0,25,1],[25,2,25,5],[25,7,25,10],[25,18,25,19],[21,18,21,19],[22,0,22,5],[22,7,22,10],[22,18,22,19],[23,0,23,1],[23,2,23,5],[23,7,23,10],[23,18,23,19],[18,18,18,19],[19,0,19,1],[19,2,19,5],[19,7,19,10],[19,18,19,19],[20,0,21,1],[20,2,21,5],[20,7,20,10],[20,18,20,19],[21,7,21,10],[16,0,16,1],[16,2,16,5],[16,7,16,10],[16,18,16,19],[17,0,17,1],[17,2,18,5],[17,7,17,10],[17,18,17,19],[18,0,18,1],[18,7,18,10],[12,17,15,17],[12,18,15,19],[13,0,13,1],[13,2,13,5],[13,14,15,14],[13,15,15,15],[13,16,15,16],[14,0,14,5],[15,0,15,1],[15,2,15,5],[12,0,12,1],[12,2,12,5],[12,7,15,10],[12,11,15,11],[12,12,15,12],[12,13,15,13],[9,16,9,17],[9,18,9,19],[10,0,10,1],[10,2,10,5],[11,0,11,1],[11,2,11,5],[6,14,6,15],[7,0,8,1],[7,2,8,5],[7,7,7,9],[8,7,8,9],[9,0,9,1],[9,2,9,5],[9,7,9,9],[0,6,0,19],[1,7,1,19],[2,0,3,2],[2,3,3,5],[2,7,2,19],[4,0,4,5],[4,7,6,9],[4,10,4,11],[4,12,4,13],[4,14,4,15],[4,16,4,19],[5,0,6,1],[5,2,6,5],[5,10,5,11],[5,12,5,13],[5,14,5,15],[5,16,5,17],[5,18,5,19],[6,10,6,11],[6,12,6,13]]}
[null,null,null,null,null,null," MORAVSKOSLEZSKÝ KYNOLOGICKÝ SVAZ, z. s."]
[null,null,null,null,null,null," ","Člen FCI prostřednictvím Českomoravské kynologické unie"]
["Druh a stupeň",null,null,{"$f":"IF(Soupiska!W75=\"M\",Soupiska!B75,\"NE\")","v":"NE"},null,null," ","POTVRZENÍ O VYKONANÉ ZKOUŠCE MZŘ"]
[]
["Data psa-feny",null,null,null,null,null,null,"A - STOPA",null,null,"FCI - IGP 1",null,"FCI - IGP 2",null,"FCI - IGP 3",null,"FCI - IGP IFH"]
["Jméno:",null,{"$f":"Soupiska!C75","v":0},null,null,null,null,null,null,null,"FCI - FPr 1",null,"FCI - FPr 2",null,"FCI - FPr 3",null,"Stopa č. 1",null,"Stopa č. 2"]
[null,null,null,null,null,null,null,null,null,null,"FCI - IFH 1",null,"FCI - IFH 2",null,"FCI - IFH 3",null,79," ",79]
["Chovná stanice:",null,{"$f":"Soupiska!E75","v":0},null,null,null,null,"Vlastní - cizí",null,null,79," ",79," ",79," ",21," ",21]
[null,null,null,null,null,null,null,"Předměty",null,null,21," ",21," ",21,null,100,{"$f":"SUM(R7:R8)","v":0},100,{"$f":"SUM(T7:T8)","v":0}]
["Plemeno:",null,{"$f":"Soupiska!I75","v":0},null,null,null,null,"Celkem",null,null,100,{"$f":"SUM(L8:L9)","v":0},100,{"$f":"SUM(N8:N9)","v":0},100,{"$f":"SUM(P8:P9)","v":0},200,null,{"$f":"SUM(R9,T9)","v":0}]
["Pohlaví:",null,{"$f":"Soupiska!K75","v":0}]
["Narozen:",null,{"$f":"Soupiska!L75","v":"00:00:00"},null,null,null,null,null,null,null,null,null,null,null,null," "]
["Č.záp.:",null,{"$f":"Soupiska!N75","v":0},null,null,null,null,"B - POSLUŠNOST",null,null,null,"FCI - IBGH 1","FCI - IBGH 2","FCI - IBGH 3","FCI - GPr 1-3, Upr 1-3",null,null,"FCI - BH/VT","BODY"]
["T.č./čip:",null,{"$f":"Soupiska!P75","v":0},null,null,null,null,null,null,null,null,null,null,null,"FCI - IGP 1   ","FCI - IGP 2              ","FCI - IGP 3"]
["Data psovoda"]
["Jméno:",null,{"$f":"Soupiska!C76","v":0}]
["Příjmení:",null,{"$f":"Soupiska!E76","v":0},null,null,null,null,"Ovladatelnost na vodítku",null,null,null,30,20," X"," X"," X","  X",30]
["Bydliště:",null,{"$f":"Soupiska!I76","v":0},null,null,null,null,"Ovladatelnost bez vodítka",null,null,null,30,20,20,15,15,15,"X"]
[null,null,null,null,null,null,null,"Odložení v sedě",null,null,null,15,15,10,10,10,10,10]
["Narozen:",null,{"$f":"DATE(IF(MID(Soupiska!C77,1,2)*1 > YEAR(TODAY())-2000, 1900, 2000) + MID(Soupiska!C77,1,2), MOD(MID(Soupiska!C77,3,2),50), MID(Soupiska!C77,5,2))","v":{"$error":"#VALUE!"}},null,null,null,null,"Odložení vleže s přivoláním",null,null,null,15,15,10,10,10,10,10]
["Člen ZO:",null,{"$f":"Soupiska!I77","v":0},null,null,null,null,"Odložení ve stoje",null,null,null," X"," X",10," X",10,10," X"]
[null,null,null,null,null,null,null,"Aport volný",null,null,null," X",10,15,15,10,10," X"]
["Data akce",null,null,null,null,null,null,"Skok přes překážku - 2 směry",null,null,null," X"," X"," X",15," X"," X"," X"]
["Datum:",null,{"$f":"Soupiska!T6","v":"00:00:00"},null,null,null,null,"Aport skokem",null,null,null," X"," X"," X","X",15,15," X"]
["Místo:",null,{"$f":"Soupiska!P5","v":0},null,null,null,null,"Šplh jedním směrem",null,null,null," X"," X"," X",15,10," X"," X"]
["Ved.zk.:",null,{"$f":"Soupiska!D6","v":0},null,null,null,null,"Aport šplhem",null,null,null," X"," X",15," X","X",10," X"]
["Rozhodčí:",null,{"$f":"Soupiska!P6","v":0},null,null,null,null,"Vysílání vpřed s odložením",null,null,null," X",10,10,10,10,10," X"]
[" ",null,null,null,null,null,null,"Odložení",null,null,null,10,10,10,10,10,10,10]
["        FCI - StPr 1 - 3 ",null,null,null,null,null,null,"Celkem",null,null,null,100,100,100,100,100,100,60,{"$f":"SUM(S17:T28)","v":0}]
["Ovladatelnost",null,null,null,20,null,null,"FCI - BH/VT: Chování psa v doprav. ruchu/zkouška AD",null,null,null,null,null,null,null,"XX"]
["Intenzita vyhledání",null,null,null,20]
["Vytrvalost",null,null,null,10," ",null,null,null,null,null,null,null,null,null,null,null,null,null," "]
["Chování psovoda",null,null,null,10,null,null,"C - OBRANA",null,null,null,"FCI - IGP 1",null,null,"  FCI - IGP 2",null,null," FCI - IGP 3"]
["Nalezení předmětů",null,null,null,40," ",null,null,null,null,null,"FCI - GPr1, SPr1",null,null,"FCI - GPr2, SPr2",null,null,"FCI - GPr3, SPr3"]
["Celkem",null,null,null,100,{"$f":"SUM(F30:F34)","v":0},null,"Vyhledání figuranta",null,null,null,5,null,null,5,null,null,10]
[null,null,null,null,null,null,null,"Vystavení a vyštěkání",null,null,null,15,null,null,15,null,null,15]
["Výsledek zkoušky",null,null,null,null,null,null,"Pokus o útěk",null,null,null,20,null,null,15,null,null,10]
["A - stopa",null,null,{"$f":"F35+L10+N10+P10+S10","v":0},null,null,null,"Obrana psa při hlídání",null,null,null,30,null,null,20,null,null,15]
["B - poslušnost",null,null,{"$f":"S29","v":0},null,null,null,"Zadní doprovod",null,null,null," X"," X",null,5,null,null,5]
["C - obrana",null,null,{"$f":"M43+P43+S43","v":0},null,null,null,"Přepad psa při doprovodu",null,null,null," X"," X",null," X"," X",null,15]
["D - BH-VT/AD",null,null,{"$f":"IF(P30=\"XX\",\" \",P30)","v":" "},null,null,null,"Útok na psa z pohybu",null,null,null,30,null,null,20,null,null,15]
["CELKEM",null,{"$f":"VLOOKUP(D3,TYPY!A$1:D$65536,4,FALSE)","v":{"$error":"#N/A"}},{"$f":"SUM(D38:F40)","v":0},null,null,null,"Obrana psa při hlídání",null,null,null," X"," X",null,20,null,null,15]
["ZNÁMKA",null,null,{"$f":"IF(EXACT(D3,\"FCI-IGP-IFH\"),IF(SUM(R9,T9)<70,\"N\",VLOOKUP(D42,TYPY!$D$44:$E$105,2,FALSE)),IF(D42>0,IFERROR(IF(C42=300,VLOOKUP(D42,TYPY!$B$44:$C$135,2,FALSE),IF(C42=200,VLOOKUP(D42,TYPY!$D$44:$E$105,2,FALSE),IF(C42=100,VLOOKUP(D42,TYPY!$F$44:$G$75,2,FALSE),IF(AND(C42=60,D41=\"Obstál\"),VLOOKUP(D42,TYPY!$H$44:$I$63,2,FALSE),\"N\")))),\"N\"),\" \"))","v":" "},null,null,null,"Celkem",null,null,null,100,{"$f":"SUM(M35:N42)","v":0},null,100,{"$f":"SUM(P35:Q42)","v":0},null,100,{"$f":"SUM(S35:T42)","v":0}]
[]
[]
[]
[]
[" ",null,null,null,null,null,null,null,null," ",null,null,null," "]
["Razítko organizace",null,null,null,null,null,null,null,null,"Podpis vedoucího zkoušek",null,null,null,"Podpis a razítko rozhodčího"]

{"sheet":"MZR23","index":22,"n_rows":49,"n_cols":20,"rows_kept":49,"cut":false,"hidden":true,"merged":[[48,0,48,7],[48,9,48,11],[48,13,48,19],[42,0,42,2],[42,3,42,5],[42,7,42,10],[42,12,42,13],[42,15,42,16],[42,18,42,19],[41,0,41,1],[41,3,41,5],[41,7,41,10],[41,12,41,13],[41,15,41,16],[41,18,41,19],[40,0,40,2],[40,3,40,5],[40,7,40,10],[40,12,40,13],[40,15,40,16],[40,18,40,19],[39,0,39,2],[39,3,39,5],[39,7,39,10],[39,12,39,13],[39,15,39,16],[39,18,39,19],[38,0,38,2],[38,3,38,5],[38,7,38,10],[38,12,38,13],[38,15,38,16],[38,18,38,19],[34,0,34,3],[34,7,34,10],[34,12,34,13],[34,15,34,16],[34,18,34,19],[37,0,37,2],[37,3,37,5],[37,7,37,10],[37,12,37,13],[37,15,37,16],[37,18,37,19],[35,7,35,10],[35,12,35,13],[35,15,35,16],[35,18,35,19],[36,0,36,5],[36,7,36,10],[36,12,36,13],[36,15,36,16],[36,18,36,19],[30,0,30,3],[31,0,31,3],[32,0,32,3],[32,7,33,10],[32,11,32,13],[32,14,32,16],[28,0,28,5],[28,7,28,10],[28,18,28,19],[29,0,29,3],[29,7,29,14],[29,15,29,19],[32,17,32,19],[33,0,33,3],[33,11,33,13],[33,14,33,16],[33,17,33,19],[26,0,26,1],[26,2,26,5],[26,7,26,10],[26,18,26,19],[27,7,27,10],[27,18,27,19],[24,0,24,1],[24,2,24,5],[24,7,24,10],[24,18,24,19],[25,0,25,1],[25,2,25,5],[25,7,25,10],[25,18,25,19],[21,18,21,19],[22,0,22,5],[22,7,22,10],[22,18,22,19],[23,0,23,1],[23,2,23,5],[23,7,23,10],[23,18,23,19],[18,18,18,19],[19,0,19,1],[19,2,19,5],[19,7,19,10],[19,18,19,19],[20,0,21,1],[20,2,21,5],[20,7,20,10],[20,18,20,19],[21,7,21,10],[16,0,16,1],[16,2,16,5],[16,7,16,10],[16,18,16,19],[17,0,17,1],[17,2,18,5],[17,7,17,10],[17,18,17,19],[18,0,18,1],[18,7,18,10],[12,17,15,17],[12,18,15,19],[13,0,13,1],[13,2,13,5],[13,14,15,14],[13,15,15,15],[13,16,15,16],[14,0,14,5],[15,0,15,1],[15,2,15,5],[12,0,12,1],[12,2,12,5],[12,7,15,10],[12,11,15,11],[12,12,15,12],[12,13,15,13],[9,16,9,17],[9,18,9,19],[10,0,10,1],[10,2,10,5],[11,0,11,1],[11,2,11,5],[6,14,6,15],[7,0,8,1],[7,2,8,5],[7,7,7,9],[8,7,8,9],[9,0,9,1],[9,2,9,5],[9,7,9,9],[0,6,0,19],[1,7,1,19],[2,0,3,2],[2,3,3,5],[2,7,2,19],[4,0,4,5],[4,7,6,9],[4,10,4,11],[4,12,4,13],[4,14,4,15],[4,16,4,19],[5,0,6,1],[5,2,6,5],[5,10,5,11],[5,12,5,13],[5,14,5,15],[5,16,5,17],[5,18,5,19],[6,10,6,11],[6,12,6,13]]}
[null,null,null,null,null,null," MORAVSKOSLEZSKÝ KYNOLOGICKÝ SVAZ, z. s."]
[null,null,null,null,null,null," ","Člen FCI prostřednictvím Českomoravské kynologické unie"]
["Druh a stupeň",null,null,{"$f":"IF(Soupiska!W78=\"M\",Soupiska!B78,\"NE\")","v":"NE"},null,null," ","POTVRZENÍ O VYKONANÉ ZKOUŠCE MZŘ"]
[]
["Data psa-feny",null,null,null,null,null,null,"A - STOPA",null,null,"FCI - IGP 1",null,"FCI - IGP 2",null,"FCI - IGP 3",null,"FCI - IGP IFH"]
["Jméno:",null,{"$f":"Soupiska!C78","v":0},null,null,null,null,null,null,null,"FCI - FPr 1",null,"FCI - FPr 2",null,"FCI - FPr 3",null,"Stopa č. 1",null,"Stopa č. 2"]
[null,null,null,null,null,null,null,null,null,null,"FCI - IFH 1",null,"FCI - IFH 2",null,"FCI - IFH 3",null,79," ",79]
["Chovná stanice:",null,{"$f":"Soupiska!E78","v":0},null,null,null,null,"Vlastní - cizí",null,null,79," ",79," ",79," ",21," ",21]
[null,null,null,null,null,null,null,"Předměty",null,null,21," ",21," ",21,null,100,{"$f":"SUM(R7:R8)","v":0},100,{"$f":"SUM(T7:T8)","v":0}]
["Plemeno:",null,{"$f":"Soupiska!I78","v":0},null,null,null,null,"Celkem",null,null,100,{"$f":"SUM(L8:L9)","v":0},100,{"$f":"SUM(N8:N9)","v":0},100,{"$f":"SUM(P8:P9)","v":0},200,null,{"$f":"SUM(R9,T9)","v":0}]
["Pohlaví:",null,{"$f":"Soupiska!K78","v":0}]
["Narozen:",null,{"$f":"Soupiska!L78","v":"00:00:00"},null,null,null,null,null,null,null,null,null,null,null,null," "]
["Č.záp.:",null,{"$f":"Soupiska!N78","v":0},null,null,null,null,"B - POSLUŠNOST",null,null,null,"FCI - IBGH 1","FCI - IBGH 2","FCI - IBGH 3","FCI - GPr 1-3, Upr 1-3",null,null,"FCI - BH/VT","BODY"]
["T.č./čip:",null,{"$f":"Soupiska!P78","v":0},null,null,null,null,null,null,null,null,null,null,null,"FCI - IGP 1   ","FCI - IGP 2              ","FCI - IGP 3"]
["Data psovoda"]
["Jméno:",null,{"$f":"Soupiska!C79","v":0}]
["Příjmení:",null,{"$f":"Soupiska!E79","v":0},null,null,null,null,"Ovladatelnost na vodítku",null,null,null,30,20," X"," X"," X","  X",30]
["Bydliště:",null,{"$f":"Soupiska!I79","v":0},null,null,null,null,"Ovladatelnost bez vodítka",null,null,null,30,20,20,15,15,15,"X"]
[null,null,null,null,null,null,null,"Odložení v sedě",null,null,null,15,15,10,10,10,10,10]
["Narozen:",null,{"$f":"DATE(IF(MID(Soupiska!C80,1,2)*1 > YEAR(TODAY())-2000, 1900, 2000) + MID(Soupiska!C80,1,2), MOD(MID(Soupiska!C80,3,2),50), MID(Soupiska!C80,5,2))","v":{"$error":"#VALUE!"}},null,null,null,null,"Odložení vleže s přivoláním",null,null,null,15,15,10,10,10,10,10]
["Člen ZO:",null,{"$f":"Soupiska!I80","v":0},null,null,null,null,"Odložení ve stoje",null,null,null," X"," X",10," X",10,10," X"]
[null,null,null,null,null,null,null,"Aport volný",null,null,null," X",10,15,15,10,10," X"]
["Data akce",null,null,null,null,null,null,"Skok přes překážku - 2 směry",null,null,null," X"," X"," X",15," X"," X"," X"]
["Datum:",null,{"$f":"Soupiska!T6","v":"00:00:00"},null,null,null,null,"Aport skokem",null,null,null," X"," X"," X","X",15,15," X"]
["Místo:",null,{"$f":"Soupiska!P5","v":0},null,null,null,null,"Šplh jedním směrem",null,null,null," X"," X"," X",15,10," X"," X"]
["Ved.zk.:",null,{"$f":"Soupiska!D6","v":0},null,null,null,null,"Aport šplhem",null,null,null," X"," X",15," X","X",10," X"]
["Rozhodčí:",null,{"$f":"Soupiska!P6","v":0},null,null,null,null,"Vysílání vpřed s odložením",null,null,null," X",10,10,10,10,10," X"]
[" ",null,null,null,null,null,null,"Odložení",null,null,null,10,10,10,10,10,10,10]
["        FCI - StPr 1 - 3 ",null,null,null,null,null,null,"Celkem",null,null,null,100,100,100,100,100,100,60,{"$f":"SUM(S17:T28)","v":0}]
["Ovladatelnost",null,null,null,20,null,null,"FCI - BH/VT: Chování psa v doprav. ruchu/zkouška AD",null,null,null,null,null,null,null,"XX"]
["Intenzita vyhledání",null,null,null,20]
["Vytrvalost",null,null,null,10," ",null,null,null,null,null,null,null,null,null,null,null,null,null," "]
["Chování psovoda",null,null,null,10,null,null,"C - OBRANA",null,null,null,"FCI - IGP 1",null,null,"  FCI - IGP 2",null,null," FCI - IGP 3"]
["Nalezení předmětů",null,null,null,40," ",null,null,null,null,null,"FCI - GPr1, SPr1",null,null,"FCI - GPr2, SPr2",null,null,"FCI - GPr3, SPr3"]
["Celkem",null,null,null,100,{"$f":"SUM(F30:F34)","v":0},null,"Vyhledání figuranta",null,null,null,5,null,null,5,null,null,10]
[null,null,null,null,null,null,null,"Vystavení a vyštěkání",null,null,null,15,null,null,15,null,null,15]
["Výsledek zkoušky",null,null,null,null,null,null,"Pokus o útěk",null,null,null,20,null,null,15,null,null,10]
["A - stopa",null,null,{"$f":"F35+L10+N10+P10+S10","v":0},null,null,null,"Obrana psa při hlídání",null,null,null,30,null,null,20,null,null,15]
["B - poslušnost",null,null,{"$f":"S29","v":0},null,null,null,"Zadní doprovod",null,null,null," X"," X",null,5,null,null,5]
["C - obrana",null,null,{"$f":"M43+P43+S43","v":0},null,null,null,"Přepad psa při doprovodu",null,null,null," X"," X",null," X"," X",null,15]
["D - BH-VT/AD",null,null,{"$f":"IF(P30=\"XX\",\" \",P30)","v":" "},null,null,null,"Útok na psa z pohybu",null,null,null,30,null,null,20,null,null,15]
["CELKEM",null,{"$f":"VLOOKUP(D3,TYPY!A$1:D$65536,4,FALSE)","v":{"$error":"#N/A"}},{"$f":"SUM(D38:F40)","v":0},null,null,null,"Obrana psa při hlídání",null,null,null," X"," X",null,20,null,null,15]
["ZNÁMKA",null,null,{"$f":"IF(EXACT(D3,\"FCI-IGP-IFH\"),IF(SUM(R9,T9)<70,\"N\",VLOOKUP(D42,TYPY!$D$44:$E$105,2,FALSE)),IF(D42>0,IFERROR(IF(C42=300,VLOOKUP(D42,TYPY!$B$44:$C$135,2,FALSE),IF(C42=200,VLOOKUP(D42,TYPY!$D$44:$E$105,2,FALSE),IF(C42=100,VLOOKUP(D42,TYPY!$F$44:$G$75,2,FALSE),IF(AND(C42=60,D41=\"Obstál\"),VLOOKUP(D42,TYPY!$H$44:$I$63,2,FALSE),\"N\")))),\"N\"),\" \"))","v":" "},null,null,null,"Celkem",null,null,null,100,{"$f":"SUM(M35:N42)","v":0},null,100,{"$f":"SUM(P35:Q42)","v":0},null,100,{"$f":"SUM(S35:T42)","v":0}]
[]
[]
[]
[]
[" ",null,null,null,null,null,null,null,null," ",null,null,null," "]
["Razítko organizace",null,null,null,null,null,null,null,null,"Podpis vedoucího zkoušek",null,null,null,"Podpis a razítko rozhodčího"]

{"sheet":"MZR24","index":23,"n_rows":49,"n_cols":20,"rows_kept":49,"cut":false,"hidden":true,"merged":[[48,0,48,7],[48,9,48,11],[48,13,48,19],[42,0,42,2],[42,3,42,5],[42,7,42,10],[42,12,42,13],[42,15,42,16],[42,18,42,19],[41,0,41,1],[41,3,41,5],[41,7,41,10],[41,12,41,13],[41,15,41,16],[41,18,41,19],[40,0,40,2],[40,3,40,5],[40,7,40,10],[40,12,40,13],[40,15,40,16],[40,18,40,19],[39,0,39,2],[39,3,39,5],[39,7,39,10],[39,12,39,13],[39,15,39,16],[39,18,39,19],[38,0,38,2],[38,3,38,5],[38,7,38,10],[38,12,38,13],[38,15,38,16],[38,18,38,19],[34,0,34,3],[34,7,34,10],[34,12,34,13],[34,15,34,16],[34,18,34,19],[37,0,37,2],[37,3,37,5],[37,7,37,10],[37,12,37,13],[37,15,37,16],[37,18,37,19],[35,7,35,10],[35,12,35,13],[35,15,35,16],[35,18,35,19],[36,0,36,5],[36,7,36,10],[36,12,36,13],[36,15,36,16],[36,18,36,19],[30,0,30,3],[31,0,31,3],[32,0,32,3],[32,7,33,10],[32,11,32,13],[32,14,32,16],[28,0,28,5],[28,7,28,10],[28,18,28,19],[29,0,29,3],[29,7,29,14],[29,15,29,19],[32,17,32,19],[33,0,33,3],[33,11,33,13],[33,14,33,16],[33,17,33,19],[26,0,26,1],[26,2,26,5],[26,7,26,10],[26,18,26,19],[27,7,27,10],[27,18,27,19],[24,0,24,1],[24,2,24,5],[24,7,24,10],[24,18,24,19],[25,0,25,1],[25,2,25,5],[25,7,25,10],[25,18,25,19],[21,18,21,19],[22,0,22,5],[22,7,22,10],[22,18,22,19],[23,0,23,1],[23,2,23,5],[23,7,23,10],[23,18,23,19],[18,18,18,19],[19,0,19,1],[19,2,19,5],[19,7,19,10],[19,18,19,19],[20,0,21,1],[20,2,21,5],[20,7,20,10],[20,18,20,19],[21,7,21,10],[16,0,16,1],[16,2,16,5],[16,7,16,10],[16,18,16,19],[17,0,17,1],[17,2,18,5],[17,7,17,10],[17,18,17,19],[18,0,18,1],[18,7,18,10],[12,17,15,17],[12,18,15,19],[13,0,13,1],[13,2,13,5],[13,14,15,14],[13,15,15,15],[13,16,15,16],[14,0,14,5],[15,0,15,1],[15,2,15,5],[12,0,12,1],[12,2,12,5],[12,7,15,10],[12,11,15,11],[12,12,15,12],[12,13,15,13],[9,16,9,17],[9,18,9,19],[10,0,10,1],[10,2,10,5],[11,0,11,1],[11,2,11,5],[6,14,6,15],[7,0,8,1],[7,2,8,5],[7,7,7,9],[8,7,8,9],[9,0,9,1],[9,2,9,5],[9,7,9,9],[0,6,0,19],[1,7,1,19],[2,0,3,2],[2,3,3,5],[2,7,2,19],[4,0,4,5],[4,7,6,9],[4,10,4,11],[4,12,4,13],[4,14,4,15],[4,16,4,19],[5,0,6,1],[5,2,6,5],[5,10,5,11],[5,12,5,13],[5,14,5,15],[5,16,5,17],[5,18,5,19],[6,10,6,11],[6,12,6,13]]}
[null,null,null,null,null,null," MORAVSKOSLEZSKÝ KYNOLOGICKÝ SVAZ, z. s."]
[null,null,null,null,null,null," ","Člen FCI prostřednictvím Českomoravské kynologické unie"]
["Druh a stupeň",null,null,{"$f":"IF(Soupiska!W81=\"M\",Soupiska!B81,\"NE\")","v":"NE"},null,null," ","POTVRZENÍ O VYKONANÉ ZKOUŠCE MZŘ"]
[]
["Data psa-feny",null,null,null,null,null,null,"A - STOPA",null,null,"FCI - IGP 1",null,"FCI - IGP 2",null,"FCI - IGP 3",null,"FCI - IGP IFH"]
["Jméno:",null,{"$f":"Soupiska!C81","v":0},null,null,null,null,null,null,null,"FCI - FPr 1",null,"FCI - FPr 2",null,"FCI - FPr 3",null,"Stopa č. 1",null,"Stopa č. 2"]
[null,null,null,null,null,null,null,null,null,null,"FCI - IFH 1",null,"FCI - IFH 2",null,"FCI - IFH 3",null,79," ",79]
["Chovná stanice:",null,{"$f":"Soupiska!E81","v":0},null,null,null,null,"Vlastní - cizí",null,null,79," ",79," ",79," ",21," ",21]
[null,null,null,null,null,null,null,"Předměty",null,null,21," ",21," ",21,null,100,{"$f":"SUM(R7:R8)","v":0},100,{"$f":"SUM(T7:T8)","v":0}]
["Plemeno:",null,{"$f":"Soupiska!I81","v":0},null,null,null,null,"Celkem",null,null,100,{"$f":"SUM(L8:L9)","v":0},100,{"$f":"SUM(N8:N9)","v":0},100,{"$f":"SUM(P8:P9)","v":0},200,null,{"$f":"SUM(R9,T9)","v":0}]
["Pohlaví:",null,{"$f":"Soupiska!K81","v":0}]
["Narozen:",null,{"$f":"Soupiska!L81","v":"00:00:00"},null,null,null,null,null,null,null,null,null,null,null,null," "]
["Č.záp.:",null,{"$f":"Soupiska!N81","v":0},null,null,null,null,"B - POSLUŠNOST",null,null,null,"FCI - IBGH 1","FCI - IBGH 2","FCI - IBGH 3","FCI - GPr 1-3, Upr 1-3",null,null,"FCI - BH/VT","BODY"]
["T.č./čip:",null,{"$f":"Soupiska!P81","v":0},null,null,null,null,null,null,null,null,null,null,null,"FCI - IGP 1   ","FCI - IGP 2              ","FCI - IGP 3"]
["Data psovoda"]
["Jméno:",null,{"$f":"Soupiska!C82","v":0}]
["Příjmení:",null,{"$f":"Soupiska!E82","v":0},null,null,null,null,"Ovladatelnost na vodítku",null,null,null,30,20," X"," X"," X","  X",30]
["Bydliště:",null,{"$f":"Soupiska!I82","v":0},null,null,null,null,"Ovladatelnost bez vodítka",null,null,null,30,20,20,15,15,15,"X"]
[null,null,null,null,null,null,null,"Odložení v sedě",null,null,null,15,15,10,10,10,10,10]
["Narozen:",null,{"$f":"DATE(IF(MID(Soupiska!C83,1,2)*1 > YEAR(TODAY())-2000, 1900, 2000) + MID(Soupiska!C83,1,2), MOD(MID(Soupiska!C83,3,2),50), MID(Soupiska!C83,5,2))","v":{"$error":"#VALUE!"}},null,null,null,null,"Odložení vleže s přivoláním",null,null,null,15,15,10,10,10,10,10]
["Člen ZO:",null,{"$f":"Soupiska!I83","v":0},null,null,null,null,"Odložení ve stoje",null,null,null," X"," X",10," X",10,10," X"]
[null,null,null,null,null,null,null,"Aport volný",null,null,null," X",10,15,15,10,10," X"]
["Data akce",null,null,null,null,null,null,"Skok přes překážku - 2 směry",null,null,null," X"," X"," X",15," X"," X"," X"]
["Datum:",null,{"$f":"Soupiska!T6","v":"00:00:00"},null,null,null,null,"Aport skokem",null,null,null," X"," X"," X","X",15,15," X"]
["Místo:",null,{"$f":"Soupiska!P5","v":0},null,null,null,null,"Šplh jedním směrem",null,null,null," X"," X"," X",15,10," X"," X"]
["Ved.zk.:",null,{"$f":"Soupiska!D6","v":0},null,null,null,null,"Aport šplhem",null,null,null," X"," X",15," X","X",10," X"]
["Rozhodčí:",null,{"$f":"Soupiska!P6","v":0},null,null,null,null,"Vysílání vpřed s odložením",null,null,null," X",10,10,10,10,10," X"]
[" ",null,null,null,null,null,null,"Odložení",null,null,null,10,10,10,10,10,10,10]
["        FCI - StPr 1 - 3 ",null,null,null,null,null,null,"Celkem",null,null,null,100,100,100,100,100,100,60,{"$f":"SUM(S17:T28)","v":0}]
["Ovladatelnost",null,null,null,20,null,null,"FCI - BH/VT: Chování psa v doprav. ruchu/zkouška AD",null,null,null,null,null,null,null,"XX"]
["Intenzita vyhledání",null,null,null,20]
["Vytrvalost",null,null,null,10," ",null,null,null,null,null,null,null,null,null,null,null,null,null," "]
["Chování psovoda",null,null,null,10,null,null,"C - OBRANA",null,null,null,"FCI - IGP 1",null,null,"  FCI - IGP 2",null,null," FCI - IGP 3"]
["Nalezení předmětů",null,null,null,40," ",null,null,null,null,null,"FCI - GPr1, SPr1",null,null,"FCI - GPr2, SPr2",null,null,"FCI - GPr3, SPr3"]
["Celkem",null,null,null,100,{"$f":"SUM(F30:F34)","v":0},null,"Vyhledání figuranta",null,null,null,5,null,null,5,null,null,10]
[null,null,null,null,null,null,null,"Vystavení a vyštěkání",null,null,null,15,null,null,15,null,null,15]
["Výsledek zkoušky",null,null,null,null,null,null,"Pokus o útěk",null,null,null,20,null,null,15,null,null,10]
["A - stopa",null,null,{"$f":"F35+L10+N10+P10+S10","v":0},null,null,null,"Obrana psa při hlídání",null,null,null,30,null,null,20,null,null,15]
["B - poslušnost",null,null,{"$f":"S29","v":0},null,null,null,"Zadní doprovod",null,null,null," X"," X",null,5,null,null,5]
["C - obrana",null,null,{"$f":"M43+P43+S43","v":0},null,null,null,"Přepad psa při doprovodu",null,null,null," X"," X",null," X"," X",null,15]
["D - BH-VT/AD",null,null,{"$f":"IF(P30=\"XX\",\" \",P30)","v":" "},null,null,null,"Útok na psa z pohybu",null,null,null,30,null,null,20,null,null,15]
["CELKEM",null,{"$f":"VLOOKUP(D3,TYPY!A$1:D$65536,4,FALSE)","v":{"$error":"#N/A"}},{"$f":"SUM(D38:F40)","v":0},null,null,null,"Obrana psa při hlídání",null,null,null," X"," X",null,20,null,null,15]
["ZNÁMKA",null,null,{"$f":"IF(EXACT(D3,\"FCI-IGP-IFH\"),IF(SUM(R9,T9)<70,\"N\",VLOOKUP(D42,TYPY!$D$44:$E$105,2,FALSE)),IF(D42>0,IFERROR(IF(C42=300,VLOOKUP(D42,TYPY!$B$44:$C$135,2,FALSE),IF(C42=200,VLOOKUP(D42,TYPY!$D$44:$E$105,2,FALSE),IF(C42=100,VLOOKUP(D42,TYPY!$F$44:$G$75,2,FALSE),IF(AND(C42=60,D41=\"Obstál\"),VLOOKUP(D42,TYPY!$H$44:$I$63,2,FALSE),\"N\")))),\"N\"),\" \"))","v":" "},null,null,null,"Celkem",null,null,null,100,{"$f":"SUM(M35:N42)","v":0},null,100,{"$f":"SUM(P35:Q42)","v":0},null,100,{"$f":"SUM(S35:T42)","v":0}]
[]
[]
[]
[]
[" ",null,null,null,null,null,null,null,null," ",null,null,null," "]
["Razítko organizace",null,null,null,null,null,null,null,null,"Podpis vedoucího zkoušek",null,null,null,"Podpis a razítko rozhodčího"]

{"sheet":"MZR25","index":24,"n_rows":49,"n_cols":20,"rows_kept":49,"cut":false,"hidden":true,"merged":[[48,0,48,7],[48,9,48,11],[48,13,48,19],[42,0,42,2],[42,3,42,5],[42,7,42,10],[42,12,42,13],[42,15,42,16],[42,18,42,19],[41,0,41,1],[41,3,41,5],[41,7,41,10],[41,12,41,13],[41,15,41,16],[41,18,41,19],[40,0,40,2],[40,3,40,5],[40,7,40,10],[40,12,40,13],[40,15,40,16],[40,18,40,19],[39,0,39,2],[39,3,39,5],[39,7,39,10],[39,12,39,13],[39,15,39,16],[39,18,39,19],[38,0,38,2],[38,3,38,5],[38,7,38,10],[38,12,38,13],[38,15,38,16],[38,18,38,19],[34,0,34,3],[34,7,34,10],[34,12,34,13],[34,15,34,16],[34,18,34,19],[37,0,37,2],[37,3,37,5],[37,7,37,10],[37,12,37,13],[37,15,37,16],[37,18,37,19],[35,7,35,10],[35,12,35,13],[35,15,35,16],[35,18,35,19],[36,0,36,5],[36,7,36,10],[36,12,36,13],[36,15,36,16],[36,18,36,19],[30,0,30,3],[31,0,31,3],[32,0,32,3],[32,7,33,10],[32,11,32,13],[32,14,32,16],[28,0,28,5],[28,7,28,10],[28,18,28,19],[29,0,29,3],[29,7,29,14],[29,15,29,19],[32,17,32,19],[33,0,33,3],[33,11,33,13],[33,14,33,16],[33,17,33,19],[26,0,26,1],[26,2,26,5],[26,7,26,10],[26,18,26,19],[27,7,27,10],[27,18,27,19],[24,0,24,1],[24,2,24,5],[24,7,24,10],[24,18,24,19],[25,0,25,1],[25,2,25,5],[25,7,25,10],[25,18,25,19],[21,18,21,19],[22,0,22,5],[22,7,22,10],[22,18,22,19],[23,0,23,1],[23,2,23,5],[23,7,23,10],[23,18,23,19],[18,18,18,19],[19,0,19,1],[19,2,19,5],[19,7,19,10],[19,18,19,19],[20,0,21,1],[20,2,21,5],[20,7,20,10],[20,18,20,19],[21,7,21,10],[16,0,16,1],[16,2,16,5],[16,7,16,10],[16,18,16,19],[17,0,17,1],[17,2,18,5],[17,7,17,10],[17,18,17,19],[18,0,18,1],[18,7,18,10],[12,17,15,17],[12,18,15,19],[13,0,13,1],[13,2,13,5],[13,14,15,14],[13,15,15,15],[13,16,15,16],[14,0,14,5],[15,0,15,1],[15,2,15,5],[12,0,12,1],[12,2,12,5],[12,7,15,10],[12,11,15,11],[12,12,15,12],[12,13,15,13],[9,16,9,17],[9,18,9,19],[10,0,10,1],[10,2,10,5],[11,0,11,1],[11,2,11,5],[6,14,6,15],[7,0,8,1],[7,2,8,5],[7,7,7,9],[8,7,8,9],[9,0,9,1],[9,2,9,5],[9,7,9,9],[0,6,0,19],[1,7,1,19],[2,0,3,2],[2,3,3,5],[2,7,2,19],[4,0,4,5],[4,7,6,9],[4,10,4,11],[4,12,4,13],[4,14,4,15],[4,16,4,19],[5,0,6,1],[5,2,6,5],[5,10,5,11],[5,12,5,13],[5,14,5,15],[5,16,5,17],[5,18,5,19],[6,10,6,11],[6,12,6,13]]}
[null,null,null,null,null,null," MORAVSKOSLEZSKÝ KYNOLOGICKÝ SVAZ, z. s."]
[null,null,null,null,null,null," ","Člen FCI prostřednictvím Českomoravské kynologické unie"]
["Druh a stupeň",null,null,{"$f":"IF(Soupiska!W84=\"M\",Soupiska!B84,\"NE\")","v":"NE"},null,null," ","POTVRZENÍ O VYKONANÉ ZKOUŠCE MZŘ"]
[]
["Data psa-feny",null,null,null,null,null,null,"A - STOPA",null,null,"FCI - IGP 1",null,"FCI - IGP 2",null,"FCI - IGP 3",null,"FCI - IGP IFH"]
["Jméno:",null,{"$f":"Soupiska!C84","v":0},null,null,null,null,null,null,null,"FCI - FPr 1",null,"FCI - FPr 2",null,"FCI - FPr 3",null,"Stopa č. 1",null,"Stopa č. 2"]
[null,null,null,null,null,null,null,null,null,null,"FCI - IFH 1",null,"FCI - IFH 2",null,"FCI - IFH 3",null,79," ",79]
["Chovná stanice:",null,{"$f":"Soupiska!E84","v":0},null,null,null,null,"Vlastní - cizí",null,null,79," ",79," ",79," ",21," ",21]
[null,null,null,null,null,null,null,"Předměty",null,null,21," ",21," ",21,null,100,{"$f":"SUM(R7:R8)","v":0},100,{"$f":"SUM(T7:T8)","v":0}]
["Plemeno:",null,{"$f":"Soupiska!I84","v":0},null,null,null,null,"Celkem",null,null,100,{"$f":"SUM(L8:L9)","v":0},100,{"$f":"SUM(N8:N9)","v":0},100,{"$f":"SUM(P8:P9)","v":0},200,null,{"$f":"SUM(R9,T9)","v":0}]
["Pohlaví:",null,{"$f":"Soupiska!K84","v":0}]
["Narozen:",null,{"$f":"Soupiska!L84","v":"00:00:00"},null,null,null,null,null,null,null,null,null,null,null,null," "]
["Č.záp.:",null,{"$f":"Soupiska!N84","v":0},null,null,null,null,"B - POSLUŠNOST",null,null,null,"FCI - IBGH 1","FCI - IBGH 2","FCI - IBGH 3","FCI - GPr 1-3, Upr 1-3",null,null,"FCI - BH/VT","BODY"]
["T.č./čip:",null,{"$f":"Soupiska!P84","v":0},null,null,null,null,null,null,null,null,null,null,null,"FCI - IGP 1   ","FCI - IGP 2              ","FCI - IGP 3"]
["Data psovoda"]
["Jméno:",null,{"$f":"Soupiska!C85","v":0}]
["Příjmení:",null,{"$f":"Soupiska!E85","v":0},null,null,null,null,"Ovladatelnost na vodítku",null,null,null,30,20," X"," X"," X","  X",30]
["Bydliště:",null,{"$f":"Soupiska!I85","v":0},null,null,null,null,"Ovladatelnost bez vodítka",null,null,null,30,20,20,15,15,15,"X"]
[null,null,null,null,null,null,null,"Odložení v sedě",null,null,null,15,15,10,10,10,10,10]
["Narozen:",null,{"$f":"DATE(IF(LEN(Soupiska!C86)=6,IF(MID(Soupiska!C86,1,2)*1>54,1900,2000),1900)+MID(Soupiska!C86,1,2),MOD(MID(Soupiska!C86,3,2),50),MID(Soupiska!C86,5,2))","v":{"$error":"#VALUE!"}},null,null,null,null,"Odložení vleže s přivoláním",null,null,null,15,15,10,10,10,10,10]
["Člen ZO:",null,{"$f":"Soupiska!I86","v":0},null,null,null,null,"Odložení ve stoje",null,null,null," X"," X",10," X",10,10," X"]
[null,null,null,null,null,null,null,"Aport volný",null,null,null," X",10,15,15,10,10," X"]
["Data akce",null,null,null,null,null,null,"Skok přes překážku - 2 směry",null,null,null," X"," X"," X",15," X"," X"," X"]
["Datum:",null,{"$f":"Soupiska!T6","v":"00:00:00"},null,null,null,null,"Aport skokem",null,null,null," X"," X"," X","X",15,15," X"]
["Místo:",null,{"$f":"Soupiska!P5","v":0},null,null,null,null,"Šplh jedním směrem",null,null,null," X"," X"," X",15,10," X"," X"]
["Ved.zk.:",null,{"$f":"Soupiska!D6","v":0},null,null,null,null,"Aport šplhem",null,null,null," X"," X",15," X","X",10," X"]
["Rozhodčí:",null,{"$f":"Soupiska!P6","v":0},null,null,null,null,"Vysílání vpřed s odložením",null,null,null," X",10,10,10,10,10," X"]
[" ",null,null,null,null,null,null,"Odložení",null,null,null,10,10,10,10,10,10,10]
["        FCI - StPr 1 - 3 ",null,null,null,null,null,null,"Celkem",null,null,null,100,100,100,100,100,100,60,{"$f":"SUM(S17:T28)","v":0}]
["Ovladatelnost",null,null,null,20,null,null,"FCI - BH/VT: Chování psa v doprav. ruchu/zkouška AD",null,null,null,null,null,null,null,"XX"]
["Intenzita vyhledání",null,null,null,20]
["Vytrvalost",null,null,null,10," ",null,null,null,null,null,null,null,null,null,null,null,null,null," "]
["Chování psovoda",null,null,null,10,null,null,"C - OBRANA",null,null,null,"FCI - IGP 1",null,null,"  FCI - IGP 2",null,null," FCI - IGP 3"]
["Nalezení předmětů",null,null,null,40," ",null,null,null,null,null,"FCI - GPr1, SPr1",null,null,"FCI - GPr2, SPr2",null,null,"FCI - GPr3, SPr3"]
["Celkem",null,null,null,100,{"$f":"SUM(F30:F34)","v":0},null,"Vyhledání figuranta",null,null,null,5,null,null,5,null,null,10]
[null,null,null,null,null,null,null,"Vystavení a vyštěkání",null,null,null,15,null,null,15,null,null,15]
["Výsledek zkoušky",null,null,null,null,null,null,"Pokus o útěk",null,null,null,20,null,null,15,null,null,10]
["A - stopa",null,null,{"$f":"F35+L10+N10+P10+S10","v":0},null,null,null,"Obrana psa při hlídání",null,null,null,30,null,null,20,null,null,15]
["B - poslušnost",null,null,{"$f":"S29","v":0},null,null,null,"Zadní doprovod",null,null,null," X"," X",null,5,null,null,5]
["C - obrana",null,null,{"$f":"M43+P43+S43","v":0},null,null,null,"Přepad psa při doprovodu",null,null,null," X"," X",null," X"," X",null,15]
["D - BH-VT/AD",null,null,{"$f":"IF(P30=\"XX\",\" \",P30)","v":" "},null,null,null,"Útok na psa z pohybu",null,null,null,30,null,null,20,null,null,15]
["CELKEM",null,{"$f":"VLOOKUP(D3,TYPY!A$1:D$65536,4,FALSE)","v":{"$error":"#N/A"}},{"$f":"SUM(D38:F40)","v":0},null,null,null,"Obrana psa při hlídání",null,null,null," X"," X",null,20,null,null,15]
["ZNÁMKA",null,null,{"$f":"IF(EXACT(D3,\"FCI-IGP-IFH\"),IF(SUM(R9,T9)<70,\"N\",VLOOKUP(D42,TYPY!$D$44:$E$105,2,FALSE)),IF(D42>0,IFERROR(IF(C42=300,VLOOKUP(D42,TYPY!$B$44:$C$135,2,FALSE),IF(C42=200,VLOOKUP(D42,TYPY!$D$44:$E$105,2,FALSE),IF(C42=100,VLOOKUP(D42,TYPY!$F$44:$G$75,2,FALSE),IF(AND(C42=60,D41=\"Obstál\"),VLOOKUP(D42,TYPY!$H$44:$I$63,2,FALSE),\"N\")))),\"N\"),\" \"))","v":" "},null,null,null,"Celkem",null,null,null,100,{"$f":"SUM(M35:N42)","v":0},null,100,{"$f":"SUM(P35:Q42)","v":0},null,100,{"$f":"SUM(S35:T42)","v":0}]
[]
[]
[]
[]
[" ",null,null,null,null,null,null,null,null," ",null,null,null," "]
["Razítko organizace",null,null,null,null,null,null,null,null,"Podpis vedoucího zkoušek",null,null,null,"Podpis a razítko rozhodčího"]

{"sheet":"MZR26","index":25,"n_rows":49,"n_cols":20,"rows_kept":49,"cut":false,"hidden":true,"merged":[[48,0,48,7],[48,9,48,11],[48,13,48,19],[42,0,42,2],[42,3,42,5],[42,7,42,10],[42,12,42,13],[42,15,42,16],[42,18,42,19],[41,0,41,1],[41,3,41,5],[41,7,41,10],[41,12,41,13],[41,15,41,16],[41,18,41,19],[40,0,40,2],[40,3,40,5],[40,7,40,10],[40,12,40,13],[40,15,40,16],[40,18,40,19],[39,0,39,2],[39,3,39,5],[39,7,39,10],[39,12,39,13],[39,15,39,16],[39,18,39,19],[38,0,38,2],[38,3,38,5],[38,7,38,10],[38,12,38,13],[38,15,38,16],[38,18,38,19],[34,0,34,3],[34,7,34,10],[34,12,34,13],[34,15,34,16],[34,18,34,19],[37,0,37,2],[37,3,37,5],[37,7,37,10],[37,12,37,13],[37,15,37,16],[37,18,37,19],[35,7,35,10],[35,12,35,13],[35,15,35,16],[35,18,35,19],[36,0,36,5],[36,7,36,10],[36,12,36,13],[36,15,36,16],[36,18,36,19],[30,0,30,3],[31,0,31,3],[32,0,32,3],[32,7,33,10],[32,11,32,13],[32,14,32,16],[28,0,28,5],[28,7,28,10],[28,18,28,19],[29,0,29,3],[29,7,29,14],[29,15,29,19],[32,17,32,19],[33,0,33,3],[33,11,33,13],[33,14,33,16],[33,17,33,19],[26,0,26,1],[26,2,26,5],[26,7,26,10],[26,18,26,19],[27,7,27,10],[27,18,27,19],[24,0,24,1],[24,2,24,5],[24,7,24,10],[24,18,24,19],[25,0,25,1],[25,2,25,5],[25,7,25,10],[25,18,25,19],[21,18,21,19],[22,0,22,5],[22,7,22,10],[22,18,22,19],[23,0,23,1],[23,2,23,5],[23,7,23,10],[23,18,23,19],[18,18,18,19],[19,0,19,1],[19,2,19,5],[19,7,19,10],[19,18,19,19],[20,0,21,1],[20,2,21,5],[20,7,20,10],[20,18,20,19],[21,7,21,10],[16,0,16,1],[16,2,16,5],[16,7,16,10],[16,18,16,19],[17,0,17,1],[17,2,18,5],[17,7,17,10],[17,18,17,19],[18,0,18,1],[18,7,18,10],[12,17,15,17],[12,18,15,19],[13,0,13,1],[13,2,13,5],[13,14,15,14],[13,15,15,15],[13,16,15,16],[14,0,14,5],[15,0,15,1],[15,2,15,5],[12,0,12,1],[12,2,12,5],[12,7,15,10],[12,11,15,11],[12,12,15,12],[12,13,15,13],[9,16,9,17],[9,18,9,19],[10,0,10,1],[10,2,10,5],[11,0,11,1],[11,2,11,5],[6,14,6,15],[7,0,8,1],[7,2,8,5],[7,7,7,9],[8,7,8,9],[9,0,9,1],[9,2,9,5],[9,7,9,9],[0,6,0,19],[1,7,1,19],[2,0,3,2],[2,3,3,5],[2,7,2,19],[4,0,4,5],[4,7,6,9],[4,10,4,11],[4,12,4,13],[4,14,4,15],[4,16,4,19],[5,0,6,1],[5,2,6,5],[5,10,5,11],[5,12,5,13],[5,14,5,15],[5,16,5,17],[5,18,5,19],[6,10,6,11],[6,12,6,13]]}
[null,null,null,null,null,null," MORAVSKOSLEZSKÝ KYNOLOGICKÝ SVAZ, z. s."]
[null,null,null,null,null,null," ","Člen FCI prostřednictvím Českomoravské kynologické unie"]
["Druh a stupeň",null,null,{"$f":"IF(Soupiska!W87=\"M\",Soupiska!B87,\"NE\")","v":"NE"},null,null," ","POTVRZENÍ O VYKONANÉ ZKOUŠCE MZŘ"]
[]
["Data psa-feny",null,null,null,null,null,null,"A - STOPA",null,null,"FCI - IGP 1",null,"FCI - IGP 2",null,"FCI - IGP 3",null,"FCI - IGP IFH"]
["Jméno:",null,{"$f":"Soupiska!C87","v":0},null,null,null,null,null,null,null,"FCI - FPr 1",null,"FCI - FPr 2",null,"FCI - FPr 3",null,"Stopa č. 1",null,"Stopa č. 2"]
[null,null,null,null,null,null,null,null,null,null,"FCI - IFH 1",null,"FCI - IFH 2",null,"FCI - IFH 3",null,79," ",79]
["Chovná stanice:",null,{"$f":"Soupiska!E87","v":0},null,null,null,null,"Vlastní - cizí",null,null,79," ",79," ",79," ",21," ",21]
[null,null,null,null,null,null,null,"Předměty",null,null,21," ",21," ",21,null,100,{"$f":"SUM(R7:R8)","v":0},100,{"$f":"SUM(T7:T8)","v":0}]
["Plemeno:",null,{"$f":"Soupiska!I87","v":0},null,null,null,null,"Celkem",null,null,100,{"$f":"SUM(L8:L9)","v":0},100,{"$f":"SUM(N8:N9)","v":0},100,{"$f":"SUM(P8:P9)","v":0},200,null,{"$f":"SUM(R9,T9)","v":0}]
["Pohlaví:",null,{"$f":"Soupiska!K87","v":0}]
["Narozen:",null,{"$f":"Soupiska!L87","v":"00:00:00"},null,null,null,null,null,null,null,null,null,null,null,null," "]
["Č.záp.:",null,{"$f":"Soupiska!N87","v":0},null,null,null,null,"B - POSLUŠNOST",null,null,null,"FCI - IBGH 1","FCI - IBGH 2","FCI - IBGH 3","FCI - GPr 1-3, Upr 1-3",null,null,"FCI - BH/VT","BODY"]
["T.č./čip:",null,{"$f":"Soupiska!P87","v":0},null,null,null,null,null,null,null,null,null,null,null,"FCI - IGP 1   ","FCI - IGP 2              ","FCI - IGP 3"]
["Data psovoda"]
["Jméno:",null,{"$f":"Soupiska!C88","v":0}]
["Příjmení:",null,{"$f":"Soupiska!E88","v":0},null,null,null,null,"Ovladatelnost na vodítku",null,null,null,30,20," X"," X"," X","  X",30]
["Bydliště:",null,{"$f":"Soupiska!I88","v":0},null,null,null,null,"Ovladatelnost bez vodítka",null,null,null,30,20,20,15,15,15,"X"]
[null,null,null,null,null,null,null,"Odložení v sedě",null,null,null,15,15,10,10,10,10,10]
["Narozen:",null,{"$f":"DATE(IF(MID(Soupiska!C89,1,2)*1 > YEAR(TODAY())-2000, 1900, 2000) + MID(Soupiska!C89,1,2), MOD(MID(Soupiska!C89,3,2),50), MID(Soupiska!C89,5,2))","v":{"$error":"#VALUE!"}},null,null,null,null,"Odložení vleže s přivoláním",null,null,null,15,15,10,10,10,10,10]
["Člen ZO:",null,{"$f":"Soupiska!I89","v":0},null,null,null,null,"Odložení ve stoje",null,null,null," X"," X",10," X",10,10," X"]
[null,null,null,null,null,null,null,"Aport volný",null,null,null," X",10,15,15,10,10," X"]
["Data akce",null,null,null,null,null,null,"Skok přes překážku - 2 směry",null,null,null," X"," X"," X",15," X"," X"," X"]
["Datum:",null,{"$f":"Soupiska!T6","v":"00:00:00"},null,null,null,null,"Aport skokem",null,null,null," X"," X"," X","X",15,15," X"]
["Místo:",null,{"$f":"Soupiska!P5","v":0},null,null,null,null,"Šplh jedním směrem",null,null,null," X"," X"," X",15,10," X"," X"]
["Ved.zk.:",null,{"$f":"Soupiska!D6","v":0},null,null,null,null,"Aport šplhem",null,null,null," X"," X",15," X","X",10," X"]
["Rozhodčí:",null,{"$f":"Soupiska!P6","v":0},null,null,null,null,"Vysílání vpřed s odložením",null,null,null," X",10,10,10,10,10," X"]
[" ",null,null,null,null,null,null,"Odložení",null,null,null,10,10,10,10,10,10,10]
["        FCI - StPr 1 - 3 ",null,null,null,null,null,null,"Celkem",null,null,null,100,100,100,100,100,100,60,{"$f":"SUM(S17:T28)","v":0}]
["Ovladatelnost",null,null,null,20,null,null,"FCI - BH/VT: Chování psa v doprav. ruchu/zkouška AD",null,null,null,null,null,null,null,"XX"]
["Intenzita vyhledání",null,null,null,20]
["Vytrvalost",null,null,null,10," ",null,null,null,null,null,null,null,null,null,null,null,null,null," "]
["Chování psovoda",null,null,null,10,null,null,"C - OBRANA",null,null,null,"FCI - IGP 1",null,null,"  FCI - IGP 2",null,null," FCI - IGP 3"]
["Nalezení předmětů",null,null,null,40," ",null,null,null,null,null,"FCI - GPr1, SPr1",null,null,"FCI - GPr2, SPr2",null,null,"FCI - GPr3, SPr3"]
["Celkem",null,null,null,100,{"$f":"SUM(F30:F34)","v":0},null,"Vyhledání figuranta",null,null,null,5,null,null,5,null,null,10]
[null,null,null,null,null,null,null,"Vystavení a vyštěkání",null,null,null,15,null,null,15,null,null,15]
["Výsledek zkoušky",null,null,null,null,null,null,"Pokus o útěk",null,null,null,20,null,null,15,null,null,10]
["A - stopa",null,null,{"$f":"F35+L10+N10+P10+S10","v":0},null,null,null,"Obrana psa při hlídání",null,null,null,30,null,null,20,null,null,15]
["B - poslušnost",null,null,{"$f":"S29","v":0},null,null,null,"Zadní doprovod",null,null,null," X"," X",null,5,null,null,5]
["C - obrana",null,null,{"$f":"M43+P43+S43","v":0},null,null,null,"Přepad psa při doprovodu",null,null,null," X"," X",null," X"," X",null,15]
["D - BH-VT/AD",null,null,{"$f":"IF(P30=\"XX\",\" \",P30)","v":" "},null,null,null,"Útok na psa z pohybu",null,null,null,30,null,null,20,null,null,15]
["CELKEM",null,{"$f":"VLOOKUP(D3,TYPY!A$1:D$65536,4,FALSE)","v":{"$error":"#N/A"}},{"$f":"SUM(D38:F40)","v":0},null,null,null,"Obrana psa při hlídání",null,null,null," X"," X",null,20,null,null,15]
["ZNÁMKA",null,null,{"$f":"IF(EXACT(D3,\"FCI-IGP-IFH\"),IF(SUM(R9,T9)<70,\"N\",VLOOKUP(D42,TYPY!$D$44:$E$105,2,FALSE)),IF(D42>0,IFERROR(IF(C42=300,VLOOKUP(D42,TYPY!$B$44:$C$135,2,FALSE),IF(C42=200,VLOOKUP(D42,TYPY!$D$44:$E$105,2,FALSE),IF(C42=100,VLOOKUP(D42,TYPY!$F$44:$G$75,2,FALSE),IF(AND(C42=60,D41=\"Obstál\"),VLOOKUP(D42,TYPY!$H$44:$I$63,2,FALSE),\"N\")))),\"N\"),\" \"))","v":" "},null,null,null,"Celkem",null,null,null,100,{"$f":"SUM(M35:N42)","v":0},null,100,{"$f":"SUM(P35:Q42)","v":0},null,100,{"$f":"SUM(S35:T42)","v":0}]
[]
[]
[]
[]
[" ",null,null,null,null,null,null,null,null," ",null,null,null," "]
["Razítko organizace",null,null,null,null,null,null,null,null,"Podpis vedoucího zkoušek",null,null,null,"Podpis a razítko rozhodčího"]

{"sheet":"MZR27","index":26,"n_rows":49,"n_cols":20,"rows_kept":49,"cut":false,"hidden":true,"merged":[[48,0,48,7],[48,9,48,11],[48,13,48,19],[42,0,42,2],[42,3,42,5],[42,7,42,10],[42,12,42,13],[42,15,42,16],[42,18,42,19],[41,0,41,1],[41,3,41,5],[41,7,41,10],[41,12,41,13],[41,15,41,16],[41,18,41,19],[40,0,40,2],[40,3,40,5],[40,7,40,10],[40,12,40,13],[40,15,40,16],[40,18,40,19],[39,0,39,2],[39,3,39,5],[39,7,39,10],[39,12,39,13],[39,15,39,16],[39,18,39,19],[38,0,38,2],[38,3,38,5],[38,7,38,10],[38,12,38,13],[38,15,38,16],[38,18,38,19],[34,0,34,3],[34,7,34,10],[34,12,34,13],[34,15,34,16],[34,18,34,19],[37,0,37,2],[37,3,37,5],[37,7,37,10],[37,12,37,13],[37,15,37,16],[37,18,37,19],[35,7,35,10],[35,12,35,13],[35,15,35,16],[35,18,35,19],[36,0,36,5],[36,7,36,10],[36,12,36,13],[36,15,36,16],[36,18,36,19],[30,0,30,3],[31,0,31,3],[32,0,32,3],[32,7,33,10],[32,11,32,13],[32,14,32,16],[28,0,28,5],[28,7,28,10],[28,18,28,19],[29,0,29,3],[29,7,29,14],[29,15,29,19],[32,17,32,19],[33,0,33,3],[33,11,33,13],[33,14,33,16],[33,17,33,19],[26,0,26,1],[26,2,26,5],[26,7,26,10],[26,18,26,19],[27,7,27,10],[27,18,27,19],[24,0,24,1],[24,2,24,5],[24,7,24,10],[24,18,24,19],[25,0,25,1],[25,2,25,5],[25,7,25,10],[25,18,25,19],[21,18,21,19],[22,0,22,5],[22,7,22,10],[22,18,22,19],[23,0,23,1],[23,2,23,5],[23,7,23,10],[23,18,23,19],[18,18,18,19],[19,0,19,1],[19,2,19,5],[19,7,19,10],[19,18,19,19],[20,0,21,1],[20,2,21,5],[20,7,20,10],[20,18,20,19],[21,7,21,10],[16,0,16,1],[16,2,16,5],[16,7,16,10],[16,18,16,19],[17,0,17,1],[17,2,18,5],[17,7,17,10],[17,18,17,19],[18,0,18,1],[18,7,18,10],[12,17,15,17],[12,18,15,19],[13,0,13,1],[13,2,13,5],[13,14,15,14],[13,15,15,15],[13,16,15,16],[14,0,14,5],[15,0,15,1],[15,2,15,5],[12,0,12,1],[12,2,12,5],[12,7,15,10],[12,11,15,11],[12,12,15,12],[12,13,15,13],[9,16,9,17],[9,18,9,19],[10,0,10,1],[10,2,10,5],[11,0,11,1],[11,2,11,5],[6,14,6,15],[7,0,8,1],[7,2,8,5],[7,7,7,9],[8,7,8,9],[9,0,9,1],[9,2,9,5],[9,7,9,9],[0,6,0,19],[1,7,1,19],[2,0,3,2],[2,3,3,5],[2,7,2,19],[4,0,4,5],[4,7,6,9],[4,10,4,11],[4,12,4,13],[4,14,4,15],[4,16,4,19],[5,0,6,1],[5,2,6,5],[5,10,5,11],[5,12,5,13],[5,14,5,15],[5,16,5,17],[5,18,5,19],[6,10,6,11],[6,12,6,13]]}
[null,null,null,null,null,null," MORAVSKOSLEZSKÝ KYNOLOGICKÝ SVAZ, z. s."]
[null,null,null,null,null,null," ","Člen FCI prostřednictvím Českomoravské kynologické unie"]
["Druh a stupeň",null,null,{"$f":"IF(Soupiska!W90=\"M\",Soupiska!B90,\"NE\")","v":"NE"},null,null," ","POTVRZENÍ O VYKONANÉ ZKOUŠCE MZŘ"]
[]
["Data psa-feny",null,null,null,null,null,null,"A - STOPA",null,null,"FCI - IGP 1",null,"FCI - IGP 2",null,"FCI - IGP 3",null,"FCI - IGP IFH"]
["Jméno:",null,{"$f":"Soupiska!C90","v":0},null,null,null,null,null,null,null,"FCI - FPr 1",null,"FCI - FPr 2",null,"FCI - FPr 3",null,"Stopa č. 1",null,"Stopa č. 2"]
[null,null,null,null,null,null,null,null,null,null,"FCI - IFH 1",null,"FCI - IFH 2",null,"FCI - IFH 3",null,79," ",79]
["Chovná stanice:",null,{"$f":"Soupiska!E90","v":0},null,null,null,null,"Vlastní - cizí",null,null,79," ",79," ",79," ",21," ",21]
[null,null,null,null,null,null,null,"Předměty",null,null,21," ",21," ",21,null,100,{"$f":"SUM(R7:R8)","v":0},100,{"$f":"SUM(T7:T8)","v":0}]
["Plemeno:",null,{"$f":"Soupiska!I90","v":0},null,null,null,null,"Celkem",null,null,100,{"$f":"SUM(L8:L9)","v":0},100,{"$f":"SUM(N8:N9)","v":0},100,{"$f":"SUM(P8:P9)","v":0},200,null,{"$f":"SUM(R9,T9)","v":0}]
["Pohlaví:",null,{"$f":"Soupiska!K90","v":0}]
["Narozen:",null,{"$f":"Soupiska!L90","v":"00:00:00"},null,null,null,null,null,null,null,null,null,null,null,null," "]
["Č.záp.:",null,{"$f":"Soupiska!N90","v":0},null,null,null,null,"B - POSLUŠNOST",null,null,null,"FCI - IBGH 1","FCI - IBGH 2","FCI - IBGH 3","FCI - GPr 1-3, Upr 1-3",null,null,"FCI - BH/VT","BODY"]
["T.č./čip:",null,{"$f":"Soupiska!P90","v":0},null,null,null,null,null,null,null,null,null,null,null,"FCI - IGP 1   ","FCI - IGP 2              ","FCI - IGP 3"]
["Data psovoda"]
["Jméno:",null,{"$f":"Soupiska!C91","v":0}]
["Příjmení:",null,{"$f":"Soupiska!E91","v":0},null,null,null,null,"Ovladatelnost na vodítku",null,null,null,30,20," X"," X"," X","  X",30]
["Bydliště:",null,{"$f":"Soupiska!I91","v":0},null,null,null,null,"Ovladatelnost bez vodítka",null,null,null,30,20,20,15,15,15,"X"]
[null,null,null,null,null,null,null,"Odložení v sedě",null,null,null,15,15,10,10,10,10,10]
["Narozen:",null,{"$f":"DATE(IF(MID(Soupiska!C92,1,2)*1 > YEAR(TODAY())-2000, 1900, 2000) + MID(Soupiska!C92,1,2), MOD(MID(Soupiska!C92,3,2),50), MID(Soupiska!C92,5,2))","v":{"$error":"#VALUE!"}},null,null,null,null,"Odložení vleže s přivoláním",null,null,null,15,15,10,10,10,10,10]
["Člen ZO:",null,{"$f":"Soupiska!I92","v":0},null,null,null,null,"Odložení ve stoje",null,null,null," X"," X",10," X",10,10," X"]
[null,null,null,null,null,null,null,"Aport volný",null,null,null," X",10,15,15,10,10," X"]
["Data akce",null,null,null,null,null,null,"Skok přes překážku - 2 směry",null,null,null," X"," X"," X",15," X"," X"," X"]
["Datum:",null,{"$f":"Soupiska!T6","v":"00:00:00"},null,null,null,null,"Aport skokem",null,null,null," X"," X"," X","X",15,15," X"]
["Místo:",null,{"$f":"Soupiska!P5","v":0},null,null,null,null,"Šplh jedním směrem",null,null,null," X"," X"," X",15,10," X"," X"]
["Ved.zk.:",null,{"$f":"Soupiska!D6","v":0},null,null,null,null,"Aport šplhem",null,null,null," X"," X",15," X","X",10," X"]
["Rozhodčí:",null,{"$f":"Soupiska!P6","v":0},null,null,null,null,"Vysílání vpřed s odložením",null,null,null," X",10,10,10,10,10," X"]
[" ",null,null,null,null,null,null,"Odložení",null,null,null,10,10,10,10,10,10,10]
["        FCI - StPr 1 - 3 ",null,null,null,null,null,null,"Celkem",null,null,null,100,100,100,100,100,100,60,{"$f":"SUM(S17:T28)","v":0}]
["Ovladatelnost",null,null,null,20,null,null,"FCI - BH/VT: Chování psa v doprav. ruchu/zkouška AD",null,null,null,null,null,null,null,"XX"]
["Intenzita vyhledání",null,null,null,20]
["Vytrvalost",null,null,null,10," ",null,null,null,null,null,null,null,null,null,null,null,null,null," "]
["Chování psovoda",null,null,null,10,null,null,"C - OBRANA",null,null,null,"FCI - IGP 1",null,null,"  FCI - IGP 2",null,null," FCI - IGP 3"]
["Nalezení předmětů",null,null,null,40," ",null,null,null,null,null,"FCI - GPr1, SPr1",null,null,"FCI - GPr2, SPr2",null,null,"FCI - GPr3, SPr3"]
["Celkem",null,null,null,100,{"$f":"SUM(F30:F34)","v":0},null,"Vyhledání figuranta",null,null,null,5,null,null,5,null,null,10]
[null,null,null,null,null,null,null,"Vystavení a vyštěkání",null,null,null,15,null,null,15,null,null,15]
["Výsledek zkoušky",null,null,null,null,null,null,"Pokus o útěk",null,null,null,20,null,null,15,null,null,10]
["A - stopa",null,null,{"$f":"F35+L10+N10+P10+S10","v":0},null,null,null,"Obrana psa při hlídání",null,null,null,30,null,null,20,null,null,15]
["B - poslušnost",null,null,{"$f":"S29","v":0},null,null,null,"Zadní doprovod",null,null,null," X"," X",null,5,null,null,5]
["C - obrana",null,null,{"$f":"M43+P43+S43","v":0},null,null,null,"Přepad psa při doprovodu",null,null,null," X"," X",null," X"," X",null,15]
["D - BH-VT/AD",null,null,{"$f":"IF(P30=\"XX\",\" \",P30)","v":" "},null,null,null,"Útok na psa z pohybu",null,null,null,30,null,null,20,null,null,15]
["CELKEM",null,{"$f":"VLOOKUP(D3,TYPY!A$1:D$65536,4,FALSE)","v":{"$error":"#N/A"}},{"$f":"SUM(D38:F40)","v":0},null,null,null,"Obrana psa při hlídání",null,null,null," X"," X",null,20,null,null,15]
["ZNÁMKA",null,null,{"$f":"IF(EXACT(D3,\"FCI-IGP-IFH\"),IF(SUM(R9,T9)<70,\"N\",VLOOKUP(D42,TYPY!$D$44:$E$105,2,FALSE)),IF(D42>0,IFERROR(IF(C42=300,VLOOKUP(D42,TYPY!$B$44:$C$135,2,FALSE),IF(C42=200,VLOOKUP(D42,TYPY!$D$44:$E$105,2,FALSE),IF(C42=100,VLOOKUP(D42,TYPY!$F$44:$G$75,2,FALSE),IF(AND(C42=60,D41=\"Obstál\"),VLOOKUP(D42,TYPY!$H$44:$I$63,2,FALSE),\"N\")))),\"N\"),\" \"))","v":" "},null,null,null,"Celkem",null,null,null,100,{"$f":"SUM(M35:N42)","v":0},null,100,{"$f":"SUM(P35:Q42)","v":0},null,100,{"$f":"SUM(S35:T42)","v":0}]
[]
[]
[]
[]
[" ",null,null,null,null,null,null,null,null," ",null,null,null," "]
["Razítko organizace",null,null,null,null,null,null,null,null,"Podpis vedoucího zkoušek",null,null,null,"Podpis a razítko rozhodčího"]

{"sheet":"MZR28","index":27,"n_rows":49,"n_cols":20,"rows_kept":49,"cut":false,"hidden":true,"merged":[[48,0,48,7],[48,9,48,11],[48,13,48,19],[42,0,42,2],[42,3,42,5],[42,7,42,10],[42,12,42,13],[42,15,42,16],[42,18,42,19],[41,0,41,1],[41,3,41,5],[41,7,41,10],[41,12,41,13],[41,15,41,16],[41,18,41,19],[40,0,40,2],[40,3,40,5],[40,7,40,10],[40,12,40,13],[40,15,40,16],[40,18,40,19],[39,0,39,2],[39,3,39,5],[39,7,39,10],[39,12,39,13],[39,15,39,16],[39,18,39,19],[38,0,38,2],[38,3,38,5],[38,7,38,10],[38,12,38,13],[38,15,38,16],[38,18,38,19],[34,0,34,3],[34,7,34,10],[34,12,34,13],[34,15,34,16],[34,18,34,19],[37,0,37,2],[37,3,37,5],[37,7,37,10],[37,12,37,13],[37,15,37,16],[37,18,37,19],[35,7,35,10],[35,12,35,13],[35,15,35,16],[35,18,35,19],[36,0,36,5],[36,7,36,10],[36,12,36,13],[36,15,36,16],[36,18,36,19],[30,0,30,3],[31,0,31,3],[32,0,32,3],[32,7,33,10],[32,11,32,13],[32,14,32,16],[28,0,28,5],[28,7,28,10],[28,18,28,19],[29,0,29,3],[29,7,29,14],[29,15,29,19],[32,17,32,19],[33,0,33,3],[33,11,33,13],[33,14,33,16],[33,17,33,19],[26,0,26,1],[26,2,26,5],[26,7,26,10],[26,18,26,19],[27,7,27,10],[27,18,27,19],[24,0,24,1],[24,2,24,5],[24,7,24,10],[24,18,24,19],[25,0,25,1],[25,2,25,5],[25,7,25,10],[25,18,25,19],[21,18,21,19],[22,0,22,5],[22,7,22,10],[22,18,22,19],[23,0,23,1],[23,2,23,5],[23,7,23,10],[23,18,23,19],[18,18,18,19],[19,0,19,1],[19,2,19,5],[19,7,19,10],[19,18,19,19],[20,0,21,1],[20,2,21,5],[20,7,20,10],[20,18,20,19],[21,7,21,10],[16,0,16,1],[16,2,16,5],[16,7,16,10],[16,18,16,19],[17,0,17,1],[17,2,18,5],[17,7,17,10],[17,18,17,19],[18,0,18,1],[18,7,18,10],[12,17,15,17],[12,18,15,19],[13,0,13,1],[13,2,13,5],[13,14,15,14],[13,15,15,15],[13,16,15,16],[14,0,14,5],[15,0,15,1],[15,2,15,5],[12,0,12,1],[12,2,12,5],[12,7,15,10],[12,11,15,11],[12,12,15,12],[12,13,15,13],[9,16,9,17],[9,18,9,19],[10,0,10,1],[10,2,10,5],[11,0,11,1],[11,2,11,5],[6,14,6,15],[7,0,8,1],[7,2,8,5],[7,7,7,9],[8,7,8,9],[9,0,9,1],[9,2,9,5],[9,7,9,9],[0,6,0,19],[1,7,1,19],[2,0,3,2],[2,3,3,5],[2,7,2,19],[4,0,4,5],[4,7,6,9],[4,10,4,11],[4,12,4,13],[4,14,4,15],[4,16,4,19],[5,0,6,1],[5,2,6,5],[5,10,5,11],[5,12,5,13],[5,14,5,15],[5,16,5,17],[5,18,5,19],[6,10,6,11],[6,12,6,13]]}
[null,null,null,null,null,null," MORAVSKOSLEZSKÝ KYNOLOGICKÝ SVAZ, z. s."]
[null,null,null,null,null,null," ","Člen FCI prostřednictvím Českomoravské kynologické unie"]
["Druh a stupeň",null,null,{"$f":"IF(Soupiska!W93=\"M\",Soupiska!B93,\"NE\")","v":"NE"},null,null," ","POTVRZENÍ O VYKONANÉ ZKOUŠCE MZŘ"]
[]
["Data psa-feny",null,null,null,null,null,null,"A - STOPA",null,null,"FCI - IGP 1",null,"FCI - IGP 2",null,"FCI - IGP 3",null,"FCI - IGP IFH"]
["Jméno:",null,{"$f":"Soupiska!C93","v":0},null,null,null,null,null,null,null,"FCI - FPr 1",null,"FCI - FPr 2",null,"FCI - FPr 3",null,"Stopa č. 1",null,"Stopa č. 2"]
[null,null,null,null,null,null,null,null,null,null,"FCI - IFH 1",null,"FCI - IFH 2",null,"FCI - IFH 3",null,79," ",79]
["Chovná stanice:",null,{"$f":"Soupiska!E93","v":0},null,null,null,null,"Vlastní - cizí",null,null,79," ",79," ",79," ",21," ",21]
[null,null,null,null,null,null,null,"Předměty",null,null,21," ",21," ",21,null,100,{"$f":"SUM(R7:R8)","v":0},100,{"$f":"SUM(T7:T8)","v":0}]
["Plemeno:",null,{"$f":"Soupiska!I93","v":0},null,null,null,null,"Celkem",null,null,100,{"$f":"SUM(L8:L9)","v":0},100,{"$f":"SUM(N8:N9)","v":0},100,{"$f":"SUM(P8:P9)","v":0},200,null,{"$f":"SUM(R9,T9)","v":0}]
["Pohlaví:",null,{"$f":"Soupiska!K93","v":0}]
["Narozen:",null,{"$f":"Soupiska!L93","v":"00:00:00"},null,null,null,null,null,null,null,null,null,null,null,null," "]
["Č.záp.:",null,{"$f":"Soupiska!N93","v":0},null,null,null,null,"B - POSLUŠNOST",null,null,null,"FCI - IBGH 1","FCI - IBGH 2","FCI - IBGH 3","FCI - GPr 1-3, Upr 1-3",null,null,"FCI - BH/VT","BODY"]
["T.č./čip:",null,{"$f":"Soupiska!P93","v":0},null,null,null,null,null,null,null,null,null,null,null,"FCI - IGP 1   ","FCI - IGP 2              ","FCI - IGP 3"]
["Data psovoda"]
["Jméno:",null,{"$f":"Soupiska!C94","v":0}]
["Příjmení:",null,{"$f":"Soupiska!E94","v":0},null,null,null,null,"Ovladatelnost na vodítku",null,null,null,30,20," X"," X"," X","  X",30]
["Bydliště:",null,{"$f":"Soupiska!I94","v":0},null,null,null,null,"Ovladatelnost bez vodítka",null,null,null,30,20,20,15,15,15,"X"]
[null,null,null,null,null,null,null,"Odložení v sedě",null,null,null,15,15,10,10,10,10,10]
["Narozen:",null,{"$f":"DATE(IF(MID(Soupiska!C95,1,2)*1 > YEAR(TODAY())-2000, 1900, 2000) + MID(Soupiska!C95,1,2), MOD(MID(Soupiska!C95,3,2),50), MID(Soupiska!C95,5,2))","v":{"$error":"#VALUE!"}},null,null,null,null,"Odložení vleže s přivoláním",null,null,null,15,15,10,10,10,10,10]
["Člen ZO:",null,{"$f":"Soupiska!I95","v":0},null,null,null,null,"Odložení ve stoje",null,null,null," X"," X",10," X",10,10," X"]
[null,null,null,null,null,null,null,"Aport volný",null,null,null," X",10,15,15,10,10," X"]
["Data akce",null,null,null,null,null,null,"Skok přes překážku - 2 směry",null,null,null," X"," X"," X",15," X"," X"," X"]
["Datum:",null,{"$f":"Soupiska!T6","v":"00:00:00"},null,null,null,null,"Aport skokem",null,null,null," X"," X"," X","X",15,15," X"]
["Místo:",null,{"$f":"Soupiska!P5","v":0},null,null,null,null,"Šplh jedním směrem",null,null,null," X"," X"," X",15,10," X"," X"]
["Ved.zk.:",null,{"$f":"Soupiska!D6","v":0},null,null,null,null,"Aport šplhem",null,null,null," X"," X",15," X","X",10," X"]
["Rozhodčí:",null,{"$f":"Soupiska!P6","v":0},null,null,null,null,"Vysílání vpřed s odložením",null,null,null," X",10,10,10,10,10," X"]
[" ",null,null,null,null,null,null,"Odložení",null,null,null,10,10,10,10,10,10,10]
["        FCI - StPr 1 - 3 ",null,null,null,null,null,null,"Celkem",null,null,null,100,100,100,100,100,100,60,{"$f":"SUM(S17:T28)","v":0}]
["Ovladatelnost",null,null,null,20,null,null,"FCI - BH/VT: Chování psa v doprav. ruchu/zkouška AD",null,null,null,null,null,null,null,"XX"]
["Intenzita vyhledání",null,null,null,20]
["Vytrvalost",null,null,null,10," ",null,null,null,null,null,null,null,null,null,null,null,null,null," "]
["Chování psovoda",null,null,null,10,null,null,"C - OBRANA",null,null,null,"FCI - IGP 1",null,null,"  FCI - IGP 2",null,null," FCI - IGP 3"]
["Nalezení předmětů",null,null,null,40," ",null,null,null,null,null,"FCI - GPr1, SPr1",null,null,"FCI - GPr2, SPr2",null,null,"FCI - GPr3, SPr3"]
["Celkem",null,null,null,100,{"$f":"SUM(F30:F34)","v":0},null,"Vyhledání figuranta",null,null,null,5,null,null,5,null,null,10]
[null,null,null,null,null,null,null,"Vystavení a vyštěkání",null,null,null,15,null,null,15,null,null,15]
["Výsledek zkoušky",null,null,null,null,null,null,"Pokus o útěk",null,null,null,20,null,null,15,null,null,10]
["A - stopa",null,null,{"$f":"F35+L10+N10+P10+S10","v":0},null,null,null,"Obrana psa při hlídání",null,null,null,30,null,null,20,null,null,15]
["B - poslušnost",null,null,{"$f":"S29","v":0},null,null,null,"Zadní doprovod",null,null,null," X"," X",null,5,null,null,5]
["C - obrana",null,null,{"$f":"M43+P43+S43","v":0},null,null,null,"Přepad psa při doprovodu",null,null,null," X"," X",null," X"," X",null,15]
["D - BH-VT/AD",null,null,{"$f":"IF(P30=\"XX\",\" \",P30)","v":" "},null,null,null,"Útok na psa z pohybu",null,null,null,30,null,null,20,null,null,15]
["CELKEM",null,{"$f":"VLOOKUP(D3,TYPY!A$1:D$65536,4,FALSE)","v":{"$error":"#N/A"}},{"$f":"SUM(D38:F40)","v":0},null,null,null,"Obrana psa při hlídání",null,null,null," X"," X",null,20,null,null,15]
["ZNÁMKA",null,null,{"$f":"IF(EXACT(D3,\"FCI-IGP-IFH\"),IF(SUM(R9,T9)<70,\"N\",VLOOKUP(D42,TYPY!$D$44:$E$105,2,FALSE)),IF(D42>0,IFERROR(IF(C42=300,VLOOKUP(D42,TYPY!$B$44:$C$135,2,FALSE),IF(C42=200,VLOOKUP(D42,TYPY!$D$44:$E$105,2,FALSE),IF(C42=100,VLOOKUP(D42,TYPY!$F$44:$G$75,2,FALSE),IF(AND(C42=60,D41=\"Obstál\"),VLOOKUP(D42,TYPY!$H$44:$I$63,2,FALSE),\"N\")))),\"N\"),\" \"))","v":" "},null,null,null,"Celkem",null,null,null,100,{"$f":"SUM(M35:N42)","v":0},null,100,{"$f":"SUM(P35:Q42)","v":0},null,100,{"$f":"SUM(S35:T42)","v":0}]
[]
[]
[]
[]
[" ",null,null,null,null,null,null,null,null," ",null,null,null," "]
["Razítko organizace",null,null,null,null,null,null,null,null,"Podpis vedoucího zkoušek",null,null,null,"Podpis a razítko rozhodčího"]

{"sheet":"MZR29","index":28,"n_rows":49,"n_cols":20,"rows_kept":49,"cut":false,"hidden":true,"merged":[[48,0,48,7],[48,9,48,11],[48,13,48,19],[42,0,42,2],[42,3,42,5],[42,7,42,10],[42,12,42,13],[42,15,42,16],[42,18,42,19],[41,0,41,1],[41,3,41,5],[41,7,41,10],[41,12,41,13],[41,15,41,16],[41,18,41,19],[40,0,40,2],[40,3,40,5],[40,7,40,10],[40,12,40,13],[40,15,40,16],[40,18,40,19],[39,0,39,2],[39,3,39,5],[39,7,39,10],[39,12,39,13],[39,15,39,16],[39,18,39,19],[38,0,38,2],[38,3,38,5],[38,7,38,10],[38,12,38,13],[38,15,38,16],[38,18,38,19],[34,0,34,3],[34,7,34,10],[34,12,34,13],[34,15,34,16],[34,18,34,19],[37,0,37,2],[37,3,37,5],[37,7,37,10],[37,12,37,13],[37,15,37,16],[37,18,37,19],[35,7,35,10],[35,12,35,13],[35,15,35,16],[35,18,35,19],[36,0,36,5],[36,7,36,10],[36,12,36,13],[36,15,36,16],[36,18,36,19],[30,0,30,3],[31,0,31,3],[32,0,32,3],[32,7,33,10],[32,11,32,13],[32,14,32,16],[28,0,28,5],[28,7,28,10],[28,18,28,19],[29,0,29,3],[29,7,29,14],[29,15,29,19],[32,17,32,19],[33,0,33,3],[33,11,33,13],[33,14,33,16],[33,17,33,19],[26,0,26,1],[26,2,26,5],[26,7,26,10],[26,18,26,19],[27,7,27,10],[27,18,27,19],[24,0,24,1],[24,2,24,5],[24,7,24,10],[24,18,24,19],[25,0,25,1],[25,2,25,5],[25,7,25,10],[25,18,25,19],[21,18,21,19],[22,0,22,5],[22,7,22,10],[22,18,22,19],[23,0,23,1],[23,2,23,5],[23,7,23,10],[23,18,23,19],[18,18,18,19],[19,0,19,1],[19,2,19,5],[19,7,19,10],[19,18,19,19],[20,0,21,1],[20,2,21,5],[20,7,20,10],[20,18,20,19],[21,7,21,10],[16,0,16,1],[16,2,16,5],[16,7,16,10],[16,18,16,19],[17,0,17,1],[17,2,18,5],[17,7,17,10],[17,18,17,19],[18,0,18,1],[18,7,18,10],[12,17,15,17],[12,18,15,19],[13,0,13,1],[13,2,13,5],[13,14,15,14],[13,15,15,15],[13,16,15,16],[14,0,14,5],[15,0,15,1],[15,2,15,5],[12,0,12,1],[12,2,12,5],[12,7,15,10],[12,11,15,11],[12,12,15,12],[12,13,15,13],[9,16,9,17],[9,18,9,19],[10,0,10,1],[10,2,10,5],[11,0,11,1],[11,2,11,5],[6,14,6,15],[7,0,8,1],[7,2,8,5],[7,7,7,9],[8,7,8,9],[9,0,9,1],[9,2,9,5],[9,7,9,9],[0,6,0,19],[1,7,1,19],[2,0,3,2],[2,3,3,5],[2,7,2,19],[4,0,4,5],[4,7,6,9],[4,10,4,11],[4,12,4,13],[4,14,4,15],[4,16,4,19],[5,0,6,1],[5,2,6,5],[5,10,5,11],[5,12,5,13],[5,14,5,15],[5,16,5,17],[5,18,5,19],[6,10,6,11],[6,12,6,13]]}
[null,null,null,null,null,null," MORAVSKOSLEZSKÝ KYNOLOGICKÝ SVAZ, z. s."]
[null,null,null,null,null,null," ","Člen FCI prostřednictvím Českomoravské kynologické unie"]
["Druh a stupeň",null,null,{"$f":"IF(Soupiska!W96=\"M\",Soupiska!B96,\"NE\")","v":"NE"},null,null," ","POTVRZENÍ O VYKONANÉ ZKOUŠCE MZŘ"]
[]
["Data psa-feny",null,null,null,null,null,null,"A - STOPA",null,null,"FCI - IGP 1",null,"FCI - IGP 2",null,"FCI - IGP 3",null,"FCI - IGP IFH"]
["Jméno:",null,{"$f":"Soupiska!C96","v":0},null,null,null,null,null,null,null,"FCI - FPr 1",null,"FCI - FPr 2",null,"FCI - FPr 3",null,"Stopa č. 1",null,"Stopa č. 2"]
[null,null,null,null,null,null,null,null,null,null,"FCI - IFH 1",null,"FCI - IFH 2",null,"FCI - IFH 3",null,79," ",79]
["Chovná stanice:",null,{"$f":"Soupiska!E96","v":0},null,null,null,null,"Vlastní - cizí",null,null,79," ",79," ",79," ",21," ",21]
[null,null,null,null,null,null,null,"Předměty",null,null,21," ",21," ",21,null,100,{"$f":"SUM(R7:R8)","v":0},100,{"$f":"SUM(T7:T8)","v":0}]
["Plemeno:",null,{"$f":"Soupiska!I96","v":0},null,null,null,null,"Celkem",null,null,100,{"$f":"SUM(L8:L9)","v":0},100,{"$f":"SUM(N8:N9)","v":0},100,{"$f":"SUM(P8:P9)","v":0},200,null,{"$f":"SUM(R9,T9)","v":0}]
["Pohlaví:",null,{"$f":"Soupiska!K96","v":0}]
["Narozen:",null,{"$f":"Soupiska!L96","v":"00:00:00"},null,null,null,null,null,null,null,null,null,null,null,null," "]
["Č.záp.:",null,{"$f":"Soupiska!N96","v":0},null,null,null,null,"B - POSLUŠNOST",null,null,null,"FCI - IBGH 1","FCI - IBGH 2","FCI - IBGH 3","FCI - GPr 1-3, Upr 1-3",null,null,"FCI - BH/VT","BODY"]
["T.č./čip:",null,{"$f":"Soupiska!P96","v":0},null,null,null,null,null,null,null,null,null,null,null,"FCI - IGP 1   ","FCI - IGP 2              ","FCI - IGP 3"]
["Data psovoda"]
["Jméno:",null,{"$f":"Soupiska!C97","v":0}]
["Příjmení:",null,{"$f":"Soupiska!E97","v":0},null,null,null,null,"Ovladatelnost na vodítku",null,null,null,30,20," X"," X"," X","  X",30]
["Bydliště:",null,{"$f":"Soupiska!I97","v":0},null,null,null,null,"Ovladatelnost bez vodítka",null,null,null,30,20,20,15,15,15,"X"]
[null,null,null,null,null,null,null,"Odložení v sedě",null,null,null,15,15,10,10,10,10,10]
["Narozen:",null,{"$f":"DATE(IF(MID(Soupiska!C98,1,2)*1 > YEAR(TODAY())-2000, 1900, 2000) + MID(Soupiska!C98,1,2), MOD(MID(Soupiska!C98,3,2),50), MID(Soupiska!C98,5,2))","v":{"$error":"#VALUE!"}},null,null,null,null,"Odložení vleže s přivoláním",null,null,null,15,15,10,10,10,10,10]
["Člen ZO:",null,{"$f":"Soupiska!I98","v":0},null,null,null,null,"Odložení ve stoje",null,null,null," X"," X",10," X",10,10," X"]
[null,null,null,null,null,null,null,"Aport volný",null,null,null," X",10,15,15,10,10," X"]
["Data akce",null,null,null,null,null,null,"Skok přes překážku - 2 směry",null,null,null," X"," X"," X",15," X"," X"," X"]
["Datum:",null,{"$f":"Soupiska!T6","v":"00:00:00"},null,null,null,null,"Aport skokem",null,null,null," X"," X"," X","X",15,15," X"]
["Místo:",null,{"$f":"Soupiska!P5","v":0},null,null,null,null,"Šplh jedním směrem",null,null,null," X"," X"," X",15,10," X"," X"]
["Ved.zk.:",null,{"$f":"Soupiska!D6","v":0},null,null,null,null,"Aport šplhem",null,null,null," X"," X",15," X","X",10," X"]
["Rozhodčí:",null,{"$f":"Soupiska!P6","v":0},null,null,null,null,"Vysílání vpřed s odložením",null,null,null," X",10,10,10,10,10," X"]
[" ",null,null,null,null,null,null,"Odložení",null,null,null,10,10,10,10,10,10,10]
["        FCI - StPr 1 - 3 ",null,null,null,null,null,null,"Celkem",null,null,null,100,100,100,100,100,100,60,{"$f":"SUM(S17:T28)","v":0}]
["Ovladatelnost",null,null,null,20,null,null,"FCI - BH/VT: Chování psa v doprav. ruchu/zkouška AD",null,null,null,null,null,null,null,"XX"]
["Intenzita vyhledání",null,null,null,20]
["Vytrvalost",null,null,null,10," ",null,null,null,null,null,null,null,null,null,null,null,null,null," "]
["Chování psovoda",null,null,null,10,null,null,"C - OBRANA",null,null,null,"FCI - IGP 1",null,null,"  FCI - IGP 2",null,null," FCI - IGP 3"]
["Nalezení předmětů",null,null,null,40," ",null,null,null,null,null,"FCI - GPr1, SPr1",null,null,"FCI - GPr2, SPr2",null,null,"FCI - GPr3, SPr3"]
["Celkem",null,null,null,100,{"$f":"SUM(F30:F34)","v":0},null,"Vyhledání figuranta",null,null,null,5,null,null,5,null,null,10]
[null,null,null,null,null,null,null,"Vystavení a vyštěkání",null,null,null,15,null,null,15,null,null,15]
["Výsledek zkoušky",null,null,null,null,null,null,"Pokus o útěk",null,null,null,20,null,null,15,null,null,10]
["A - stopa",null,null,{"$f":"F35+L10+N10+P10+S10","v":0},null,null,null,"Obrana psa při hlídání",null,null,null,30,null,null,20,null,null,15]
["B - poslušnost",null,null,{"$f":"S29","v":0},null,null,null,"Zadní doprovod",null,null,null," X"," X",null,5,null,null,5]
["C - obrana",null,null,{"$f":"M43+P43+S43","v":0},null,null,null,"Přepad psa při doprovodu",null,null,null," X"," X",null," X"," X",null,15]
["D - BH-VT/AD",null,null,{"$f":"IF(P30=\"XX\",\" \",P30)","v":" "},null,null,null,"Útok na psa z pohybu",null,null,null,30,null,null,20,null,null,15]
["CELKEM",null,{"$f":"VLOOKUP(D3,TYPY!A$1:D$65536,4,FALSE)","v":{"$error":"#N/A"}},{"$f":"SUM(D38:F40)","v":0},null,null,null,"Obrana psa při hlídání",null,null,null," X"," X",null,20,null,null,15]
["ZNÁMKA",null,null,{"$f":"IF(EXACT(D3,\"FCI-IGP-IFH\"),IF(SUM(R9,T9)<70,\"N\",VLOOKUP(D42,TYPY!$D$44:$E$105,2,FALSE)),IF(D42>0,IFERROR(IF(C42=300,VLOOKUP(D42,TYPY!$B$44:$C$135,2,FALSE),IF(C42=200,VLOOKUP(D42,TYPY!$D$44:$E$105,2,FALSE),IF(C42=100,VLOOKUP(D42,TYPY!$F$44:$G$75,2,FALSE),IF(AND(C42=60,D41=\"Obstál\"),VLOOKUP(D42,TYPY!$H$44:$I$63,2,FALSE),\"N\")))),\"N\"),\" \"))","v":" "},null,null,null,"Celkem",null,null,null,100,{"$f":"SUM(M35:N42)","v":0},null,100,{"$f":"SUM(P35:Q42)","v":0},null,100,{"$f":"SUM(S35:T42)","v":0}]
[]
[]
[]
[]
[" ",null,null,null,null,null,null,null,null," ",null,null,null," "]
["Razítko organizace",null,null,null,null,null,null,null,null,"Podpis vedoucího zkoušek",null,null,null,"Podpis a razítko rozhodčího"]

{"sheet":"MZR30","index":29,"n_rows":49,"n_cols":20,"rows_kept":49,"cut":false,"hidden":true,"merged":[[48,0,48,7],[48,9,48,11],[48,13,48,19],[42,0,42,2],[42,3,42,5],[42,7,42,10],[42,12,42,13],[42,15,42,16],[42,18,42,19],[41,0,41,1],[41,3,41,5],[41,7,41,10],[41,12,41,13],[41,15,41,16],[41,18,41,19],[40,0,40,2],[40,3,40,5],[40,7,40,10],[40,12,40,13],[40,15,40,16],[40,18,40,19],[39,0,39,2],[39,3,39,5],[39,7,39,10],[39,12,39,13],[39,15,39,16],[39,18,39,19],[38,0,38,2],[38,3,38,5],[38,7,38,10],[38,12,38,13],[38,15,38,16],[38,18,38,19],[34,0,34,3],[34,7,34,10],[34,12,34,13],[34,15,34,16],[34,18,34,19],[37,0,37,2],[37,3,37,5],[37,7,37,10],[37,12,37,13],[37,15,37,16],[37,18,37,19],[35,7,35,10],[35,12,35,13],[35,15,35,16],[35,18,35,19],[36,0,36,5],[36,7,36,10],[36,12,36,13],[36,15,36,16],[36,18,36,19],[30,0,30,3],[31,0,31,3],[32,0,32,3],[32,7,33,10],[32,11,32,13],[32,14,32,16],[28,0,28,5],[28,7,28,10],[28,18,28,19],[29,0,29,3],[29,7,29,14],[29,15,29,19],[32,17,32,19],[33,0,33,3],[33,11,33,13],[33,14,33,16],[33,17,33,19],[26,0,26,1],[26,2,26,5],[26,7,26,10],[26,18,26,19],[27,7,27,10],[27,18,27,19],[24,0,24,1],[24,2,24,5],[24,7,24,10],[24,18,24,19],[25,0,25,1],[25,2,25,5],[25,7,25,10],[25,18,25,19],[21,18,21,19],[22,0,22,5],[22,7,22,10],[22,18,22,19],[23,0,23,1],[23,2,23,5],[23,7,23,10],[23,18,23,19],[18,18,18,19],[19,0,19,1],[19,2,19,5],[19,7,19,10],[19,18,19,19],[20,0,21,1],[20,2,21,5],[20,7,20,10],[20,18,20,19],[21,7,21,10],[16,0,16,1],[16,2,16,5],[16,7,16,10],[16,18,16,19],[17,0,17,1],[17,2,18,5],[17,7,17,10],[17,18,17,19],[18,0,18,1],[18,7,18,10],[12,17,15,17],[12,18,15,19],[13,0,13,1],[13,2,13,5],[13,14,15,14],[13,15,15,15],[13,16,15,16],[14,0,14,5],[15,0,15,1],[15,2,15,5],[12,0,12,1],[12,2,12,5],[12,7,15,10],[12,11,15,11],[12,12,15,12],[12,13,15,13],[9,16,9,17],[9,18,9,19],[10,0,10,1],[10,2,10,5],[11,0,11,1],[11,2,11,5],[6,14,6,15],[7,0,8,1],[7,2,8,5],[7,7,7,9],[8,7,8,9],[9,0,9,1],[9,2,9,5],[9,7,9,9],[0,6,0,19],[1,7,1,19],[2,0,3,2],[2,3,3,5],[2,7,2,19],[4,0,4,5],[4,7,6,9],[4,10,4,11],[4,12,4,13],[4,14,4,15],[4,16,4,19],[5,0,6,1],[5,2,6,5],[5,10,5,11],[5,12,5,13],[5,14,5,15],[5,16,5,17],[5,18,5,19],[6,10,6,11],[6,12,6,13]]}
[null,null,null,null,null,null," MORAVSKOSLEZSKÝ KYNOLOGICKÝ SVAZ, z. s."]
[null,null,null,null,null,null," ","Člen FCI prostřednictvím Českomoravské kynologické unie"]
["Druh a stupeň",null,null,{"$f":"IF(Soupiska!W99=\"M\",Soupiska!B99,\"NE\")","v":"NE"},null,null," ","POTVRZENÍ O VYKONANÉ ZKOUŠCE MZŘ"]
[]
["Data psa-feny",null,null,null,null,null,null,"A - STOPA",null,null,"FCI - IGP 1",null,"FCI - IGP 2",null,"FCI - IGP 3",null,"FCI - IGP IFH"]
["Jméno:",null,{"$f":"Soupiska!C99","v":0},null,null,null,null,null,null,null,"FCI - FPr 1",null,"FCI - FPr 2",null,"FCI - FPr 3",null,"Stopa č. 1",null,"Stopa č. 2"]
[null,null,null,null,null,null,null,null,null,null,"FCI - IFH 1",null,"FCI - IFH 2",null,"FCI - IFH 3",null,79," ",79]
["Chovná stanice:",null,{"$f":"Soupiska!E99","v":0},null,null,null,null,"Vlastní - cizí",null,null,79," ",79," ",79," ",21," ",21]
[null,null,null,null,null,null,null,"Předměty",null,null,21," ",21," ",21,null,100,{"$f":"SUM(R7:R8)","v":0},100,{"$f":"SUM(T7:T8)","v":0}]
["Plemeno:",null,{"$f":"Soupiska!I99","v":0},null,null,null,null,"Celkem",null,null,100,{"$f":"SUM(L8:L9)","v":0},100,{"$f":"SUM(N8:N9)","v":0},100,{"$f":"SUM(P8:P9)","v":0},200,null,{"$f":"SUM(R9,T9)","v":0}]
["Pohlaví:",null,{"$f":"Soupiska!K99","v":0}]
["Narozen:",null,{"$f":"Soupiska!L99","v":"00:00:00"},null,null,null,null,null,null,null,null,null,null,null,null," "]
["Č.záp.:",null,{"$f":"Soupiska!N99","v":0},null,null,null,null,"B - POSLUŠNOST",null,null,null,"FCI - IBGH 1","FCI - IBGH 2","FCI - IBGH 3","FCI - GPr 1-3, Upr 1-3",null,null,"FCI - BH/VT","BODY"]
["T.č./čip:",null,{"$f":"Soupiska!P99","v":0},null,null,null,null,null,null,null,null,null,null,null,"FCI - IGP 1   ","FCI - IGP 2              ","FCI - IGP 3"]
["Data psovoda"]
["Jméno:",null,{"$f":"Soupiska!C100","v":0}]
["Příjmení:",null,{"$f":"Soupiska!E100","v":0},null,null,null,null,"Ovladatelnost na vodítku",null,null,null,30,20," X"," X"," X","  X",30]
["Bydliště:",null,{"$f":"Soupiska!I100","v":0},null,null,null,null,"Ovladatelnost bez vodítka",null,null,null,30,20,20,15,15,15,"X"]
[null,null,null,null,null,null,null,"Odložení v sedě",null,null,null,15,15,10,10,10,10,10]
["Narozen:",null,{"$f":"DATE(IF(MID(Soupiska!C101,1,2)*1 > YEAR(TODAY())-2000, 1900, 2000) + MID(Soupiska!C101,1,2), MOD(MID(Soupiska!C101,3,2),50), MID(Soupiska!C101,5,2))","v":{"$error":"#VALUE!"}},null,null,null,null,"Odložení vleže s přivoláním",null,null,null,15,15,10,10,10,10,10]
["Člen ZO:",null,{"$f":"Soupiska!I101","v":0},null,null,null,null,"Odložení ve stoje",null,null,null," X"," X",10," X",10,10," X"]
[null,null,null,null,null,null,null,"Aport volný",null,null,null," X",10,15,15,10,10," X"]
["Data akce",null,null,null,null,null,null,"Skok přes překážku - 2 směry",null,null,null," X"," X"," X",15," X"," X"," X"]
["Datum:",null,{"$f":"Soupiska!T6","v":"00:00:00"},null,null,null,null,"Aport skokem",null,null,null," X"," X"," X","X",15,15," X"]
["Místo:",null,{"$f":"Soupiska!P5","v":0},null,null,null,null,"Šplh jedním směrem",null,null,null," X"," X"," X",15,10," X"," X"]
["Ved.zk.:",null,{"$f":"Soupiska!D6","v":0},null,null,null,null,"Aport šplhem",null,null,null," X"," X",15," X","X",10," X"]
["Rozhodčí:",null,{"$f":"Soupiska!P6","v":0},null,null,null,null,"Vysílání vpřed s odložením",null,null,null," X",10,10,10,10,10," X"]
[" ",null,null,null,null,null,null,"Odložení",null,null,null,10,10,10,10,10,10,10]
["        FCI - StPr 1 - 3 ",null,null,null,null,null,null,"Celkem",null,null,null,100,100,100,100,100,100,60,{"$f":"SUM(S17:T28)","v":0}]
["Ovladatelnost",null,null,null,20,null,null,"FCI - BH/VT: Chování psa v doprav. ruchu/zkouška AD",null,null,null,null,null,null,null,"XX"]
["Intenzita vyhledání",null,null,null,20]
["Vytrvalost",null,null,null,10," ",null,null,null,null,null,null,null,null,null,null,null,null,null," "]
["Chování psovoda",null,null,null,10,null,null,"C - OBRANA",null,null,null,"FCI - IGP 1",null,null,"  FCI - IGP 2",null,null," FCI - IGP 3"]
["Nalezení předmětů",null,null,null,40," ",null,null,null,null,null,"FCI - GPr1, SPr1",null,null,"FCI - GPr2, SPr2",null,null,"FCI - GPr3, SPr3"]
["Celkem",null,null,null,100,{"$f":"SUM(F30:F34)","v":0},null,"Vyhledání figuranta",null,null,null,5,null,null,5,null,null,10]
[null,null,null,null,null,null,null,"Vystavení a vyštěkání",null,null,null,15,null,null,15,null,null,15]
["Výsledek zkoušky",null,null,null,null,null,null,"Pokus o útěk",null,null,null,20,null,null,15,null,null,10]
["A - stopa",null,null,{"$f":"F35+L10+N10+P10+S10","v":0},null,null,null,"Obrana psa při hlídání",null,null,null,30,null,null,20,null,null,15]
["B - poslušnost",null,null,{"$f":"S29","v":0},null,null,null,"Zadní doprovod",null,null,null," X"," X",null,5,null,null,5]
["C - obrana",null,null,{"$f":"M43+P43+S43","v":0},null,null,null,"Přepad psa při doprovodu",null,null,null," X"," X",null," X"," X",null,15]
["D - BH-VT/AD",null,null,{"$f":"IF(P30=\"XX\",\" \",P30)","v":" "},null,null,null,"Útok na psa z pohybu",null,null,null,30,null,null,20,null,null,15]
["CELKEM",null,{"$f":"VLOOKUP(D3,TYPY!A$1:D$65536,4,FALSE)","v":{"$error":"#N/A"}},{"$f":"SUM(D38:F40)","v":0},null,null,null,"Obrana psa při hlídání",null,null,null," X"," X",null,20,null,null,15]
["ZNÁMKA",null,null,{"$f":"IF(EXACT(D3,\"FCI-IGP-IFH\"),IF(SUM(R9,T9)<70,\"N\",VLOOKUP(D42,TYPY!$D$44:$E$105,2,FALSE)),IF(D42>0,IFERROR(IF(C42=300,VLOOKUP(D42,TYPY!$B$44:$C$135,2,FALSE),IF(C42=200,VLOOKUP(D42,TYPY!$D$44:$E$105,2,FALSE),IF(C42=100,VLOOKUP(D42,TYPY!$F$44:$G$75,2,FALSE),IF(AND(C42=60,D41=\"Obstál\"),VLOOKUP(D42,TYPY!$H$44:$I$63,2,FALSE),\"N\")))),\"N\"),\" \"))","v":" "},null,null,null,"Celkem",null,null,null,100,{"$f":"SUM(M35:N42)","v":0},null,100,{"$f":"SUM(P35:Q42)","v":0},null,100,{"$f":"SUM(S35:T42)","v":0}]
[]
[]
[]
[]
[" ",null,null,null,null,null,null,null,null," ",null,null,null," "]
["Razítko organizace",null,null,null,null,null,null,null,null,"Podpis vedoucího zkoušek",null,null,null,"Podpis a razítko rozhodčího"]

{"sheet":"NZR1","index":30,"n_rows":57,"n_cols":28,"rows_kept":57,"cut":false,"hidden":true,"merged":[[49,0,50,4],[49,6,49,9],[50,6,50,9],[56,0,56,8],[56,10,56,13],[56,16,56,25],[46,3,47,4],[46,6,46,9],[47,6,47,9],[48,0,48,4],[48,6,48,9],[52,0,55,8],[52,10,55,13],[52,16,55,27],[46,0,47,1],[46,2,47,2],[46,20,46,21],[47,20,47,21],[48,20,48,21],[49,20,49,21],[50,20,50,21],[48,23,48,24],[49,23,49,24],[50,23,50,24],[44,0,45,2],[44,3,45,4],[44,6,44,9],[45,6,45,9],[38,0,39,2],[38,3,39,4],[38,6,38,9],[39,6,39,9],[40,0,41,2],[40,3,41,4],[40,6,40,9],[41,6,41,9],[34,0,35,1],[34,2,35,4],[34,6,34,9],[35,6,35,9],[37,0,37,4],[37,6,37,9],[34,11,34,12],[35,11,35,12],[42,0,43,2],[42,3,43,4],[42,6,42,9],[43,6,43,9],[42,11,42,12],[40,11,40,12],[39,11,39,12],[38,11,38,12],[30,0,31,1],[30,2,31,4],[30,6,30,9],[31,6,31,9],[32,0,33,1],[32,2,33,4],[32,6,32,9],[33,6,33,9],[27,13,27,15],[30,11,30,12],[31,11,31,12],[32,11,32,12],[33,11,33,12],[32,14,32,15],[27,16,27,18],[27,19,27,21],[27,22,27,24],[27,25,27,27],[28,0,29,1],[28,2,29,4],[28,6,28,9],[29,6,29,9],[25,0,25,1],[25,2,25,6],[25,8,25,12],[27,0,27,4],[27,6,27,9],[27,10,27,12],[28,11,28,12],[29,11,29,12],[28,14,28,15],[29,14,29,15],[28,17,28,18],[29,17,29,18],[25,14,25,15],[25,17,25,18],[25,23,25,24],[29,23,29,24],[22,0,23,1],[22,2,23,6],[22,8,22,12],[23,8,23,12],[24,0,24,1],[24,2,24,6],[24,8,24,12],[20,0,20,1],[20,2,20,6],[20,8,20,12],[21,0,21,1],[21,2,21,6],[21,8,21,12],[18,2,18,6],[18,8,18,12],[19,0,19,6],[19,8,19,12],[14,2,14,6],[14,8,14,12],[15,2,15,6],[15,8,15,12],[16,2,16,6],[16,8,16,12],[12,0,12,1],[12,2,13,6],[12,8,12,12],[13,0,13,1],[13,8,13,12],[9,16,9,18],[9,19,9,21],[9,22,9,24],[17,2,17,6],[17,8,17,12],[12,20,12,21],[13,20,13,21],[14,20,14,21],[15,20,15,21],[16,20,16,21],[17,20,17,21],[12,23,12,24],[13,23,13,24],[14,23,14,24],[15,23,15,24],[16,23,16,24],[17,23,17,24],[12,14,12,15],[13,14,13,15],[9,25,11,27],[10,0,11,1],[10,2,11,6],[10,13,11,15],[10,16,10,18],[10,19,10,21],[10,22,10,24],[5,4,5,6],[6,4,6,6],[7,4,7,6],[9,0,9,6],[9,8,11,12],[9,13,9,15],[11,16,11,18],[11,19,11,21],[11,22,11,24],[7,17,7,18],[7,23,7,24],[7,26,7,27],[6,26,6,27],[0,7,0,27],[1,8,1,27],[2,0,2,2],[2,8,2,27],[3,0,6,2],[3,4,4,6],[3,8,3,9],[3,10,3,12],[3,16,3,18],[3,19,3,21],[3,22,3,24],[3,25,3,27],[4,8,4,9],[4,10,4,12],[4,16,4,18],[4,19,4,21],[4,22,4,24],[4,25,4,27],[5,17,5,18],[6,17,6,18],[5,23,5,24],[6,23,6,24],[5,26,5,27],[47,23,47,24],[30,20,30,21],[32,20,32,21],[5,20,5,21],[6,20,6,21],[44,20,44,21],[38,20,38,21],[39,20,39,21],[40,20,40,21],[41,20,41,21],[7,20,7,21],[25,20,25,21],[18,20,18,21],[19,20,19,21],[20,20,20,21],[21,20,21,21],[22,20,22,21],[23,20,23,21],[24,20,24,21],[28,20,28,21],[29,20,29,21],[35,20,35,21],[35,23,35,24],[28,23,28,24],[50,17,50,18],[50,14,50,15],[50,11,50,12],[44,11,44,12],[45,11,45,12],[46,11,46,12],[47,11,47,12],[48,11,48,12],[49,11,49,12],[44,17,44,18],[46,17,46,18],[47,17,47,18],[48,17,48,18],[49,17,49,18],[44,14,44,15],[46,14,46,15],[47,14,47,15],[48,14,48,15],[49,14,49,15],[35,14,35,15],[37,10,37,12],[37,13,37,15],[30,23,30,24],[32,23,32,24],[34,23,34,24],[42,14,42,15],[40,14,40,15],[39,14,39,15],[38,14,38,15],[38,17,38,18],[39,17,39,18],[40,17,40,18],[42,17,42,18],[38,23,38,24],[39,23,39,24],[40,23,40,24],[41,23,41,24],[42,23,42,24],[37,16,37,18],[37,19,37,21],[37,22,37,24],[39,26,39,27],[40,26,40,27],[41,26,41,27],[42,26,42,27],[43,26,43,27],[44,26,44,27],[45,26,45,27],[46,26,46,27],[32,17,32,18],[34,20,34,21],[35,17,35,18],[43,23,43,24],[44,23,44,24],[46,23,46,24],[37,25,37,27],[47,26,47,27],[48,26,48,27],[49,26,49,27],[50,26,50,27],[12,26,12,27],[13,26,13,27],[14,26,14,27],[15,26,15,27],[16,26,16,27],[17,26,17,27],[18,26,18,27],[19,26,19,27],[20,26,20,27],[21,26,21,27],[22,26,22,27],[23,26,23,27],[24,26,24,27],[25,26,25,27],[34,26,34,27],[30,26,30,27],[29,26,29,27],[28,26,28,27],[35,26,35,27],[38,26,38,27],[20,23,20,24],[21,23,21,24],[22,23,22,24],[24,23,24,24],[23,23,23,24],[18,23,18,24],[19,23,19,24],[14,17,14,18],[12,17,12,18],[13,17,13,18],[15,17,15,18],[16,17,16,18],[17,17,17,18],[18,17,18,18],[19,17,19,18],[20,17,20,18],[21,17,21,18],[22,17,22,18],[23,17,23,18],[24,17,24,18],[23,14,23,15],[24,14,24,15],[5,11,5,12],[6,11,6,12],[7,11,7,12],[5,14,5,15],[6,14,6,15],[7,14,7,15],[3,13,4,15],[14,14,14,15],[15,14,15,15],[16,14,16,15],[17,14,17,15],[18,14,18,15],[19,14,19,15],[20,14,20,15],[21,14,21,15],[22,14,22,15]]}
[null,null,null,null,null,null,null,"  MORAVSKOSLEZSKÝ KYNOLOGICKÝ SVAZ, z. s."]
[null,null,null,null,null,null,null," ","Člen FCI prostřednictvím Českomoravské kynologické unie"]
["Druh a stupeň",null,null,null,null,null,null," ","POTVRZENÍ O VYKONANÉ ZKOUŠCE NZŘ"]
[{"$f":"IF(Soupiska!W12=\"N\",Soupiska!B12,\"NE\")","v":"NE"},null,null,null,"A - STOPA",null,null,null,"ZM",null,"ZVV1",null,null,"ZPS1",null,null,"ZVV2",null,null,"ZVV3",null,null,"ZPS2",null,null,"ZPS2"]
[null,null,null,null,null,null,null,null,"ZMMP",null,"ZMP1",null,null,null,null,null,"ZMP2",null,null,"ZMP3",null,null,"A",null,null,"B"]
[null,null,null,null,"Vlastní - cizí",null,null,null,40,null,80,null,null,80,null,null,"80",null,null,80,null,null,80,null,null,80]
[null,null,null,null,"Předměty",null,null,null,10,null,20," ",null,20,null,null,20," ",null,20,null,null,20,null,null,20]
[null,null,null,null,"Celkem",null,null,null,50,{"$f":"SUM(J6:J7)","v":0},100,{"$f":"SUM(L6:M7)","v":0},null,100,{"$f":"SUM(O6:O7)","v":0},null,100,{"$f":"SUM(R6:S7)","v":0},null,100,{"$f":"SUM(U6:V7)","v":0},null,100,{"$f":"SUM(X6:Y7)","v":0},null,100,{"$f":"SUM(AA6:AB7)","v":0}]
[]
["Data psa-feny",null,null,null,null,null,null,null,"B - POSLUŠNOST",null,null,null,null,"ZM",null,null,"ZVV1,ZMP1",null,null,"ZVV2",null,null,"ZVV3,ZMP3",null,null,"ZZO"]
["Jméno:",null,{"$f":"Soupiska!C12","v":0},null,null,null,null,null,null,null,null,null,null,"ZMMP",null,null,"ZPS1,ZPO1",null,null,"ZMP2",null,null,"ZPS2,ZPO2"]
[null,null,null,null,null,null,null,null,null,null,null,null,null,null,null,null,"ZMPO,ZZO1",null,null,"ZZO2",null,null,"ZZO3"]
["Chovná",null,{"$f":"Soupiska!E12","v":0},null,null,null,null,null,"Přivolání psa",null,null,null,null,10,null,null,10," ",null,10," ",null,10," ",null,10]
["stanice:",null,null,null,null,null,null,null,"Ovladatelnost na vod.",null,null,null,null,10,"  ",null,10," ",null," X"," X",null," X"," X",null,10]
["Plemeno:",null,{"$f":"Soupiska!I12","v":0},null,null,null,null,null,"Ovladatelnost bez vod.",null,null,null,null," X"," X",null," X"," X",null,10," ",null,10,null,null," X"," X"]
["Pohlaví:",null,{"$f":"Soupiska!K12","v":0},null,null,null,null,null,"Polohy (S - L - V)",null,null,null,null,10,"  ",null,10," ",null,10,null," ","10"," ",null,10]
["Narozen",null,{"$f":"Soupiska!L12","v":"00:00:00"},null,null,null,null,null,"Odložení za pochodu",null,null,null,null," X"," X",null,10,null,null,10,null," ",10,null,null,10]
["Č.záp.:",null,{"$f":"Soupiska!N12","v":0},null,null,null,null,null,"Štěkání psa",null,null,null,null," X"," X",null,10," ",null,10,null," ",10," ",null," X"," X"]
["T.č./čip:",null,{"$f":"Soupiska!P12","v":0},null,null,null,null,null,"Aport volný",null,null,null,null,10," ",null,10," ",null,"X",null," X"," X"," X",null,10]
["Data psovoda",null,null,null,null,null,null,null,"Skok vysoký  (aport)",null,null,null,null," X"," X",null,10," ",null,10,null," "," X"," X",null," X"," X"]
["Jméno:",null,{"$f":"Soupiska!C13","v":0},null,null,null,null,null,"Skok šplhem  (aport)",null,null,null,null," X"," X",null,10," ",null," X","X",null,10," ",null," X"," X"]
["Příjmení:",null,{"$f":"Soupiska!E13","v":0},null,null,null,null,null,"Plížení",null,null,null,null," X"," X",null," X"," X",null,10,null," ",10," ",null," X"," X"]
["Bydliště:",null,{"$f":"Soupiska!I13","v":0},null,null,null,null,null,"Kladina (nízká/vysoká)",null,null,null,null," X"," X",null,10," ",null,10,null," ",10," ",null," X"," X"]
[null,null,null,null,null,null,null,null,"Vysílání",null,null,null,null," X"," X",null," X"," X",null,10,null,"  ",10,null,null," X"," X"]
["Narozen:",null,{"$f":"DATE(IF(MID(Soupiska!C14,1,2)*1 > YEAR(TODAY())-2000, 1900, 2000) + MID(Soupiska!C14,1,2), MOD(MID(Soupiska!C14,3,2),50), MID(Soupiska!C14,5,2))","v":{"$error":"#VALUE!"}},null,null,null,null,null,"Odložení psa",null,null,null,null,10," ",null,10," ",null,10,null," ",10," ",null,10]
["Člen ZO:",null,{"$f":"Soupiska!I14","v":0},null,null,null,null,null,"Celkem",null,null,null,null,50,{"$f":"SUM(O13:P25)","v":0},null,100,{"$f":"SUM(R13:S25)","v":0},null,100,{"$f":"SUM(U13:V25)","v":0},null,100,{"$f":"SUM(X13:Y25)","v":0},null,60,{"$f":"SUM(AA13:AB25)","v":0}]
[]
["Data akce",null,null,null,null,null,"C - OBRANA",null,null,null,"ZM",null,null,"ZVV1 ",null,null,"ZVV2",null,null,"ZVV3",null,null,"ZPO1",null,null,"ZPO2"]
["Datum:",null,{"$f":"Soupiska!T6","v":"00:00:00"},null,null,null,"Průzkum terénu",null,null,null,10," ",null,10," ",null,10,null,null,10,null,null,10,null,null,20," "]
[null,null,null,null,null,null,"Vyštěkání",null,null,null,10," ",null,10,null,null,10,null,null,10,null,null,10,null,null,20]
["Místo:",null,{"$f":"Soupiska!P5","v":0},null,null,null,"Prohl., výsl., dopr.",null,null,null," X"," X",null,"10/10",null," ","10/10",null," ",10,null," ",10," ",null,20]
[null,null,null,null,null,null,"Ochrana psovoda",null,null,null,"15",null,null," 15/5",null,null," 15/5",null,null,"20/5",null,null,"20/5",null,null,"40/10",null," "]
["Vedoucí zkoušek:",null,{"$f":"Soupiska!D6","v":0},null,null,null,"Hlídání pomocníka 2+1",null,null,null," X"," X",null," X"," X",null," X"," X",null,20,null,null,20,null,null,40,null," "]
[null,null,null,null,null,null,"Samost. činnost psa (zadržení pomocníka)",null,null,null,"15",null,null," 15/5",null," "," 15/5",null," ","20/5",null,null,"20/5",null,null,"40/10",null," "]
["Rozhodčí:",null,{"$f":"Soupiska!P6","v":0},null,null,null,"Odolnost psa",null,null,null,"X","X",null," 15/5",null," "," 15/5",null," ","X","X",null,"X","X",null,"X","X"]
[null,null,null,null,null,null,"Celkem",null,null,null,50,{"$f":"SUM(L29:M35)","v":0},null,100,{"$f":"SUM(O29:P35)","v":0},null,100,{"$f":"SUM(R29:S35)","v":0},null,100,{"$f":"SUM(U29:V35)","v":0},null,100,{"$f":"SUM(X29:Y35)","v":0},null,200,{"$f":"SUM(AA29:AB35)","v":0}]
[" ",null,null,null,null,null,null,null," ",null,null,null,null,null,null," ",null,null," "," ",null," "," ",null," "," ",null," "]
["Výsledek zkoušky",null,null,null,null,null,"D - SPEC .CVIKY",null,null,null,"ZMMP",null,null,"ZMMP1",null,null,"ZMMP2",null,null,"ZMMP3",null,null,"ZPMO",null,null,"ZZO"]
["A   stopa",null,null,{"$f":"J8+L8+O8+R8+U8+X8+AA8","v":0},null,null,"Přivol.psa za ztíž.p.",null,null,null," X"," X",null," X"," X",null," X"," X",null," X"," X",null," X"," X",null,"PV-P-N"," "]
[null,null,null,null,null,null,"Chov.psa ve sk.osob",null,null,null," X"," X",null," X"," X",null," X"," X",null," X"," X",null," X"," X",null,"PV-P-N"," "]
["B  poslušnost",null,null,{"$f":"O26+R26+U26+X26+AA26","v":0},null,null,"Chov.přiváz. psa",null,null,null," X"," X",null," X"," X",null," X"," X",null," X"," X",null," X"," X",null,"PV-P-N"," "]
[null,null,null,null,null,null,"Rozlišování předm.",null,null,null,"10/10",null,null,"15/15",null,null,"15/15",null,null," X"," X",null," X"," X",null," X"," X"]
["C   obrana ",null,null,{"$f":"L36+O36+R36+U36+X36+AA36","v":0},null,null,"Rozlišování osoby",null,null,null," X"," X",null," X"," X",null," X"," X",null," 15/5",null,null," X"," X",null," X"," X"]
[null,null,null,null,null,null,"Vyhledání předm.",null,null,null," 15/5",null,null," 24/6",null," "," 24/6",null,null," 24/6",null," "," X"," X",null," X"," X"]
["D    spec. cviky",null,null,{"$f":"IF(AA51=\" \",L51+O51+R51+U51+X51,AA51)","v":0},null,null,"Ztracený předmět",null,null,null,10,null,null,20," ",null,20,null,null,20,null,null," X"," X",null," X"," X"]
[null,null,null,null,null,null,"Průzk.terénu/vyšť.",null,null,null," X"," X",null,"10/10",null," ","10/10",null,null,"10/10",null,null,"10/10",null,null," X"," X"]
["CELKEM",null,{"$f":"VLOOKUP(A4,TYPY!A$1:D$65536,4,FALSE)","v":{"$error":"#N/A"}},{"$f":"IF(AA51=\" \",D39+D41+D43+D45,D39+D41+D43)","v":0},null,null,"Zajištění figuranta",null,null,null," X"," X",null," X"," X",null," X"," X",null," X"," X",null,10,null,null," X"," X"]
[null,null,null,null,null,null,"Doprovod figuranta",null,null,null," X"," X",null," X"," X",null," X"," X",null," X","X"," X",10,null,null," X"," X"]
["ZNÁMKA",null,null,null,null,null,"Napadení psovoda",null,null,null," X"," X",null," X"," X",null," X"," X",null," X","X"," X",30,null,null," X"," X"]
[{"$f":"IF(D47>0,IFERROR(IF(C47=300,VLOOKUP(D47,TYPY!$B$44:$C$135,2,FALSE),IF(C47=200,VLOOKUP(D47,TYPY!$N$44:$O$105,2,FALSE),IF(C47=150,VLOOKUP(D47,TYPY!$L$44:$M$90,2,FALSE),IF(C47=100,VLOOKUP(D47,TYPY!$F$44:$G$75,2,FALSE),IF(C47=60,IF(D45=\"N\",\"N\",VLOOKUP(D47,TYPY!$J$44:$K$63,2,FALSE)),\"N\"))))),\"N\"),\" \")","v":" "},null,null,null,null,null,"Hlídání  předm.",null,null,null," X"," X",null," X"," X",null," X"," X",null," X","X"," X",30,null,null," X"," X"]
[null,null,null,null,null,null,"Celkem",null,null,null,50,{"$f":"SUM(L42:M45)","v":0},null,100,{"$f":"SUM(P39:P50)","v":0},null,100,{"$f":"SUM(R42:S46)","v":0},null,100,{"$f":"SUM(U43:V46)","v":0},null,100,{"$f":"SUM(X46:Y50)","v":0},null,"PV-P-N"]
[]
[" ",null,null,null,null,null,null,null,null,null," ",null,null,null,null,null," "]
[]
[]
[]
["Razítko organizace",null,null,null,null,null,null,null,null,null,"Podpis ved.  zkoušek",null,null,null,null,null,"Podpis a razítko rozhočího"]

{"sheet":"NZR2","index":31,"n_rows":57,"n_cols":28,"rows_kept":57,"cut":false,"hidden":true,"merged":[[52,0,55,8],[52,10,55,13],[52,16,55,27],[56,0,56,8],[56,10,56,13],[56,16,56,25],[49,23,49,24],[49,26,49,27],[50,6,50,9],[50,11,50,12],[50,14,50,15],[50,17,50,18],[50,20,50,21],[50,23,50,24],[50,26,50,27],[49,0,50,4],[49,6,49,9],[49,11,49,12],[49,14,49,15],[49,17,49,18],[49,20,49,21],[48,0,48,4],[48,6,48,9],[48,11,48,12],[48,14,48,15],[48,17,48,18],[48,20,48,21],[48,23,48,24],[48,26,48,27],[46,0,47,1],[46,2,47,2],[46,3,47,4],[46,17,46,18],[46,20,46,21],[46,23,46,24],[46,26,46,27],[47,6,47,9],[47,11,47,12],[47,14,47,15],[47,17,47,18],[47,20,47,21],[47,23,47,24],[46,6,46,9],[46,11,46,12],[46,14,46,15],[47,26,47,27],[44,17,44,18],[44,20,44,21],[44,23,44,24],[44,26,44,27],[45,6,45,9],[45,11,45,12],[45,26,45,27],[42,23,42,24],[42,26,42,27],[43,6,43,9],[43,23,43,24],[43,26,43,27],[42,17,42,18],[44,0,45,2],[44,3,45,4],[44,6,44,9],[44,11,44,12],[44,14,44,15],[42,0,43,2],[42,3,43,4],[42,6,42,9],[42,11,42,12],[42,14,42,15],[40,20,40,21],[40,23,40,24],[40,26,40,27],[41,6,41,9],[41,20,41,21],[41,23,41,24],[41,26,41,27],[40,0,41,2],[40,3,41,4],[40,6,40,9],[40,11,40,12],[40,14,40,15],[40,17,40,18],[38,26,38,27],[39,6,39,9],[39,11,39,12],[39,14,39,15],[39,17,39,18],[39,20,39,21],[39,23,39,24],[39,26,39,27],[37,22,37,24],[37,25,37,27],[38,0,39,2],[38,3,39,4],[38,6,38,9],[38,11,38,12],[38,14,38,15],[38,17,38,18],[38,20,38,21],[38,23,38,24],[37,0,37,4],[37,6,37,9],[37,10,37,12],[37,13,37,15],[37,16,37,18],[37,19,37,21],[35,11,35,12],[35,14,35,15],[35,17,35,18],[35,20,35,21],[35,23,35,24],[35,26,35,27],[32,23,32,24],[33,6,33,9],[33,11,33,12],[34,0,35,1],[34,2,35,4],[34,6,34,9],[34,11,34,12],[34,20,34,21],[34,23,34,24],[30,26,30,27],[31,6,31,9],[31,11,31,12],[32,0,33,1],[32,2,33,4],[32,6,32,9],[32,11,32,12],[32,14,32,15],[32,17,32,18],[32,20,32,21],[30,0,31,1],[30,2,31,4],[30,6,30,9],[30,11,30,12],[30,20,30,21],[30,23,30,24],[34,26,34,27],[35,6,35,9],[28,26,28,27],[29,6,29,9],[29,11,29,12],[29,14,29,15],[29,17,29,18],[29,20,29,21],[29,23,29,24],[29,26,29,27],[27,22,27,24],[27,25,27,27],[28,0,29,1],[28,2,29,4],[28,6,28,9],[28,11,28,12],[28,14,28,15],[28,17,28,18],[28,20,28,21],[28,23,28,24],[27,0,27,4],[27,6,27,9],[27,10,27,12],[27,13,27,15],[27,16,27,18],[27,19,27,21],[24,23,24,24],[24,26,24,27],[25,0,25,1],[25,2,25,6],[25,8,25,12],[25,14,25,15],[25,17,25,18],[25,20,25,21],[25,23,25,24],[25,26,25,27],[24,0,24,1],[24,2,24,6],[24,8,24,12],[24,14,24,15],[24,17,24,18],[24,20,24,21],[22,23,22,24],[22,26,22,27],[23,8,23,12],[23,14,23,15],[23,17,23,18],[23,20,23,21],[23,23,23,24],[23,26,23,27],[22,0,23,1],[22,2,23,6],[22,8,22,12],[22,14,22,15],[22,17,22,18],[22,20,22,21],[20,23,20,24],[20,26,20,27],[21,0,21,1],[21,2,21,6],[21,8,21,12],[21,14,21,15],[21,17,21,18],[21,20,21,21],[21,23,21,24],[21,26,21,27],[20,0,20,1],[20,2,20,6],[20,8,20,12],[20,14,20,15],[20,17,20,18],[20,20,20,21],[18,26,18,27],[19,0,19,6],[19,8,19,12],[19,14,19,15],[19,17,19,18],[19,20,19,21],[19,23,19,24],[19,26,19,27],[18,2,18,6],[18,8,18,12],[18,14,18,15],[18,17,18,18],[18,20,18,21],[18,23,18,24],[16,26,16,27],[17,2,17,6],[17,8,17,12],[17,14,17,15],[17,17,17,18],[17,20,17,21],[17,23,17,24],[17,26,17,27],[16,2,16,6],[16,8,16,12],[16,14,16,15],[16,17,16,18],[16,20,16,21],[16,23,16,24],[14,26,14,27],[15,2,15,6],[15,8,15,12],[15,14,15,15],[15,17,15,18],[15,20,15,21],[15,23,15,24],[15,26,15,27],[14,2,14,6],[14,8,14,12],[14,14,14,15],[14,17,14,18],[14,20,14,21],[14,23,14,24],[12,23,12,24],[12,26,12,27],[13,0,13,1],[13,8,13,12],[13,14,13,15],[13,17,13,18],[13,20,13,21],[13,23,13,24],[13,26,13,27],[12,0,12,1],[12,2,13,6],[12,8,12,12],[12,14,12,15],[12,17,12,18],[12,20,12,21],[10,13,11,15],[10,16,10,18],[10,19,10,21],[10,22,10,24],[11,16,11,18],[11,19,11,21],[11,22,11,24],[7,26,7,27],[9,0,9,6],[9,8,11,12],[9,13,9,15],[9,16,9,18],[9,19,9,21],[9,22,9,24],[9,25,11,27],[10,0,11,1],[10,2,11,6],[7,4,7,6],[7,11,7,12],[7,14,7,15],[7,17,7,18],[7,20,7,21],[7,23,7,24],[6,20,6,21],[6,23,6,24],[6,26,6,27],[5,4,5,6],[5,11,5,12],[5,14,5,15],[5,17,5,18],[5,20,5,21],[5,23,5,24],[0,7,0,27],[1,8,1,27],[2,0,2,2],[2,8,2,27],[3,0,6,2],[3,4,4,6],[3,8,3,9],[3,10,3,12],[3,13,4,15],[3,16,3,18],[3,19,3,21],[3,22,3,24],[3,25,3,27],[4,8,4,9],[4,10,4,12],[4,16,4,18],[4,19,4,21],[4,22,4,24],[4,25,4,27],[5,26,5,27],[6,4,6,6],[6,11,6,12],[6,14,6,15],[6,17,6,18]]}
[null,null,null,null,null,null,null,"  MORAVSKOSLEZSKÝ KYNOLOGICKÝ SVAZ, z. s."]
[null,null,null,null,null,null,null," ","Člen FCI prostřednictvím Českomoravské kynologické unie"]
["Druh a stupeň",null,null,null,null,null,null," ","POTVRZENÍ O VYKONANÉ ZKOUŠCE NZŘ"]
[{"$f":"IF(Soupiska!W15=\"N\",Soupiska!B15,\"NE\")","v":"NE"},null,null,null,"A - STOPA",null,null,null,"ZM",null,"ZVV1",null,null,"ZPS1",null,null,"ZVV2",null,null,"ZVV3",null,null,"ZPS2",null,null,"ZPS2"]
[null,null,null,null,null,null,null,null,"ZMMP",null,"ZMP1",null,null,null,null,null,"ZMP2",null,null,"ZMP3",null,null,"A",null,null,"B"]
[null,null,null,null,"Vlastní - cizí",null,null,null,40,null,80,null,null,80,null,null,"80",null,null,80,null,null,80,null,null,80]
[null,null,null,null,"Předměty",null,null,null,10,null,20," ",null,20,null,null,20," ",null,20,null,null,20,null,null,20]
[null,null,null,null,"Celkem",null,null,null,50,{"$f":"SUM(J6:J7)","v":0},100,{"$f":"SUM(L6:M7)","v":0},null,100,{"$f":"SUM(O6:O7)","v":0},null,100,{"$f":"SUM(R6:S7)","v":0},null,100,{"$f":"SUM(U6:V7)","v":0},null,100,{"$f":"SUM(X6:Y7)","v":0},null,100,{"$f":"SUM(AA6:AB7)","v":0}]
[]
["Data psa-feny",null,null,null,null,null,null,null,"B - POSLUŠNOST",null,null,null,null,"ZM",null,null,"ZVV1,ZMP1",null,null,"ZVV2",null,null,"ZVV3,ZMP3",null,null,"ZZO"]
["Jméno:",null,{"$f":"Soupiska!C15","v":0},null,null,null,null,null,null,null,null,null,null,"ZMMP",null,null,"ZPS1,ZPO1",null,null,"ZMP2",null,null,"ZPS2,ZPO2"]
[null,null,null,null,null,null,null,null,null,null,null,null,null,null,null,null,"ZMPO,ZZO1",null,null,"ZZO2",null,null,"ZZO3"]
["Chovná",null,{"$f":"Soupiska!E15","v":0},null,null,null,null,null,"Přivolání psa",null,null,null,null,10,null,null,10," ",null,10," ",null,10," ",null,10]
["stanice:",null,null,null,null,null,null,null,"Ovladatelnost na vod.",null,null,null,null,10,"  ",null,10," ",null," X"," X",null," X"," X",null,10]
["Plemeno:",null,{"$f":"Soupiska!I15","v":0},null,null,null,null,null,"Ovladatelnost bez vod.",null,null,null,null," X"," X",null," X"," X",null,10," ",null,10,null,null," X"," X"]
["Pohlaví:",null,{"$f":"Soupiska!K15","v":0},null,null,null,null,null,"Polohy (S - L - V)",null,null,null,null,10,"  ",null,10," ",null,10,null," ","10"," ",null,10]
["Narozen",null,{"$f":"Soupiska!L15","v":"00:00:00"},null,null,null,null,null,"Odložení za pochodu",null,null,null,null," X"," X",null,10,null,null,10,null," ",10,null,null,10]
["Č.záp.:",null,{"$f":"Soupiska!N15","v":0},null,null,null,null,null,"Štěkání psa",null,null,null,null," X"," X",null,10," ",null,10,null," ",10," ",null," X"," X"]
["T.č./čip:",null,{"$f":"Soupiska!P15","v":0},null,null,null,null,null,"Aport volný",null,null,null,null,10," ",null,10," ",null,"X",null," X"," X"," X",null,10]
["Data psovoda",null,null,null,null,null,null,null,"Skok vysoký  (aport)",null,null,null,null," X"," X",null,10," ",null,10,null," "," X"," X",null," X"," X"]
["Jméno:",null,{"$f":"Soupiska!C16","v":0},null,null,null,null,null,"Skok šplhem  (aport)",null,null,null,null," X"," X",null,10," ",null," X","X",null,10," ",null," X"," X"]
["Příjmení:",null,{"$f":"Soupiska!E16","v":0},null,null,null,null,null,"Plížení",null,null,null,null," X"," X",null," X"," X",null,10,null," ",10," ",null," X"," X"]
["Bydliště:",null,{"$f":"Soupiska!I16","v":0},null,null,null,null,null,"Kladina (nízká/vysoká)",null,null,null,null," X"," X",null,10," ",null,10,null," ",10," ",null," X"," X"]
[null,null,null,null,null,null,null,null,"Vysílání",null,null,null,null," X"," X",null," X"," X",null,10,null,"  ",10,null,null," X"," X"]
["Narozen:",null,{"$f":"DATE(IF(MID(Soupiska!C17,1,2)*1 > YEAR(TODAY())-2000, 1900, 2000) + MID(Soupiska!C17,1,2), MOD(MID(Soupiska!C17,3,2),50), MID(Soupiska!C17,5,2))","v":{"$error":"#VALUE!"}},null,null,null,null,null,"Odložení psa",null,null,null,null,10," ",null,10," ",null,10,null," ",10," ",null,10]
["Člen ZO:",null,{"$f":"Soupiska!I17","v":0},null,null,null,null,null,"Celkem",null,null,null,null,50,{"$f":"SUM(O13:P25)","v":0},null,100,{"$f":"SUM(R13:S25)","v":0},null,100,{"$f":"SUM(U13:V25)","v":0},null,100,{"$f":"SUM(X13:Y25)","v":0},null,60,{"$f":"SUM(AA13:AB25)","v":0}]
[]
["Data akce",null,null,null,null,null,"C - OBRANA",null,null,null,"ZM",null,null,"ZVV1 ",null,null,"ZVV2",null,null,"ZVV3",null,null,"ZPO1",null,null,"ZPO2"]
["Datum:",null,{"$f":"Soupiska!T6","v":"00:00:00"},null,null,null,"Průzkum terénu",null,null,null,10," ",null,10," ",null,10,null,null,10,null,null,10,null,null,20," "]
[null,null,null,null,null,null,"Vyštěkání",null,null,null,10," ",null,10,null,null,10,null,null,10,null,null,10,null,null,20]
["Místo:",null,{"$f":"Soupiska!P5","v":0},null,null,null,"Prohl., výsl., dopr.",null,null,null," X"," X",null,"10/10",null," ","10/10",null," ",10,null," ",10," ",null,20]
[null,null,null,null,null,null,"Ochrana psovoda",null,null,null,"15",null,null," 15/5",null,null," 15/5",null,null,"20/5",null,null,"20/5",null,null,"40/10",null," "]
["Vedoucí zkoušek:",null,{"$f":"Soupiska!D6","v":0},null,null,null,"Hlídání pomocníka 2+1",null,null,null," X"," X",null," X"," X",null," X"," X",null,20,null,null,20,null,null,40,null," "]
[null,null,null,null,null,null,"Samost. činnost psa (zadržení pomocníka)",null,null,null,"15",null,null," 15/5",null," "," 15/5",null," ","20/5",null,null,"20/5",null,null,"40/10",null," "]
["Rozhodčí:",null,{"$f":"Soupiska!P6","v":0},null,null,null,"Odolnost psa",null,null,null,"X","X",null," 15/5",null," "," 15/5",null," ","X","X",null,"X","X",null,"X","X"]
[null,null,null,null,null,null,"Celkem",null,null,null,50,{"$f":"SUM(L29:M35)","v":0},null,100,{"$f":"SUM(O29:P35)","v":0},null,100,{"$f":"SUM(R29:S35)","v":0},null,100,{"$f":"SUM(U29:V35)","v":0},null,100,{"$f":"SUM(X29:Y35)","v":0},null,200,{"$f":"SUM(AA29:AB35)","v":0}]
[" ",null,null,null,null,null,null,null," ",null,null,null,null,null,null," ",null,null," "," ",null," "," ",null," "," ",null," "]
["Výsledek zkoušky",null,null,null,null,null,"D - SPEC .CVIKY",null,null,null,"ZMMP",null,null,"ZMMP1",null,null,"ZMMP2",null,null,"ZMMP3",null,null,"ZPMO",null,null,"ZZO"]
["A   stopa",null,null,{"$f":"J8+L8+O8+R8+U8+X8+AA8","v":0},null,null,"Přivol.psa za ztíž.p.",null,null,null," X"," X",null," X"," X",null," X"," X",null," X"," X",null," X"," X",null,"PV-P-N"," "]
[null,null,null,null,null,null,"Chov.psa ve sk.osob",null,null,null," X"," X",null," X"," X",null," X"," X",null," X"," X",null," X"," X",null,"PV-P-N"," "]
["B  poslušnost",null,null,{"$f":"O26+R26+U26+X26+AA26","v":0},null,null,"Chov.přiváz. psa",null,null,null," X"," X",null," X"," X",null," X"," X",null," X"," X",null," X"," X",null,"PV-P-N"," "]
[null,null,null,null,null,null,"Rozlišování předm.",null,null,null,"10/10",null,null,"15/15",null,null,"15/15",null,null," X"," X",null," X"," X",null," X"," X"]
["C   obrana ",null,null,{"$f":"L36+O36+R36+U36+X36+AA36","v":0},null,null,"Rozlišování osoby",null,null,null," X"," X",null," X"," X",null," X"," X",null," 15/5",null,null," X"," X",null," X"," X"]
[null,null,null,null,null,null,"Vyhledání předm.",null,null,null," 15/5",null,null," 24/6",null," "," 24/6",null,null," 24/6",null," "," X"," X",null," X"," X"]
["D    spec. cviky",null,null,{"$f":"IF(AA51=\" \",L51+O51+R51+U51+X51,AA51)","v":0},null,null,"Ztracený předmět",null,null,null,10,null,null,20," ",null,20,null,null,20,null,null," X"," X",null," X"," X"]
[null,null,null,null,null,null,"Průzk.terénu/vyšť.",null,null,null," X"," X",null,"10/10",null," ","10/10",null,null,"10/10",null,null,"10/10",null,null," X"," X"]
["CELKEM",null,{"$f":"VLOOKUP(A4,TYPY!A$1:D$65536,4,FALSE)","v":{"$error":"#N/A"}},{"$f":"IF(AA51=\" \",D39+D41+D43+D45,D39+D41+D43)","v":0},null,null,"Zajištění figuranta",null,null,null," X"," X",null," X"," X",null," X"," X",null," X"," X",null,10,null,null," X"," X"]
[null,null,null,null,null,null,"Doprovod figuranta",null,null,null," X"," X",null," X"," X",null," X"," X",null," X","X"," X",10,null,null," X"," X"]
["ZNÁMKA",null,null,null,null,null,"Napadení psovoda",null,null,null," X"," X",null," X"," X",null," X"," X",null," X","X"," X",30,null,null," X"," X"]
[{"$f":"IF(D47>0,IFERROR(IF(C47=300,VLOOKUP(D47,TYPY!$B$44:$C$135,2,FALSE),IF(C47=200,VLOOKUP(D47,TYPY!$N$44:$O$105,2,FALSE),IF(C47=150,VLOOKUP(D47,TYPY!$L$44:$M$90,2,FALSE),IF(C47=100,VLOOKUP(D47,TYPY!$F$44:$G$75,2,FALSE),IF(C47=60,IF(D45=\"N\",\"N\",VLOOKUP(D47,TYPY!$J$44:$K$63,2,FALSE)),\"N\"))))),\"N\"),\" \")","v":" "},null,null,null,null,null,"Hlídání  předm.",null,null,null," X"," X",null," X"," X",null," X"," X",null," X","X"," X",30,null,null," X"," X"]
[null,null,null,null,null,null,"Celkem",null,null,null,50,{"$f":"SUM(L42:M45)","v":0},null,100,{"$f":"SUM(P39:P50)","v":0},null,100,{"$f":"SUM(R42:S46)","v":0},null,100,{"$f":"SUM(U43:V46)","v":0},null,100,{"$f":"SUM(X46:Y50)","v":0},null,"PV-P-N"]
[]
[" ",null,null,null,null,null,null,null,null,null," ",null,null,null,null,null," "]
[]
[]
[]
["Razítko organizace",null,null,null,null,null,null,null,null,null,"Podpis ved.  zkoušek",null,null,null,null,null,"Podpis a razítko rozhočího"]

{"sheet":"NZR3","index":32,"n_rows":57,"n_cols":28,"rows_kept":57,"cut":false,"hidden":true,"merged":[[52,0,55,8],[52,10,55,13],[52,16,55,27],[56,0,56,8],[56,10,56,13],[56,16,56,25],[49,23,49,24],[49,26,49,27],[50,6,50,9],[50,11,50,12],[50,14,50,15],[50,17,50,18],[50,20,50,21],[50,23,50,24],[50,26,50,27],[49,0,50,4],[49,6,49,9],[49,11,49,12],[49,14,49,15],[49,17,49,18],[49,20,49,21],[48,0,48,4],[48,6,48,9],[48,11,48,12],[48,14,48,15],[48,17,48,18],[48,20,48,21],[48,23,48,24],[48,26,48,27],[46,0,47,1],[46,2,47,2],[46,3,47,4],[46,17,46,18],[46,20,46,21],[46,23,46,24],[46,26,46,27],[47,6,47,9],[47,11,47,12],[47,14,47,15],[47,17,47,18],[47,20,47,21],[47,23,47,24],[46,6,46,9],[46,11,46,12],[46,14,46,15],[47,26,47,27],[44,17,44,18],[44,20,44,21],[44,23,44,24],[44,26,44,27],[45,6,45,9],[45,11,45,12],[45,26,45,27],[42,23,42,24],[42,26,42,27],[43,6,43,9],[43,23,43,24],[43,26,43,27],[42,17,42,18],[44,0,45,2],[44,3,45,4],[44,6,44,9],[44,11,44,12],[44,14,44,15],[42,0,43,2],[42,3,43,4],[42,6,42,9],[42,11,42,12],[42,14,42,15],[40,20,40,21],[40,23,40,24],[40,26,40,27],[41,6,41,9],[41,20,41,21],[41,23,41,24],[41,26,41,27],[40,0,41,2],[40,3,41,4],[40,6,40,9],[40,11,40,12],[40,14,40,15],[40,17,40,18],[38,26,38,27],[39,6,39,9],[39,11,39,12],[39,14,39,15],[39,17,39,18],[39,20,39,21],[39,23,39,24],[39,26,39,27],[37,22,37,24],[37,25,37,27],[38,0,39,2],[38,3,39,4],[38,6,38,9],[38,11,38,12],[38,14,38,15],[38,17,38,18],[38,20,38,21],[38,23,38,24],[37,0,37,4],[37,6,37,9],[37,10,37,12],[37,13,37,15],[37,16,37,18],[37,19,37,21],[35,11,35,12],[35,14,35,15],[35,17,35,18],[35,20,35,21],[35,23,35,24],[35,26,35,27],[32,23,32,24],[33,6,33,9],[33,11,33,12],[34,0,35,1],[34,2,35,4],[34,6,34,9],[34,11,34,12],[34,20,34,21],[34,23,34,24],[30,26,30,27],[31,6,31,9],[31,11,31,12],[32,0,33,1],[32,2,33,4],[32,6,32,9],[32,11,32,12],[32,14,32,15],[32,17,32,18],[32,20,32,21],[30,0,31,1],[30,2,31,4],[30,6,30,9],[30,11,30,12],[30,20,30,21],[30,23,30,24],[34,26,34,27],[35,6,35,9],[28,26,28,27],[29,6,29,9],[29,11,29,12],[29,14,29,15],[29,17,29,18],[29,20,29,21],[29,23,29,24],[29,26,29,27],[27,22,27,24],[27,25,27,27],[28,0,29,1],[28,2,29,4],[28,6,28,9],[28,11,28,12],[28,14,28,15],[28,17,28,18],[28,20,28,21],[28,23,28,24],[27,0,27,4],[27,6,27,9],[27,10,27,12],[27,13,27,15],[27,16,27,18],[27,19,27,21],[24,23,24,24],[24,26,24,27],[25,0,25,1],[25,2,25,6],[25,8,25,12],[25,14,25,15],[25,17,25,18],[25,20,25,21],[25,23,25,24],[25,26,25,27],[24,0,24,1],[24,2,24,6],[24,8,24,12],[24,14,24,15],[24,17,24,18],[24,20,24,21],[22,23,22,24],[22,26,22,27],[23,8,23,12],[23,14,23,15],[23,17,23,18],[23,20,23,21],[23,23,23,24],[23,26,23,27],[22,0,23,1],[22,2,23,6],[22,8,22,12],[22,14,22,15],[22,17,22,18],[22,20,22,21],[20,23,20,24],[20,26,20,27],[21,0,21,1],[21,2,21,6],[21,8,21,12],[21,14,21,15],[21,17,21,18],[21,20,21,21],[21,23,21,24],[21,26,21,27],[20,0,20,1],[20,2,20,6],[20,8,20,12],[20,14,20,15],[20,17,20,18],[20,20,20,21],[18,26,18,27],[19,0,19,6],[19,8,19,12],[19,14,19,15],[19,17,19,18],[19,20,19,21],[19,23,19,24],[19,26,19,27],[18,2,18,6],[18,8,18,12],[18,14,18,15],[18,17,18,18],[18,20,18,21],[18,23,18,24],[16,26,16,27],[17,2,17,6],[17,8,17,12],[17,14,17,15],[17,17,17,18],[17,20,17,21],[17,23,17,24],[17,26,17,27],[16,2,16,6],[16,8,16,12],[16,14,16,15],[16,17,16,18],[16,20,16,21],[16,23,16,24],[14,26,14,27],[15,2,15,6],[15,8,15,12],[15,14,15,15],[15,17,15,18],[15,20,15,21],[15,23,15,24],[15,26,15,27],[14,2,14,6],[14,8,14,12],[14,14,14,15],[14,17,14,18],[14,20,14,21],[14,23,14,24],[12,23,12,24],[12,26,12,27],[13,0,13,1],[13,8,13,12],[13,14,13,15],[13,17,13,18],[13,20,13,21],[13,23,13,24],[13,26,13,27],[12,0,12,1],[12,2,13,6],[12,8,12,12],[12,14,12,15],[12,17,12,18],[12,20,12,21],[10,13,11,15],[10,16,10,18],[10,19,10,21],[10,22,10,24],[11,16,11,18],[11,19,11,21],[11,22,11,24],[7,26,7,27],[9,0,9,6],[9,8,11,12],[9,13,9,15],[9,16,9,18],[9,19,9,21],[9,22,9,24],[9,25,11,27],[10,0,11,1],[10,2,11,6],[7,4,7,6],[7,11,7,12],[7,14,7,15],[7,17,7,18],[7,20,7,21],[7,23,7,24],[6,20,6,21],[6,23,6,24],[6,26,6,27],[5,4,5,6],[5,11,5,12],[5,14,5,15],[5,17,5,18],[5,20,5,21],[5,23,5,24],[0,7,0,27],[1,8,1,27],[2,0,2,2],[2,8,2,27],[3,0,6,2],[3,4,4,6],[3,8,3,9],[3,10,3,12],[3,13,4,15],[3,16,3,18],[3,19,3,21],[3,22,3,24],[3,25,3,27],[4,8,4,9],[4,10,4,12],[4,16,4,18],[4,19,4,21],[4,22,4,24],[4,25,4,27],[5,26,5,27],[6,4,6,6],[6,11,6,12],[6,14,6,15],[6,17,6,18]]}
[null,null,null,null,null,null,null,"  MORAVSKOSLEZSKÝ KYNOLOGICKÝ SVAZ, z. s."]
[null,null,null,null,null,null,null," ","Člen FCI prostřednictvím Českomoravské kynologické unie"]
["Druh a stupeň",null,null,null,null,null,null," ","POTVRZENÍ O VYKONANÉ ZKOUŠCE NZŘ"]
[{"$f":"IF(Soupiska!W18=\"N\",Soupiska!B18,\"NE\")","v":"NE"},null,null,null,"A - STOPA",null,null,null,"ZM",null,"ZVV1",null,null,"ZPS1",null,null,"ZVV2",null,null,"ZVV3",null,null,"ZPS2",null,null,"ZPS2"]
[null,null,null,null,null,null,null,null,"ZMMP",null,"ZMP1",null,null,null,null,null,"ZMP2",null,null,"ZMP3",null,null,"A",null,null,"B"]
[null,null,null,null,"Vlastní - cizí",null,null,null,40,null,80,null,null,80,null,null,"80",null,null,80,null,null,80,null,null,80]
[null,null,null,null,"Předměty",null,null,null,10,null,20," ",null,20,null,null,20," ",null,20,null,null,20,null,null,20]
[null,null,null,null,"Celkem",null,null,null,50,{"$f":"SUM(J6:J7)","v":0},100,{"$f":"SUM(L6:M7)","v":0},null,100,{"$f":"SUM(O6:O7)","v":0},null,100,{"$f":"SUM(R6:S7)","v":0},null,100,{"$f":"SUM(U6:V7)","v":0},null,100,{"$f":"SUM(X6:Y7)","v":0},null,100,{"$f":"SUM(AA6:AB7)","v":0}]
[]
["Data psa-feny",null,null,null,null,null,null,null,"B - POSLUŠNOST",null,null,null,null,"ZM",null,null,"ZVV1,ZMP1",null,null,"ZVV2",null,null,"ZVV3,ZMP3",null,null,"ZZO"]
["Jméno:",null,{"$f":"Soupiska!C18","v":0},null,null,null,null,null,null,null,null,null,null,"ZMMP",null,null,"ZPS1,ZPO1",null,null,"ZMP2",null,null,"ZPS2,ZPO2"]
[null,null,null,null,null,null,null,null,null,null,null,null,null,null,null,null,"ZMPO,ZZO1",null,null,"ZZO2",null,null,"ZZO3"]
["Chovná",null,{"$f":"Soupiska!E18","v":0},null,null,null,null,null,"Přivolání psa",null,null,null,null,10,null,null,10," ",null,10," ",null,10," ",null,10]
["stanice:",null,null,null,null,null,null,null,"Ovladatelnost na vod.",null,null,null,null,10,"  ",null,10," ",null," X"," X",null," X"," X",null,10]
["Plemeno:",null,{"$f":"Soupiska!I18","v":0},null,null,null,null,null,"Ovladatelnost bez vod.",null,null,null,null," X"," X",null," X"," X",null,10," ",null,10,null,null," X"," X"]
["Pohlaví:",null,{"$f":"Soupiska!K18","v":0},null,null,null,null,null,"Polohy (S - L - V)",null,null,null,null,10,"  ",null,10," ",null,10,null," ","10"," ",null,10]
["Narozen",null,{"$f":"Soupiska!L18","v":"00:00:00"},null,null,null,null,null,"Odložení za pochodu",null,null,null,null," X"," X",null,10,null,null,10,null," ",10,null,null,10]
["Č.záp.:",null,{"$f":"Soupiska!N18","v":0},null,null,null,null,null,"Štěkání psa",null,null,null,null," X"," X",null,10," ",null,10,null," ",10," ",null," X"," X"]
["T.č./čip:",null,{"$f":"Soupiska!P18","v":0},null,null,null,null,null,"Aport volný",null,null,null,null,10," ",null,10," ",null,"X",null," X"," X"," X",null,10]
["Data psovoda",null,null,null,null,null,null,null,"Skok vysoký  (aport)",null,null,null,null," X"," X",null,10," ",null,10,null," "," X"," X",null," X"," X"]
["Jméno:",null,{"$f":"Soupiska!C19","v":0},null,null,null,null,null,"Skok šplhem  (aport)",null,null,null,null," X"," X",null,10," ",null," X","X",null,10," ",null," X"," X"]
["Příjmení:",null,{"$f":"Soupiska!E19","v":0},null,null,null,null,null,"Plížení",null,null,null,null," X"," X",null," X"," X",null,10,null," ",10," ",null," X"," X"]
["Bydliště:",null,{"$f":"Soupiska!I19","v":0},null,null,null,null,null,"Kladina (nízká/vysoká)",null,null,null,null," X"," X",null,10," ",null,10,null," ",10," ",null," X"," X"]
[null,null,null,null,null,null,null,null,"Vysílání",null,null,null,null," X"," X",null," X"," X",null,10,null,"  ",10,null,null," X"," X"]
["Narozen:",null,{"$f":"DATE(IF(MID(Soupiska!C20,1,2)*1 > YEAR(TODAY())-2000, 1900, 2000) + MID(Soupiska!C20,1,2), MOD(MID(Soupiska!C20,3,2),50), MID(Soupiska!C20,5,2))","v":{"$error":"#VALUE!"}},null,null,null,null,null,"Odložení psa",null,null,null,null,10," ",null,10," ",null,10,null," ",10,null,null,10]
["Člen ZO:",null,{"$f":"Soupiska!I20","v":0},null,null,null,null,null,"Celkem",null,null,null,null,50,{"$f":"SUM(O13:P25)","v":0},null,100,{"$f":"SUM(R13:S25)","v":0},null,100,{"$f":"SUM(U13:V25)","v":0},null,100,{"$f":"SUM(X13:Y25)","v":0},null,60,{"$f":"SUM(AA13:AB25)","v":0}]
[]
["Data akce",null,null,null,null,null,"C - OBRANA",null,null,null,"ZM",null,null,"ZVV1 ",null,null,"ZVV2",null,null,"ZVV3",null,null,"ZPO1",null,null,"ZPO2"]
["Datum:",null,{"$f":"Soupiska!T6","v":"00:00:00"},null,null,null,"Průzkum terénu",null,null,null,10," ",null,10," ",null,10,null,null,10,null,null,10,null,null,20," "]
[null,null,null,null,null,null,"Vyštěkání",null,null,null,10," ",null,10,null,null,10,null,null,10,null,null,10,null,null,20]
["Místo:",null,{"$f":"Soupiska!P5","v":0},null,null,null,"Prohl., výsl., dopr.",null,null,null," X"," X",null,"10/10",null," ","10/10",null," ",10,null," ",10," ",null,20]
[null,null,null,null,null,null,"Ochrana psovoda",null,null,null,"15",null,null," 15/5",null,null," 15/5",null,null,"20/5",null,null,"20/5",null,null,"40/10",null," "]
["Vedoucí zkoušek:",null,{"$f":"Soupiska!D6","v":0},null,null,null,"Hlídání pomocníka 2+1",null,null,null," X"," X",null," X"," X",null," X"," X",null,20,null,null,20,null,null,40,null," "]
[null,null,null,null,null,null,"Samost. činnost psa (zadržení pomocníka)",null,null,null,"15",null,null," 15/5",null," "," 15/5",null," ","20/5",null,null,"20/5",null,null,"40/10",null," "]
["Rozhodčí:",null,{"$f":"Soupiska!P6","v":0},null,null,null,"Odolnost psa",null,null,null,"X","X",null," 15/5",null," "," 15/5",null," ","X","X",null,"X","X",null,"X","X"]
[null,null,null,null,null,null,"Celkem",null,null,null,50,{"$f":"SUM(L29:M35)","v":0},null,100,{"$f":"SUM(O29:P35)","v":0},null,100,{"$f":"SUM(R29:S35)","v":0},null,100,{"$f":"SUM(U29:V35)","v":0},null,100,{"$f":"SUM(X29:Y35)","v":0},null,200,{"$f":"SUM(AA29:AB35)","v":0}]
[" ",null,null,null,null,null,null,null," ",null,null,null,null,null,null," ",null,null," "," ",null," "," ",null," "," ",null," "]
["Výsledek zkoušky",null,null,null,null,null,"D - SPEC .CVIKY",null,null,null,"ZMMP",null,null,"ZMMP1",null,null,"ZMMP2",null,null,"ZMMP3",null,null,"ZPMO",null,null,"ZZO"]
["A   stopa",null,null,{"$f":"J8+L8+O8+R8+U8+X8+AA8","v":0},null,null,"Přivol.psa za ztíž.p.",null,null,null," X"," X",null," X"," X",null," X"," X",null," X"," X",null," X"," X",null,"PV-P-N"," "]
[null,null,null,null,null,null,"Chov.psa ve sk.osob",null,null,null," X"," X",null," X"," X",null," X"," X",null," X"," X",null," X"," X",null,"PV-P-N"," "]
["B  poslušnost",null,null,{"$f":"O26+R26+U26+X26+AA26","v":0},null,null,"Chov.přiváz. psa",null,null,null," X"," X",null," X"," X",null," X"," X",null," X"," X",null," X"," X",null,"PV-P-N"," "]
[null,null,null,null,null,null,"Rozlišování předm.",null,null,null,"10/10",null,null,"15/15",null,null,"15/15",null,null," X"," X",null," X"," X",null," X"," X"]
["C   obrana ",null,null,{"$f":"L36+O36+R36+U36+X36+AA36","v":0},null,null,"Rozlišování osoby",null,null,null," X"," X",null," X"," X",null," X"," X",null," 15/5",null,null," X"," X",null," X"," X"]
[null,null,null,null,null,null,"Vyhledání předm.",null,null,null," 15/5",null,null," 24/6",null," "," 24/6",null,null," 24/6",null," "," X"," X",null," X"," X"]
["D    spec. cviky",null,null,{"$f":"IF(AA51=\" \",L51+O51+R51+U51+X51,AA51)","v":0},null,null,"Ztracený předmět",null,null,null,10,null,null,20," ",null,20,null,null,20,null,null," X"," X",null," X"," X"]
[null,null,null,null,null,null,"Průzk.terénu/vyšť.",null,null,null," X"," X",null,"10/10",null," ","10/10",null,null,"10/10",null,null,"10/10",null,null," X"," X"]
["CELKEM",null,{"$f":"VLOOKUP(A4,TYPY!A$1:D$65536,4,FALSE)","v":{"$error":"#N/A"}},{"$f":"IF(AA51=\" \",D39+D41+D43+D45,D39+D41+D43)","v":0},null,null,"Zajištění figuranta",null,null,null," X"," X",null," X"," X",null," X"," X",null," X"," X",null,10,null,null," X"," X"]
[null,null,null,null,null,null,"Doprovod figuranta",null,null,null," X"," X",null," X"," X",null," X"," X",null," X","X"," X",10,null,null," X"," X"]
["ZNÁMKA",null,null,null,null,null,"Napadení psovoda",null,null,null," X"," X",null," X"," X",null," X"," X",null," X","X"," X",30,null,null," X"," X"]
[{"$f":"IF(D47>0,IFERROR(IF(C47=300,VLOOKUP(D47,TYPY!$B$44:$C$135,2,FALSE),IF(C47=200,VLOOKUP(D47,TYPY!$N$44:$O$105,2,FALSE),IF(C47=150,VLOOKUP(D47,TYPY!$L$44:$M$90,2,FALSE),IF(C47=100,VLOOKUP(D47,TYPY!$F$44:$G$75,2,FALSE),IF(C47=60,IF(D45=\"N\",\"N\",VLOOKUP(D47,TYPY!$J$44:$K$63,2,FALSE)),\"N\"))))),\"N\"),\" \")","v":" "},null,null,null,null,null,"Hlídání  předm.",null,null,null," X"," X",null," X"," X",null," X"," X",null," X","X"," X",30,null,null," X"," X"]
[null,null,null,null,null,null,"Celkem",null,null,null,50,{"$f":"SUM(L42:M45)","v":0},null,100,{"$f":"SUM(P39:P50)","v":0},null,100,{"$f":"SUM(R42:S46)","v":0},null,100,{"$f":"SUM(U43:V46)","v":0},null,100,{"$f":"SUM(X46:Y50)","v":0},null,"PV-P-N"]
[]
[" ",null,null,null,null,null,null,null,null,null," ",null,null,null,null,null," "]
[]
[]
[]
["Razítko organizace",null,null,null,null,null,null,null,null,null,"Podpis ved.  zkoušek",null,null,null,null,null,"Podpis a razítko rozhočího"]

{"sheet":"NZR4","index":33,"n_rows":57,"n_cols":28,"rows_kept":57,"cut":false,"hidden":true,"merged":[[52,0,55,8],[52,10,55,13],[52,16,55,27],[56,0,56,8],[56,10,56,13],[56,16,56,25],[49,23,49,24],[49,26,49,27],[50,6,50,9],[50,11,50,12],[50,14,50,15],[50,17,50,18],[50,20,50,21],[50,23,50,24],[50,26,50,27],[49,0,50,4],[49,6,49,9],[49,11,49,12],[49,14,49,15],[49,17,49,18],[49,20,49,21],[48,0,48,4],[48,6,48,9],[48,11,48,12],[48,14,48,15],[48,17,48,18],[48,20,48,21],[48,23,48,24],[48,26,48,27],[46,0,47,1],[46,2,47,2],[46,3,47,4],[46,17,46,18],[46,20,46,21],[46,23,46,24],[46,26,46,27],[47,6,47,9],[47,11,47,12],[47,14,47,15],[47,17,47,18],[47,20,47,21],[47,23,47,24],[46,6,46,9],[46,11,46,12],[46,14,46,15],[47,26,47,27],[44,17,44,18],[44,20,44,21],[44,23,44,24],[44,26,44,27],[45,6,45,9],[45,11,45,12],[45,26,45,27],[42,23,42,24],[42,26,42,27],[43,6,43,9],[43,23,43,24],[43,26,43,27],[42,17,42,18],[44,0,45,2],[44,3,45,4],[44,6,44,9],[44,11,44,12],[44,14,44,15],[42,0,43,2],[42,3,43,4],[42,6,42,9],[42,11,42,12],[42,14,42,15],[40,20,40,21],[40,23,40,24],[40,26,40,27],[41,6,41,9],[41,20,41,21],[41,23,41,24],[41,26,41,27],[40,0,41,2],[40,3,41,4],[40,6,40,9],[40,11,40,12],[40,14,40,15],[40,17,40,18],[38,26,38,27],[39,6,39,9],[39,11,39,12],[39,14,39,15],[39,17,39,18],[39,20,39,21],[39,23,39,24],[39,26,39,27],[37,22,37,24],[37,25,37,27],[38,0,39,2],[38,3,39,4],[38,6,38,9],[38,11,38,12],[38,14,38,15],[38,17,38,18],[38,20,38,21],[38,23,38,24],[37,0,37,4],[37,6,37,9],[37,10,37,12],[37,13,37,15],[37,16,37,18],[37,19,37,21],[35,11,35,12],[35,14,35,15],[35,17,35,18],[35,20,35,21],[35,23,35,24],[35,26,35,27],[32,23,32,24],[33,6,33,9],[33,11,33,12],[34,0,35,1],[34,2,35,4],[34,6,34,9],[34,11,34,12],[34,20,34,21],[34,23,34,24],[30,26,30,27],[31,6,31,9],[31,11,31,12],[32,0,33,1],[32,2,33,4],[32,6,32,9],[32,11,32,12],[32,14,32,15],[32,17,32,18],[32,20,32,21],[30,0,31,1],[30,2,31,4],[30,6,30,9],[30,11,30,12],[30,20,30,21],[30,23,30,24],[34,26,34,27],[35,6,35,9],[28,26,28,27],[29,6,29,9],[29,11,29,12],[29,14,29,15],[29,17,29,18],[29,20,29,21],[29,23,29,24],[29,26,29,27],[27,22,27,24],[27,25,27,27],[28,0,29,1],[28,2,29,4],[28,6,28,9],[28,11,28,12],[28,14,28,15],[28,17,28,18],[28,20,28,21],[28,23,28,24],[27,0,27,4],[27,6,27,9],[27,10,27,12],[27,13,27,15],[27,16,27,18],[27,19,27,21],[24,23,24,24],[24,26,24,27],[25,0,25,1],[25,2,25,6],[25,8,25,12],[25,14,25,15],[25,17,25,18],[25,20,25,21],[25,23,25,24],[25,26,25,27],[24,0,24,1],[24,2,24,6],[24,8,24,12],[24,14,24,15],[24,17,24,18],[24,20,24,21],[22,23,22,24],[22,26,22,27],[23,8,23,12],[23,14,23,15],[23,17,23,18],[23,20,23,21],[23,23,23,24],[23,26,23,27],[22,0,23,1],[22,2,23,6],[22,8,22,12],[22,14,22,15],[22,17,22,18],[22,20,22,21],[20,23,20,24],[20,26,20,27],[21,0,21,1],[21,2,21,6],[21,8,21,12],[21,14,21,15],[21,17,21,18],[21,20,21,21],[21,23,21,24],[21,26,21,27],[20,0,20,1],[20,2,20,6],[20,8,20,12],[20,14,20,15],[20,17,20,18],[20,20,20,21],[18,26,18,27],[19,0,19,6],[19,8,19,12],[19,14,19,15],[19,17,19,18],[19,20,19,21],[19,23,19,24],[19,26,19,27],[18,2,18,6],[18,8,18,12],[18,14,18,15],[18,17,18,18],[18,20,18,21],[18,23,18,24],[16,26,16,27],[17,2,17,6],[17,8,17,12],[17,14,17,15],[17,17,17,18],[17,20,17,21],[17,23,17,24],[17,26,17,27],[16,2,16,6],[16,8,16,12],[16,14,16,15],[16,17,16,18],[16,20,16,21],[16,23,16,24],[14,26,14,27],[15,2,15,6],[15,8,15,12],[15,14,15,15],[15,17,15,18],[15,20,15,21],[15,23,15,24],[15,26,15,27],[14,2,14,6],[14,8,14,12],[14,14,14,15],[14,17,14,18],[14,20,14,21],[14,23,14,24],[12,23,12,24],[12,26,12,27],[13,0,13,1],[13,8,13,12],[13,14,13,15],[13,17,13,18],[13,20,13,21],[13,23,13,24],[13,26,13,27],[12,0,12,1],[12,2,13,6],[12,8,12,12],[12,14,12,15],[12,17,12,18],[12,20,12,21],[10,13,11,15],[10,16,10,18],[10,19,10,21],[10,22,10,24],[11,16,11,18],[11,19,11,21],[11,22,11,24],[7,26,7,27],[9,0,9,6],[9,8,11,12],[9,13,9,15],[9,16,9,18],[9,19,9,21],[9,22,9,24],[9,25,11,27],[10,0,11,1],[10,2,11,6],[7,4,7,6],[7,11,7,12],[7,14,7,15],[7,17,7,18],[7,20,7,21],[7,23,7,24],[6,20,6,21],[6,23,6,24],[6,26,6,27],[5,4,5,6],[5,11,5,12],[5,14,5,15],[5,17,5,18],[5,20,5,21],[5,23,5,24],[0,7,0,27],[1,8,1,27],[2,0,2,2],[2,8,2,27],[3,0,6,2],[3,4,4,6],[3,8,3,9],[3,10,3,12],[3,13,4,15],[3,16,3,18],[3,19,3,21],[3,22,3,24],[3,25,3,27],[4,8,4,9],[4,10,4,12],[4,16,4,18],[4,19,4,21],[4,22,4,24],[4,25,4,27],[5,26,5,27],[6,4,6,6],[6,11,6,12],[6,14,6,15],[6,17,6,18]]}
[null,null,null,null,null,null,null,"  MORAVSKOSLEZSKÝ KYNOLOGICKÝ SVAZ, z. s."]
[null,null,null,null,null,null,null," ","Člen FCI prostřednictvím Českomoravské kynologické unie"]
["Druh a stupeň",null,null,null,null,null,null," ","POTVRZENÍ O VYKONANÉ ZKOUŠCE NZŘ"]
[{"$f":"IF(Soupiska!W21=\"N\",Soupiska!B21,\"NE\")","v":"NE"},null,null,null,"A - STOPA",null,null,null,"ZM",null,"ZVV1",null,null,"ZPS1",null,null,"ZVV2",null,null,"ZVV3",null,null,"ZPS2",null,null,"ZPS2"]
[null,null,null,null,null,null,null,null,"ZMMP",null,"ZMP1",null,null,null,null,null,"ZMP2",null,null,"ZMP3",null,null,"A",null,null,"B"]
[null,null,null,null,"Vlastní - cizí",null,null,null,40,null,80,null,null,80,null,null,"80",null,null,80,null,null,80,null,null,80]
[null,null,null,null,"Předměty",null,null,null,10,null,20," ",null,20,null,null,20," ",null,20,null,null,20,null,null,20]
[null,null,null,null,"Celkem",null,null,null,50,{"$f":"SUM(J6:J7)","v":0},100,{"$f":"SUM(L6:M7)","v":0},null,100,{"$f":"SUM(O6:O7)","v":0},null,100,{"$f":"SUM(R6:S7)","v":0},null,100,{"$f":"SUM(U6:V7)","v":0},null,100,{"$f":"SUM(X6:Y7)","v":0},null,100,{"$f":"SUM(AA6:AB7)","v":0}]
[]
["Data psa-feny",null,null,null,null,null,null,null,"B - POSLUŠNOST",null,null,null,null,"ZM",null,null,"ZVV1,ZMP1",null,null,"ZVV2",null,null,"ZVV3,ZMP3",null,null,"ZZO"]
["Jméno:",null,{"$f":"Soupiska!C21","v":0},null,null,null,null,null,null,null,null,null,null,"ZMMP",null,null,"ZPS1,ZPO1",null,null,"ZMP2",null,null,"ZPS2,ZPO2"]
[null,null,null,null,null,null,null,null,null,null,null,null,null,null,null,null,"ZMPO,ZZO1",null,null,"ZZO2",null,null,"ZZO3"]
["Chovná",null,{"$f":"Soupiska!E21","v":0},null,null,null,null,null,"Přivolání psa",null,null,null,null,10,null,null,10," ",null,10," ",null,10," ",null,10]
["stanice:",null,null,null,null,null,null,null,"Ovladatelnost na vod.",null,null,null,null,10,"  ",null,10," ",null," X"," X",null," X"," X",null,10]
["Plemeno:",null,{"$f":"Soupiska!I21","v":0},null,null,null,null,null,"Ovladatelnost bez vod.",null,null,null,null," X"," X",null," X"," X",null,10," ",null,10,null,null," X"," X"]
["Pohlaví:",null,{"$f":"Soupiska!K21","v":0},null,null,null,null,null,"Polohy (S - L - V)",null,null,null,null,10,"  ",null,10," ",null,10,null," ","10",null,null,10]
["Narozen",null,{"$f":"Soupiska!L21","v":"00:00:00"},null,null,null,null,null,"Odložení za pochodu",null,null,null,null," X"," X",null,10,null,null,10,null," ",10,null,null,10]
["Č.záp.:",null,{"$f":"Soupiska!N21","v":0},null,null,null,null,null,"Štěkání psa",null,null,null,null," X"," X",null,10," ",null,10,null," ",10," ",null," X"," X"]
["T.č./čip:",null,{"$f":"Soupiska!P21","v":0},null,null,null,null,null,"Aport volný",null,null,null,null,10," ",null,10," ",null,"X",null," X"," X"," X",null,10]
["Data psovoda",null,null,null,null,null,null,null,"Skok vysoký  (aport)",null,null,null,null," X"," X",null,10," ",null,10,null," "," X"," X",null," X"," X"]
["Jméno:",null,{"$f":"Soupiska!C22","v":0},null,null,null,null,null,"Skok šplhem  (aport)",null,null,null,null," X"," X",null,10," ",null," X","X",null,10," ",null," X"," X"]
["Příjmení:",null,{"$f":"Soupiska!E22","v":0},null,null,null,null,null,"Plížení",null,null,null,null," X"," X",null," X"," X",null,10,null," ",10," ",null," X"," X"]
["Bydliště:",null,{"$f":"Soupiska!I22","v":0},null,null,null,null,null,"Kladina (nízká/vysoká)",null,null,null,null," X"," X",null,10,null,null,10,null," ",10," ",null," X"," X"]
[null,null,null,null,null,null,null,null,"Vysílání",null,null,null,null," X"," X",null," X"," X",null,10,null,"  ",10,null,null," X"," X"]
["Narozen:",null,{"$f":"DATE(IF(MID(Soupiska!C23,1,2)*1 > YEAR(TODAY())-2000, 1900, 2000) + MID(Soupiska!C23,1,2), MOD(MID(Soupiska!C23,3,2),50), MID(Soupiska!C23,5,2))","v":{"$error":"#VALUE!"}},null,null,null,null,null,"Odložení psa",null,null,null,null,10," ",null,10," ",null,10,null," ",10," ",null,10]
["Člen ZO:",null,{"$f":"Soupiska!I23","v":0},null,null,null,null,null,"Celkem",null,null,null,null,50,{"$f":"SUM(O13:P25)","v":0},null,100,{"$f":"SUM(R13:S25)","v":0},null,100,{"$f":"SUM(U13:V25)","v":0},null,100,{"$f":"SUM(X13:Y25)","v":0},null,60,{"$f":"SUM(AA13:AB25)","v":0}]
[]
["Data akce",null,null,null,null,null,"C - OBRANA",null,null,null,"ZM",null,null,"ZVV1 ",null,null,"ZVV2",null,null,"ZVV3",null,null,"ZPO1",null,null,"ZPO2"]
["Datum:",null,{"$f":"Soupiska!T6","v":"00:00:00"},null,null,null,"Průzkum terénu",null,null,null,10," ",null,10," ",null,10,null,null,10,null,null,10,null,null,20," "]
[null,null,null,null,null,null,"Vyštěkání",null,null,null,10," ",null,10,null,null,10,null,null,10,null,null,10,null,null,20]
["Místo:",null,{"$f":"Soupiska!P5","v":0},null,null,null,"Prohl., výsl., dopr.",null,null,null," X"," X",null,"10/10",null," ","10/10",null," ",10,null," ",10," ",null,20]
[null,null,null,null,null,null,"Ochrana psovoda",null,null,null,"15",null,null," 15/5",null,null," 15/5",null,null,"20/5",null,null,"20/5",null,null,"40/10",null," "]
["Vedoucí zkoušek:",null,{"$f":"Soupiska!D6","v":0},null,null,null,"Hlídání pomocníka 2+1",null,null,null," X"," X",null," X"," X",null," X"," X",null,20,null,null,20,null,null,40,null," "]
[null,null,null,null,null,null,"Samost. činnost psa (zadržení pomocníka)",null,null,null,"15",null,null," 15/5",null," "," 15/5",null," ","20/5",null,null,"20/5",null,null,"40/10",null," "]
["Rozhodčí:",null,{"$f":"Soupiska!P6","v":0},null,null,null,"Odolnost psa",null,null,null,"X","X",null," 15/5",null," "," 15/5",null," ","X","X",null,"X","X",null,"X","X"]
[null,null,null,null,null,null,"Celkem",null,null,null,50,{"$f":"SUM(L29:M35)","v":0},null,100,{"$f":"SUM(O29:P35)","v":0},null,100,{"$f":"SUM(R29:S35)","v":0},null,100,{"$f":"SUM(U29:V35)","v":0},null,100,{"$f":"SUM(X29:Y35)","v":0},null,200,{"$f":"SUM(AA29:AB35)","v":0}]
[" ",null,null,null,null,null,null,null," ",null,null,null,null,null,null," ",null,null," "," ",null," "," ",null," "," ",null," "]
["Výsledek zkoušky",null,null,null,null,null,"D - SPEC .CVIKY",null,null,null,"ZMMP",null,null,"ZMMP1",null,null,"ZMMP2",null,null,"ZMMP3",null,null,"ZPMO",null,null,"ZZO"]
["A   stopa",null,null,{"$f":"J8+L8+O8+R8+U8+X8+AA8","v":0},null,null,"Přivol.psa za ztíž.p.",null,null,null," X"," X",null," X"," X",null," X"," X",null," X"," X",null," X"," X",null,"PV-P-N"," "]
[null,null,null,null,null,null,"Chov.psa ve sk.osob",null,null,null," X"," X",null," X"," X",null," X"," X",null," X"," X",null," X"," X",null,"PV-P-N"," "]
["B  poslušnost",null,null,{"$f":"O26+R26+U26+X26+AA26","v":0},null,null,"Chov.přiváz. psa",null,null,null," X"," X",null," X"," X",null," X"," X",null," X"," X",null," X"," X",null,"PV-P-N"," "]
[null,null,null,null,null,null,"Rozlišování předm.",null,null,null,"10/10",null,null,"15/15",null,null,"15/15",null,null," X"," X",null," X"," X",null," X"," X"]
["C   obrana ",null,null,{"$f":"L36+O36+R36+U36+X36+AA36","v":0},null,null,"Rozlišování osoby",null,null,null," X"," X",null," X"," X",null," X"," X",null," 15/5",null,null," X"," X",null," X"," X"]
[null,null,null,null,null,null,"Vyhledání předm.",null,null,null," 15/5",null,null," 24/6",null," "," 24/6",null,null," 24/6",null," "," X"," X",null," X"," X"]
["D    spec. cviky",null,null,{"$f":"IF(AA51=\" \",L51+O51+R51+U51+X51,AA51)","v":0},null,null,"Ztracený předmět",null,null,null,10,null,null,20," ",null,20,null,null,20,null,null," X"," X",null," X"," X"]
[null,null,null,null,null,null,"Průzk.terénu/vyšť.",null,null,null," X"," X",null,"10/10",null," ","10/10",null,null,"10/10",null,null,"10/10",null,null," X"," X"]
["CELKEM",null,{"$f":"VLOOKUP(A4,TYPY!A$1:D$65536,4,FALSE)","v":{"$error":"#N/A"}},{"$f":"IF(AA51=\" \",D39+D41+D43+D45,D39+D41+D43)","v":0},null,null,"Zajištění figuranta",null,null,null," X"," X",null," X"," X",null," X"," X",null," X"," X",null,10,null,null," X"," X"]
[null,null,null,null,null,null,"Doprovod figuranta",null,null,null," X"," X",null," X"," X",null," X"," X",null," X","X"," X",10,null,null," X"," X"]
["ZNÁMKA",null,null,null,null,null,"Napadení psovoda",null,null,null," X"," X",null," X"," X",null," X"," X",null," X","X"," X",30,null,null," X"," X"]
[{"$f":"IF(D47>0,IFERROR(IF(C47=300,VLOOKUP(D47,TYPY!$B$44:$C$135,2,FALSE),IF(C47=200,VLOOKUP(D47,TYPY!$N$44:$O$105,2,FALSE),IF(C47=150,VLOOKUP(D47,TYPY!$L$44:$M$90,2,FALSE),IF(C47=100,VLOOKUP(D47,TYPY!$F$44:$G$75,2,FALSE),IF(C47=60,IF(D45=\"N\",\"N\",VLOOKUP(D47,TYPY!$J$44:$K$63,2,FALSE)),\"N\"))))),\"N\"),\" \")","v":" "},null,null,null,null,null,"Hlídání  předm.",null,null,null," X"," X",null," X"," X",null," X"," X",null," X","X"," X",30,null,null," X"," X"]
[null,null,null,null,null,null,"Celkem",null,null,null,50,{"$f":"SUM(L42:M45)","v":0},null,100,{"$f":"SUM(P39:P50)","v":0},null,100,{"$f":"SUM(R42:S46)","v":0},null,100,{"$f":"SUM(U43:V46)","v":0},null,100,{"$f":"SUM(X46:Y50)","v":0},null,"PV-P-N"]
[]
[" ",null,null,null,null,null,null,null,null,null," ",null,null,null,null,null," "]
[]
[]
[]
["Razítko organizace",null,null,null,null,null,null,null,null,null,"Podpis ved.  zkoušek",null,null,null,null,null,"Podpis a razítko rozhočího"]

{"sheet":"NZR5","index":34,"n_rows":57,"n_cols":28,"rows_kept":57,"cut":false,"hidden":true,"merged":[[52,0,55,8],[52,10,55,13],[52,16,55,27],[56,0,56,8],[56,10,56,13],[56,16,56,25],[49,23,49,24],[49,26,49,27],[50,6,50,9],[50,11,50,12],[50,14,50,15],[50,17,50,18],[50,20,50,21],[50,23,50,24],[50,26,50,27],[49,0,50,4],[49,6,49,9],[49,11,49,12],[49,14,49,15],[49,17,49,18],[49,20,49,21],[48,0,48,4],[48,6,48,9],[48,11,48,12],[48,14,48,15],[48,17,48,18],[48,20,48,21],[48,23,48,24],[48,26,48,27],[46,0,47,1],[46,2,47,2],[46,3,47,4],[46,17,46,18],[46,20,46,21],[46,23,46,24],[46,26,46,27],[47,6,47,9],[47,11,47,12],[47,14,47,15],[47,17,47,18],[47,20,47,21],[47,23,47,24],[46,6,46,9],[46,11,46,12],[46,14,46,15],[47,26,47,27],[44,17,44,18],[44,20,44,21],[44,23,44,24],[44,26,44,27],[45,6,45,9],[45,11,45,12],[45,26,45,27],[42,23,42,24],[42,26,42,27],[43,6,43,9],[43,23,43,24],[43,26,43,27],[42,17,42,18],[44,0,45,2],[44,3,45,4],[44,6,44,9],[44,11,44,12],[44,14,44,15],[42,0,43,2],[42,3,43,4],[42,6,42,9],[42,11,42,12],[42,14,42,15],[40,20,40,21],[40,23,40,24],[40,26,40,27],[41,6,41,9],[41,20,41,21],[41,23,41,24],[41,26,41,27],[40,0,41,2],[40,3,41,4],[40,6,40,9],[40,11,40,12],[40,14,40,15],[40,17,40,18],[38,26,38,27],[39,6,39,9],[39,11,39,12],[39,14,39,15],[39,17,39,18],[39,20,39,21],[39,23,39,24],[39,26,39,27],[37,22,37,24],[37,25,37,27],[38,0,39,2],[38,3,39,4],[38,6,38,9],[38,11,38,12],[38,14,38,15],[38,17,38,18],[38,20,38,21],[38,23,38,24],[37,0,37,4],[37,6,37,9],[37,10,37,12],[37,13,37,15],[37,16,37,18],[37,19,37,21],[35,11,35,12],[35,14,35,15],[35,17,35,18],[35,20,35,21],[35,23,35,24],[35,26,35,27],[32,23,32,24],[33,6,33,9],[33,11,33,12],[34,0,35,1],[34,2,35,4],[34,6,34,9],[34,11,34,12],[34,20,34,21],[34,23,34,24],[30,26,30,27],[31,6,31,9],[31,11,31,12],[32,0,33,1],[32,2,33,4],[32,6,32,9],[32,11,32,12],[32,14,32,15],[32,17,32,18],[32,20,32,21],[30,0,31,1],[30,2,31,4],[30,6,30,9],[30,11,30,12],[30,20,30,21],[30,23,30,24],[34,26,34,27],[35,6,35,9],[28,26,28,27],[29,6,29,9],[29,11,29,12],[29,14,29,15],[29,17,29,18],[29,20,29,21],[29,23,29,24],[29,26,29,27],[27,22,27,24],[27,25,27,27],[28,0,29,1],[28,2,29,4],[28,6,28,9],[28,11,28,12],[28,14,28,15],[28,17,28,18],[28,20,28,21],[28,23,28,24],[27,0,27,4],[27,6,27,9],[27,10,27,12],[27,13,27,15],[27,16,27,18],[27,19,27,21],[24,23,24,24],[24,26,24,27],[25,0,25,1],[25,2,25,6],[25,8,25,12],[25,14,25,15],[25,17,25,18],[25,20,25,21],[25,23,25,24],[25,26,25,27],[24,0,24,1],[24,2,24,6],[24,8,24,12],[24,14,24,15],[24,17,24,18],[24,20,24,21],[22,23,22,24],[22,26,22,27],[23,8,23,12],[23,14,23,15],[23,17,23,18],[23,20,23,21],[23,23,23,24],[23,26,23,27],[22,0,23,1],[22,2,23,6],[22,8,22,12],[22,14,22,15],[22,17,22,18],[22,20,22,21],[20,23,20,24],[20,26,20,27],[21,0,21,1],[21,2,21,6],[21,8,21,12],[21,14,21,15],[21,17,21,18],[21,20,21,21],[21,23,21,24],[21,26,21,27],[20,0,20,1],[20,2,20,6],[20,8,20,12],[20,14,20,15],[20,17,20,18],[20,20,20,21],[18,26,18,27],[19,0,19,6],[19,8,19,12],[19,14,19,15],[19,17,19,18],[19,20,19,21],[19,23,19,24],[19,26,19,27],[18,2,18,6],[18,8,18,12],[18,14,18,15],[18,17,18,18],[18,20,18,21],[18,23,18,24],[16,26,16,27],[17,2,17,6],[17,8,17,12],[17,14,17,15],[17,17,17,18],[17,20,17,21],[17,23,17,24],[17,26,17,27],[16,2,16,6],[16,8,16,12],[16,14,16,15],[16,17,16,18],[16,20,16,21],[16,23,16,24],[14,26,14,27],[15,2,15,6],[15,8,15,12],[15,14,15,15],[15,17,15,18],[15,20,15,21],[15,23,15,24],[15,26,15,27],[14,2,14,6],[14,8,14,12],[14,14,14,15],[14,17,14,18],[14,20,14,21],[14,23,14,24],[12,23,12,24],[12,26,12,27],[13,0,13,1],[13,8,13,12],[13,14,13,15],[13,17,13,18],[13,20,13,21],[13,23,13,24],[13,26,13,27],[12,0,12,1],[12,2,13,6],[12,8,12,12],[12,14,12,15],[12,17,12,18],[12,20,12,21],[10,13,11,15],[10,16,10,18],[10,19,10,21],[10,22,10,24],[11,16,11,18],[11,19,11,21],[11,22,11,24],[7,26,7,27],[9,0,9,6],[9,8,11,12],[9,13,9,15],[9,16,9,18],[9,19,9,21],[9,22,9,24],[9,25,11,27],[10,0,11,1],[10,2,11,6],[7,4,7,6],[7,11,7,12],[7,14,7,15],[7,17,7,18],[7,20,7,21],[7,23,7,24],[6,20,6,21],[6,23,6,24],[6,26,6,27],[5,4,5,6],[5,11,5,12],[5,14,5,15],[5,17,5,18],[5,20,5,21],[5,23,5,24],[0,7,0,27],[1,8,1,27],[2,0,2,2],[2,8,2,27],[3,0,6,2],[3,4,4,6],[3,8,3,9],[3,10,3,12],[3,13,4,15],[3,16,3,18],[3,19,3,21],[3,22,3,24],[3,25,3,27],[4,8,4,9],[4,10,4,12],[4,16,4,18],[4,19,4,21],[4,22,4,24],[4,25,4,27],[5,26,5,27],[6,4,6,6],[6,11,6,12],[6,14,6,15],[6,17,6,18]]}
[null,null,null,null,null,null,null,"  MORAVSKOSLEZSKÝ KYNOLOGICKÝ SVAZ, z. s."]
[null,null,null,null,null,null,null," ","Člen FCI prostřednictvím Českomoravské kynologické unie"]
["Druh a stupeň",null,null,null,null,null,null," ","POTVRZENÍ O VYKONANÉ ZKOUŠCE NZŘ"]
[{"$f":"IF(Soupiska!W24=\"N\",Soupiska!B24,\"NE\")","v":"NE"},null,null,null,"A - STOPA",null,null,null,"ZM",null,"ZVV1",null,null,"ZPS1",null,null,"ZVV2",null,null,"ZVV3",null,null,"ZPS2",null,null,"ZPS2"]
[null,null,null,null,null,null,null,null,"ZMMP",null,"ZMP1",null,null,null,null,null,"ZMP2",null,null,"ZMP3",null,null,"A",null,null,"B"]
[null,null,null,null,"Vlastní - cizí",null,null,null,40,null,80,null,null,80,null,null,"80",null,null,80,null,null,80,null,null,80]
[null,null,null,null,"Předměty",null,null,null,10,null,20," ",null,20,null,null,20," ",null,20,null,null,20,null,null,20]
[null,null,null,null,"Celkem",null,null,null,50,{"$f":"SUM(J6:J7)","v":0},100,{"$f":"SUM(L6:M7)","v":0},null,100,{"$f":"SUM(O6:O7)","v":0},null,100,{"$f":"SUM(R6:S7)","v":0},null,100,{"$f":"SUM(U6:V7)","v":0},null,100,{"$f":"SUM(X6:Y7)","v":0},null,100,{"$f":"SUM(AA6:AB7)","v":0}]
[]
["Data psa-feny",null,null,null,null,null,null,null,"B - POSLUŠNOST",null,null,null,null,"ZM",null,null,"ZVV1,ZMP1",null,null,"ZVV2",null,null,"ZVV3,ZMP3",null,null,"ZZO"]
["Jméno:",null,{"$f":"Soupiska!C24","v":0},null,null,null,null,null,null,null,null,null,null,"ZMMP",null,null,"ZPS1,ZPO1",null,null,"ZMP2",null,null,"ZPS2,ZPO2"]
[null,null,null,null,null,null,null,null,null,null,null,null,null,null,null,null,"ZMPO,ZZO1",null,null,"ZZO2",null,null,"ZZO3"]
["Chovná",null,{"$f":"Soupiska!E24","v":0},null,null,null,null,null,"Přivolání psa",null,null,null,null,10,null,null,10," ",null,10," ",null,10," ",null,10]
["stanice:",null,null,null,null,null,null,null,"Ovladatelnost na vod.",null,null,null,null,10,"  ",null,10,null,null," X"," X",null," X"," X",null,10]
["Plemeno:",null,{"$f":"Soupiska!I24","v":0},null,null,null,null,null,"Ovladatelnost bez vod.",null,null,null,null," X"," X",null," X"," X",null,10," ",null,10,null,null," X"," X"]
["Pohlaví:",null,{"$f":"Soupiska!K24","v":0},null,null,null,null,null,"Polohy (S - L - V)",null,null,null,null,10,"  ",null,10," ",null,10,null," ","10"," ",null,10]
["Narozen",null,{"$f":"Soupiska!L24","v":"00:00:00"},null,null,null,null,null,"Odložení za pochodu",null,null,null,null," X"," X",null,10,null,null,10,null," ",10,null,null,10]
["Č.záp.:",null,{"$f":"Soupiska!N24","v":0},null,null,null,null,null,"Štěkání psa",null,null,null,null," X"," X",null,10," ",null,10,null," ",10," ",null," X"," X"]
["T.č./čip:",null,{"$f":"Soupiska!P24","v":0},null,null,null,null,null,"Aport volný",null,null,null,null,10," ",null,10," ",null,"X",null," X"," X"," X",null,10]
["Data psovoda",null,null,null,null,null,null,null,"Skok vysoký  (aport)",null,null,null,null," X"," X",null,10," ",null,10,null," "," X"," X",null," X"," X"]
["Jméno:",null,{"$f":"Soupiska!C25","v":0},null,null,null,null,null,"Skok šplhem  (aport)",null,null,null,null," X"," X",null,10," ",null," X","X",null,10," ",null," X"," X"]
["Příjmení:",null,{"$f":"Soupiska!E25","v":0},null,null,null,null,null,"Plížení",null,null,null,null," X"," X",null," X"," X",null,10,null," ",10," ",null," X"," X"]
["Bydliště:",null,{"$f":"Soupiska!I25","v":0},null,null,null,null,null,"Kladina (nízká/vysoká)",null,null,null,null," X"," X",null,10," ",null,10,null," ",10," ",null," X"," X"]
[null,null,null,null,null,null,null,null,"Vysílání",null,null,null,null," X"," X",null," X"," X",null,10,null,"  ",10,null,null," X"," X"]
["Narozen:",null,{"$f":"DATE(IF(MID(Soupiska!C26,1,2)*1 > YEAR(TODAY())-2000, 1900, 2000) + MID(Soupiska!C26,1,2), MOD(MID(Soupiska!C26,3,2),50), MID(Soupiska!C26,5,2))","v":{"$error":"#VALUE!"}},null,null,null,null,null,"Odložení psa",null,null,null,null,10," ",null,10," ",null,10,null," ",10," ",null,10]
["Člen ZO:",null,{"$f":"Soupiska!I26","v":0},null,null,null,null,null,"Celkem",null,null,null,null,50,{"$f":"SUM(O13:P25)","v":0},null,100,{"$f":"SUM(R13:S25)","v":0},null,100,{"$f":"SUM(U13:V25)","v":0},null,100,{"$f":"SUM(X13:Y25)","v":0},null,60,{"$f":"SUM(AA13:AB25)","v":0}]
[]
["Data akce",null,null,null,null,null,"C - OBRANA",null,null,null,"ZM",null,null,"ZVV1 ",null,null,"ZVV2",null,null,"ZVV3",null,null,"ZPO1",null,null,"ZPO2"]
["Datum:",null,{"$f":"Soupiska!T6","v":"00:00:00"},null,null,null,"Průzkum terénu",null,null,null,10," ",null,10," ",null,10,null,null,10,null,null,10,null,null,20," "]
[null,null,null,null,null,null,"Vyštěkání",null,null,null,10," ",null,10,null,null,10,null,null,10,null,null,10,null,null,20]
["Místo:",null,{"$f":"Soupiska!P5","v":0},null,null,null,"Prohl., výsl., dopr.",null,null,null," X"," X",null,"10/10",null," ","10/10",null," ",10,null," ",10," ",null,20]
[null,null,null,null,null,null,"Ochrana psovoda",null,null,null,"15",null,null," 15/5",null,null," 15/5",null,null,"20/5",null,null,"20/5",null,null,"40/10",null," "]
["Vedoucí zkoušek:",null,{"$f":"Soupiska!D6","v":0},null,null,null,"Hlídání pomocníka 2+1",null,null,null," X"," X",null," X"," X",null," X"," X",null,20,null,null,20,null,null,40,null," "]
[null,null,null,null,null,null,"Samost. činnost psa (zadržení pomocníka)",null,null,null,"15",null,null," 15/5",null," "," 15/5",null," ","20/5",null,null,"20/5",null,null,"40/10",null," "]
["Rozhodčí:",null,{"$f":"Soupiska!P6","v":0},null,null,null,"Odolnost psa",null,null,null,"X","X",null," 15/5",null," "," 15/5",null," ","X","X",null,"X","X",null,"X","X"]
[null,null,null,null,null,null,"Celkem",null,null,null,50,{"$f":"SUM(L29:M35)","v":0},null,100,{"$f":"SUM(O29:P35)","v":0},null,100,{"$f":"SUM(R29:S35)","v":0},null,100,{"$f":"SUM(U29:V35)","v":0},null,100,{"$f":"SUM(X29:Y35)","v":0},null,200,{"$f":"SUM(AA29:AB35)","v":0}]
[" ",null,null,null,null,null,null,null," ",null,null,null,null,null,null," ",null,null," "," ",null," "," ",null," "," ",null," "]
["Výsledek zkoušky",null,null,null,null,null,"D - SPEC .CVIKY",null,null,null,"ZMMP",null,null,"ZMMP1",null,null,"ZMMP2",null,null,"ZMMP3",null,null,"ZPMO",null,null,"ZZO"]
["A   stopa",null,null,{"$f":"J8+L8+O8+R8+U8+X8+AA8","v":0},null,null,"Přivol.psa za ztíž.p.",null,null,null," X"," X",null," X"," X",null," X"," X",null," X"," X",null," X"," X",null,"PV-P-N"," "]
[null,null,null,null,null,null,"Chov.psa ve sk.osob",null,null,null," X"," X",null," X"," X",null," X"," X",null," X"," X",null," X"," X",null,"PV-P-N"," "]
["B  poslušnost",null,null,{"$f":"O26+R26+U26+X26+AA26","v":0},null,null,"Chov.přiváz. psa",null,null,null," X"," X",null," X"," X",null," X"," X",null," X"," X",null," X"," X",null,"PV-P-N"," "]
[null,null,null,null,null,null,"Rozlišování předm.",null,null,null,"10/10",null,null,"15/15",null,null,"15/15",null,null," X"," X",null," X"," X",null," X"," X"]
["C   obrana ",null,null,{"$f":"L36+O36+R36+U36+X36+AA36","v":0},null,null,"Rozlišování osoby",null,null,null," X"," X",null," X"," X",null," X"," X",null," 15/5",null,null," X"," X",null," X"," X"]
[null,null,null,null,null,null,"Vyhledání předm.",null,null,null," 15/5",null,null," 24/6",null," "," 24/6",null,null," 24/6",null," "," X"," X",null," X"," X"]
["D    spec. cviky",null,null,{"$f":"IF(AA51=\" \",L51+O51+R51+U51+X51,AA51)","v":0},null,null,"Ztracený předmět",null,null,null,10,null,null,20," ",null,20,null,null,20,null,null," X"," X",null," X"," X"]
[null,null,null,null,null,null,"Průzk.terénu/vyšť.",null,null,null," X"," X",null,"10/10",null," ","10/10",null,null,"10/10",null,null,"10/10",null,null," X"," X"]
["CELKEM",null,{"$f":"VLOOKUP(A4,TYPY!A$1:D$65536,4,FALSE)","v":{"$error":"#N/A"}},{"$f":"IF(AA51=\" \",D39+D41+D43+D45,D39+D41+D43)","v":0},null,null,"Zajištění figuranta",null,null,null," X"," X",null," X"," X",null," X"," X",null," X"," X",null,10,null,null," X"," X"]
[null,null,null,null,null,null,"Doprovod figuranta",null,null,null," X"," X",null," X"," X",null," X"," X",null," X","X"," X",10,null,null," X"," X"]
["ZNÁMKA",null,null,null,null,null,"Napadení psovoda",null,null,null," X"," X",null," X"," X",null," X"," X",null," X","X"," X",30,null,null," X"," X"]
[{"$f":"IF(D47>0,IFERROR(IF(C47=300,VLOOKUP(D47,TYPY!$B$44:$C$135,2,FALSE),IF(C47=200,VLOOKUP(D47,TYPY!$N$44:$O$105,2,FALSE),IF(C47=150,VLOOKUP(D47,TYPY!$L$44:$M$90,2,FALSE),IF(C47=100,VLOOKUP(D47,TYPY!$F$44:$G$75,2,FALSE),IF(C47=60,IF(D45=\"N\",\"N\",VLOOKUP(D47,TYPY!$J$44:$K$63,2,FALSE)),\"N\"))))),\"N\"),\" \")","v":" "},null,null,null,null,null,"Hlídání  předm.",null,null,null," X"," X",null," X"," X",null," X"," X",null," X","X"," X",30,null,null," X"," X"]
[null,null,null,null,null,null,"Celkem",null,null,null,50,{"$f":"SUM(L42:M45)","v":0},null,100,{"$f":"SUM(P39:P50)","v":0},null,100,{"$f":"SUM(R42:S46)","v":0},null,100,{"$f":"SUM(U43:V46)","v":0},null,100,{"$f":"SUM(X46:Y50)","v":0},null,"PV-P-N"]
[]
[" ",null,null,null,null,null,null,null,null,null," ",null,null,null,null,null," "]
[]
[]
[]
["Razítko organizace",null,null,null,null,null,null,null,null,null,"Podpis ved.  zkoušek",null,null,null,null,null,"Podpis a razítko rozhočího"]

{"sheet":"NZR6","index":35,"n_rows":57,"n_cols":28,"rows_kept":57,"cut":false,"hidden":true,"merged":[[52,0,55,8],[52,10,55,13],[52,16,55,27],[56,0,56,8],[56,10,56,13],[56,16,56,25],[49,23,49,24],[49,26,49,27],[50,6,50,9],[50,11,50,12],[50,14,50,15],[50,17,50,18],[50,20,50,21],[50,23,50,24],[50,26,50,27],[49,0,50,4],[49,6,49,9],[49,11,49,12],[49,14,49,15],[49,17,49,18],[49,20,49,21],[48,0,48,4],[48,6,48,9],[48,11,48,12],[48,14,48,15],[48,17,48,18],[48,20,48,21],[48,23,48,24],[48,26,48,27],[46,0,47,1],[46,2,47,2],[46,3,47,4],[46,17,46,18],[46,20,46,21],[46,23,46,24],[46,26,46,27],[47,6,47,9],[47,11,47,12],[47,14,47,15],[47,17,47,18],[47,20,47,21],[47,23,47,24],[46,6,46,9],[46,11,46,12],[46,14,46,15],[47,26,47,27],[44,17,44,18],[44,20,44,21],[44,23,44,24],[44,26,44,27],[45,6,45,9],[45,11,45,12],[45,26,45,27],[42,23,42,24],[42,26,42,27],[43,6,43,9],[43,23,43,24],[43,26,43,27],[42,17,42,18],[44,0,45,2],[44,3,45,4],[44,6,44,9],[44,11,44,12],[44,14,44,15],[42,0,43,2],[42,3,43,4],[42,6,42,9],[42,11,42,12],[42,14,42,15],[40,20,40,21],[40,23,40,24],[40,26,40,27],[41,6,41,9],[41,20,41,21],[41,23,41,24],[41,26,41,27],[40,0,41,2],[40,3,41,4],[40,6,40,9],[40,11,40,12],[40,14,40,15],[40,17,40,18],[38,26,38,27],[39,6,39,9],[39,11,39,12],[39,14,39,15],[39,17,39,18],[39,20,39,21],[39,23,39,24],[39,26,39,27],[37,22,37,24],[37,25,37,27],[38,0,39,2],[38,3,39,4],[38,6,38,9],[38,11,38,12],[38,14,38,15],[38,17,38,18],[38,20,38,21],[38,23,38,24],[37,0,37,4],[37,6,37,9],[37,10,37,12],[37,13,37,15],[37,16,37,18],[37,19,37,21],[35,11,35,12],[35,14,35,15],[35,17,35,18],[35,20,35,21],[35,23,35,24],[35,26,35,27],[32,23,32,24],[33,6,33,9],[33,11,33,12],[34,0,35,1],[34,2,35,4],[34,6,34,9],[34,11,34,12],[34,20,34,21],[34,23,34,24],[30,26,30,27],[31,6,31,9],[31,11,31,12],[32,0,33,1],[32,2,33,4],[32,6,32,9],[32,11,32,12],[32,14,32,15],[32,17,32,18],[32,20,32,21],[30,0,31,1],[30,2,31,4],[30,6,30,9],[30,11,30,12],[30,20,30,21],[30,23,30,24],[34,26,34,27],[35,6,35,9],[28,26,28,27],[29,6,29,9],[29,11,29,12],[29,14,29,15],[29,17,29,18],[29,20,29,21],[29,23,29,24],[29,26,29,27],[27,22,27,24],[27,25,27,27],[28,0,29,1],[28,2,29,4],[28,6,28,9],[28,11,28,12],[28,14,28,15],[28,17,28,18],[28,20,28,21],[28,23,28,24],[27,0,27,4],[27,6,27,9],[27,10,27,12],[27,13,27,15],[27,16,27,18],[27,19,27,21],[24,23,24,24],[24,26,24,27],[25,0,25,1],[25,2,25,6],[25,8,25,12],[25,14,25,15],[25,17,25,18],[25,20,25,21],[25,23,25,24],[25,26,25,27],[24,0,24,1],[24,2,24,6],[24,8,24,12],[24,14,24,15],[24,17,24,18],[24,20,24,21],[22,23,22,24],[22,26,22,27],[23,8,23,12],[23,14,23,15],[23,17,23,18],[23,20,23,21],[23,23,23,24],[23,26,23,27],[22,0,23,1],[22,2,23,6],[22,8,22,12],[22,14,22,15],[22,17,22,18],[22,20,22,21],[20,23,20,24],[20,26,20,27],[21,0,21,1],[21,2,21,6],[21,8,21,12],[21,14,21,15],[21,17,21,18],[21,20,21,21],[21,23,21,24],[21,26,21,27],[20,0,20,1],[20,2,20,6],[20,8,20,12],[20,14,20,15],[20,17,20,18],[20,20,20,21],[18,26,18,27],[19,0,19,6],[19,8,19,12],[19,14,19,15],[19,17,19,18],[19,20,19,21],[19,23,19,24],[19,26,19,27],[18,2,18,6],[18,8,18,12],[18,14,18,15],[18,17,18,18],[18,20,18,21],[18,23,18,24],[16,26,16,27],[17,2,17,6],[17,8,17,12],[17,14,17,15],[17,17,17,18],[17,20,17,21],[17,23,17,24],[17,26,17,27],[16,2,16,6],[16,8,16,12],[16,14,16,15],[16,17,16,18],[16,20,16,21],[16,23,16,24],[14,26,14,27],[15,2,15,6],[15,8,15,12],[15,14,15,15],[15,17,15,18],[15,20,15,21],[15,23,15,24],[15,26,15,27],[14,2,14,6],[14,8,14,12],[14,14,14,15],[14,17,14,18],[14,20,14,21],[14,23,14,24],[12,23,12,24],[12,26,12,27],[13,0,13,1],[13,8,13,12],[13,14,13,15],[13,17,13,18],[13,20,13,21],[13,23,13,24],[13,26,13,27],[12,0,12,1],[12,2,13,6],[12,8,12,12],[12,14,12,15],[12,17,12,18],[12,20,12,21],[10,13,11,15],[10,16,10,18],[10,19,10,21],[10,22,10,24],[11,16,11,18],[11,19,11,21],[11,22,11,24],[7,26,7,27],[9,0,9,6],[9,8,11,12],[9,13,9,15],[9,16,9,18],[9,19,9,21],[9,22,9,24],[9,25,11,27],[10,0,11,1],[10,2,11,6],[7,4,7,6],[7,11,7,12],[7,14,7,15],[7,17,7,18],[7,20,7,21],[7,23,7,24],[6,20,6,21],[6,23,6,24],[6,26,6,27],[5,4,5,6],[5,11,5,12],[5,14,5,15],[5,17,5,18],[5,20,5,21],[5,23,5,24],[0,7,0,27],[1,8,1,27],[2,0,2,2],[2,8,2,27],[3,0,6,2],[3,4,4,6],[3,8,3,9],[3,10,3,12],[3,13,4,15],[3,16,3,18],[3,19,3,21],[3,22,3,24],[3,25,3,27],[4,8,4,9],[4,10,4,12],[4,16,4,18],[4,19,4,21],[4,22,4,24],[4,25,4,27],[5,26,5,27],[6,4,6,6],[6,11,6,12],[6,14,6,15],[6,17,6,18]]}
[null,null,null,null,null,null,null,"  MORAVSKOSLEZSKÝ KYNOLOGICKÝ SVAZ, z. s."]
[null,null,null,null,null,null,null," ","Člen FCI prostřednictvím Českomoravské kynologické unie"]
["Druh a stupeň",null,null,null,null,null,null," ","POTVRZENÍ O VYKONANÉ ZKOUŠCE NZŘ"]
[{"$f":"IF(Soupiska!W27=\"N\",Soupiska!B27,\"NE\")","v":"NE"},null,null,null,"A - STOPA",null,null,null,"ZM",null,"ZVV1",null,null,"ZPS1",null,null,"ZVV2",null,null,"ZVV3",null,null,"ZPS2",null,null,"ZPS2"]
[null,null,null,null,null,null,null,null,"ZMMP",null,"ZMP1",null,null,null,null,null,"ZMP2",null,null,"ZMP3",null,null,"A",null,null,"B"]
[null,null,null,null,"Vlastní - cizí",null,null,null,40,null,80,null,null,80,null,null,"80",null,null,80,null,null,80,null,null,80]
[null,null,null,null,"Předměty",null,null,null,10,null,20," ",null,20,null,null,20," ",null,20,null,null,20,null,null,20]
[null,null,null,null,"Celkem",null,null,null,50,{"$f":"SUM(J6:J7)","v":0},100,{"$f":"SUM(L6:M7)","v":0},null,100,{"$f":"SUM(O6:O7)","v":0},null,100,{"$f":"SUM(R6:S7)","v":0},null,100,{"$f":"SUM(U6:V7)","v":0},null,100,{"$f":"SUM(X6:Y7)","v":0},null,100,{"$f":"SUM(AA6:AB7)","v":0}]
[]
["Data psa-feny",null,null,null,null,null,null,null,"B - POSLUŠNOST",null,null,null,null,"ZM",null,null,"ZVV1,ZMP1",null,null,"ZVV2",null,null,"ZVV3,ZMP3",null,null,"ZZO"]
["Jméno:",null,{"$f":"Soupiska!C27","v":0},null,null,null,null,null,null,null,null,null,null,"ZMMP",null,null,"ZPS1,ZPO1",null,null,"ZMP2",null,null,"ZPS2,ZPO2"]
[null,null,null,null,null,null,null,null,null,null,null,null,null,null,null,null,"ZMPO,ZZO1",null,null,"ZZO2",null,null,"ZZO3"]
["Chovná",null,{"$f":"Soupiska!E27","v":0},null,null,null,null,null,"Přivolání psa",null,null,null,null,10,null,null,10," ",null,10," ",null,10," ",null,10]
["stanice:",null,null,null,null,null,null,null,"Ovladatelnost na vod.",null,null,null,null,10,"  ",null,10," ",null," X"," X",null," X"," X",null,10]
["Plemeno:",null,{"$f":"Soupiska!I27","v":0},null,null,null,null,null,"Ovladatelnost bez vod.",null,null,null,null," X"," X",null," X"," X",null,10," ",null,10,null,null," X"," X"]
["Pohlaví:",null,{"$f":"Soupiska!K27","v":0},null,null,null,null,null,"Polohy (S - L - V)",null,null,null,null,10,"  ",null,10," ",null,10,null," ","10"," ",null,10]
["Narozen",null,{"$f":"Soupiska!L27","v":"00:00:00"},null,null,null,null,null,"Odložení za pochodu",null,null,null,null," X"," X",null,10,null,null,10,null," ",10,null,null,10]
["Č.záp.:",null,{"$f":"Soupiska!N27","v":0},null,null,null,null,null,"Štěkání psa",null,null,null,null," X"," X",null,10," ",null,10,null," ",10," ",null," X"," X"]
["T.č./čip:",null,{"$f":"Soupiska!P27","v":0},null,null,null,null,null,"Aport volný",null,null,null,null,10," ",null,10," ",null,"X",null," X"," X"," X",null,10]
["Data psovoda",null,null,null,null,null,null,null,"Skok vysoký  (aport)",null,null,null,null," X"," X",null,10," ",null,10,null," "," X"," X",null," X"," X"]
["Jméno:",null,{"$f":"Soupiska!C28","v":0},null,null,null,null,null,"Skok šplhem  (aport)",null,null,null,null," X"," X",null,10," ",null," X","X",null,10," ",null," X"," X"]
["Příjmení:",null,{"$f":"Soupiska!E28","v":0},null,null,null,null,null,"Plížení",null,null,null,null," X"," X",null," X"," X",null,10,null," ",10," ",null," X"," X"]
["Bydliště:",null,{"$f":"Soupiska!I28","v":0},null,null,null,null,null,"Kladina (nízká/vysoká)",null,null,null,null," X"," X",null,10," ",null,10,null," ",10," ",null," X"," X"]
[null,null,null,null,null,null,null,null,"Vysílání",null,null,null,null," X"," X",null," X"," X",null,10,null,"  ",10,null,null," X"," X"]
["Narozen:",null,{"$f":"DATE(IF(MID(Soupiska!C29,1,2)*1 > YEAR(TODAY())-2000, 1900, 2000) + MID(Soupiska!C29,1,2), MOD(MID(Soupiska!C29,3,2),50), MID(Soupiska!C29,5,2))","v":{"$error":"#VALUE!"}},null,null,null,null,null,"Odložení psa",null,null,null,null,10," ",null,10," ",null,10,null," ",10," ",null,10]
["Člen ZO:",null,{"$f":"Soupiska!I29","v":0},null,null,null,null,null,"Celkem",null,null,null,null,50,{"$f":"SUM(O13:P25)","v":0},null,100,{"$f":"SUM(R13:S25)","v":0},null,100,{"$f":"SUM(U13:V25)","v":0},null,100,{"$f":"SUM(X13:Y25)","v":0},null,60,{"$f":"SUM(AA13:AB25)","v":0}]
[]
["Data akce",null,null,null,null,null,"C - OBRANA",null,null,null,"ZM",null,null,"ZVV1 ",null,null,"ZVV2",null,null,"ZVV3",null,null,"ZPO1",null,null,"ZPO2"]
["Datum:",null,{"$f":"Soupiska!T6","v":"00:00:00"},null,null,null,"Průzkum terénu",null,null,null,10," ",null,10," ",null,10,null,null,10,null,null,10,null,null,20," "]
[null,null,null,null,null,null,"Vyštěkání",null,null,null,10," ",null,10,null,null,10,null,null,10,null,null,10,null,null,20]
["Místo:",null,{"$f":"Soupiska!P5","v":0},null,null,null,"Prohl., výsl., dopr.",null,null,null," X"," X",null,"10/10",null," ","10/10",null," ",10,null," ",10," ",null,20]
[null,null,null,null,null,null,"Ochrana psovoda",null,null,null,"15",null,null," 15/5",null,null," 15/5",null,null,"20/5",null,null,"20/5",null,null,"40/10",null," "]
["Vedoucí zkoušek:",null,{"$f":"Soupiska!D6","v":0},null,null,null,"Hlídání pomocníka 2+1",null,null,null," X"," X",null," X"," X",null," X"," X",null,20,null,null,20,null,null,40,null," "]
[null,null,null,null,null,null,"Samost. činnost psa (zadržení pomocníka)",null,null,null,"15",null,null," 15/5",null," "," 15/5",null," ","20/5",null,null,"20/5",null,null,"40/10",null," "]
["Rozhodčí:",null,{"$f":"Soupiska!P6","v":0},null,null,null,"Odolnost psa",null,null,null,"X","X",null," 15/5",null," "," 15/5",null," ","X","X",null,"X","X",null,"X","X"]
[null,null,null,null,null,null,"Celkem",null,null,null,50,{"$f":"SUM(L29:M35)","v":0},null,100,{"$f":"SUM(O29:P35)","v":0},null,100,{"$f":"SUM(R29:S35)","v":0},null,100,{"$f":"SUM(U29:V35)","v":0},null,100,{"$f":"SUM(X29:Y35)","v":0},null,200,{"$f":"SUM(AA29:AB35)","v":0}]
[" ",null,null,null,null,null,null,null," ",null,null,null,null,null,null," ",null,null," "," ",null," "," ",null," "," ",null," "]
["Výsledek zkoušky",null,null,null,null,null,"D - SPEC .CVIKY",null,null,null,"ZMMP",null,null,"ZMMP1",null,null,"ZMMP2",null,null,"ZMMP3",null,null,"ZPMO",null,null,"ZZO"]
["A   stopa",null,null,{"$f":"J8+L8+O8+R8+U8+X8+AA8","v":0},null,null,"Přivol.psa za ztíž.p.",null,null,null," X"," X",null," X"," X",null," X"," X",null," X"," X",null," X"," X",null,"PV-P-N"," "]
[null,null,null,null,null,null,"Chov.psa ve sk.osob",null,null,null," X"," X",null," X"," X",null," X"," X",null," X"," X",null," X"," X",null,"PV-P-N"," "]
["B  poslušnost",null,null,{"$f":"O26+R26+U26+X26+AA26","v":0},null,null,"Chov.přiváz. psa",null,null,null," X"," X",null," X"," X",null," X"," X",null," X"," X",null," X"," X",null,"PV-P-N"," "]
[null,null,null,null,null,null,"Rozlišování předm.",null,null,null,"10/10",null,null,"15/15",null,null,"15/15",null,null," X"," X",null," X"," X",null," X"," X"]
["C   obrana ",null,null,{"$f":"L36+O36+R36+U36+X36+AA36","v":0},null,null,"Rozlišování osoby",null,null,null," X"," X",null," X"," X",null," X"," X",null," 15/5",null,null," X"," X",null," X"," X"]
[null,null,null,null,null,null,"Vyhledání předm.",null,null,null," 15/5",null,null," 24/6",null," "," 24/6",null,null," 24/6",null," "," X"," X",null," X"," X"]
["D    spec. cviky",null,null,{"$f":"IF(AA51=\" \",L51+O51+R51+U51+X51,AA51)","v":0},null,null,"Ztracený předmět",null,null,null,10,null,null,20," ",null,20,null,null,20,null,null," X"," X",null," X"," X"]
[null,null,null,null,null,null,"Průzk.terénu/vyšť.",null,null,null," X"," X",null,"10/10",null," ","10/10",null,null,"10/10",null,null,"10/10",null,null," X"," X"]
["CELKEM",null,{"$f":"VLOOKUP(A4,TYPY!A$1:D$65536,4,FALSE)","v":{"$error":"#N/A"}},{"$f":"IF(AA51=\" \",D39+D41+D43+D45,D39+D41+D43)","v":0},null,null,"Zajištění figuranta",null,null,null," X"," X",null," X"," X",null," X"," X",null," X"," X",null,10,null,null," X"," X"]
[null,null,null,null,null,null,"Doprovod figuranta",null,null,null," X"," X",null," X"," X",null," X"," X",null," X","X"," X",10,null,null," X"," X"]
["ZNÁMKA",null,null,null,null,null,"Napadení psovoda",null,null,null," X"," X",null," X"," X",null," X"," X",null," X","X"," X",30,null,null," X"," X"]
[{"$f":"IF(D47>0,IFERROR(IF(C47=300,VLOOKUP(D47,TYPY!$B$44:$C$135,2,FALSE),IF(C47=200,VLOOKUP(D47,TYPY!$N$44:$O$105,2,FALSE),IF(C47=150,VLOOKUP(D47,TYPY!$L$44:$M$90,2,FALSE),IF(C47=100,VLOOKUP(D47,TYPY!$F$44:$G$75,2,FALSE),IF(C47=60,IF(D45=\"N\",\"N\",VLOOKUP(D47,TYPY!$J$44:$K$63,2,FALSE)),\"N\"))))),\"N\"),\" \")","v":" "},null,null,null,null,null,"Hlídání  předm.",null,null,null," X"," X",null," X"," X",null," X"," X",null," X","X"," X",30,null,null," X"," X"]
[null,null,null,null,null,null,"Celkem",null,null,null,50,{"$f":"SUM(L42:M45)","v":0},null,100,{"$f":"SUM(P39:P50)","v":0},null,100,{"$f":"SUM(R42:S46)","v":0},null,100,{"$f":"SUM(U43:V46)","v":0},null,100,{"$f":"SUM(X46:Y50)","v":0},null,"PV-P-N"]
[]
[" ",null,null,null,null,null,null,null,null,null," ",null,null,null,null,null," "]
[]
[]
[]
["Razítko organizace",null,null,null,null,null,null,null,null,null,"Podpis ved.  zkoušek",null,null,null,null,null,"Podpis a razítko rozhočího"]

{"sheet":"NZR7","index":36,"n_rows":57,"n_cols":28,"rows_kept":57,"cut":false,"hidden":true,"merged":[[52,0,55,8],[52,10,55,13],[52,16,55,27],[56,0,56,8],[56,10,56,13],[56,16,56,25],[49,23,49,24],[49,26,49,27],[50,6,50,9],[50,11,50,12],[50,14,50,15],[50,17,50,18],[50,20,50,21],[50,23,50,24],[50,26,50,27],[49,0,50,4],[49,6,49,9],[49,11,49,12],[49,14,49,15],[49,17,49,18],[49,20,49,21],[48,0,48,4],[48,6,48,9],[48,11,48,12],[48,14,48,15],[48,17,48,18],[48,20,48,21],[48,23,48,24],[48,26,48,27],[46,0,47,1],[46,2,47,2],[46,3,47,4],[46,17,46,18],[46,20,46,21],[46,23,46,24],[46,26,46,27],[47,6,47,9],[47,11,47,12],[47,14,47,15],[47,17,47,18],[47,20,47,21],[47,23,47,24],[46,6,46,9],[46,11,46,12],[46,14,46,15],[47,26,47,27],[44,17,44,18],[44,20,44,21],[44,23,44,24],[44,26,44,27],[45,6,45,9],[45,11,45,12],[45,26,45,27],[42,23,42,24],[42,26,42,27],[43,6,43,9],[43,23,43,24],[43,26,43,27],[42,17,42,18],[44,0,45,2],[44,3,45,4],[44,6,44,9],[44,11,44,12],[44,14,44,15],[42,0,43,2],[42,3,43,4],[42,6,42,9],[42,11,42,12],[42,14,42,15],[40,20,40,21],[40,23,40,24],[40,26,40,27],[41,6,41,9],[41,20,41,21],[41,23,41,24],[41,26,41,27],[40,0,41,2],[40,3,41,4],[40,6,40,9],[40,11,40,12],[40,14,40,15],[40,17,40,18],[38,26,38,27],[39,6,39,9],[39,11,39,12],[39,14,39,15],[39,17,39,18],[39,20,39,21],[39,23,39,24],[39,26,39,27],[37,22,37,24],[37,25,37,27],[38,0,39,2],[38,3,39,4],[38,6,38,9],[38,11,38,12],[38,14,38,15],[38,17,38,18],[38,20,38,21],[38,23,38,24],[37,0,37,4],[37,6,37,9],[37,10,37,12],[37,13,37,15],[37,16,37,18],[37,19,37,21],[35,11,35,12],[35,14,35,15],[35,17,35,18],[35,20,35,21],[35,23,35,24],[35,26,35,27],[32,23,32,24],[33,6,33,9],[33,11,33,12],[34,0,35,1],[34,2,35,4],[34,6,34,9],[34,11,34,12],[34,20,34,21],[34,23,34,24],[30,26,30,27],[31,6,31,9],[31,11,31,12],[32,0,33,1],[32,2,33,4],[32,6,32,9],[32,11,32,12],[32,14,32,15],[32,17,32,18],[32,20,32,21],[30,0,31,1],[30,2,31,4],[30,6,30,9],[30,11,30,12],[30,20,30,21],[30,23,30,24],[34,26,34,27],[35,6,35,9],[28,26,28,27],[29,6,29,9],[29,11,29,12],[29,14,29,15],[29,17,29,18],[29,20,29,21],[29,23,29,24],[29,26,29,27],[27,22,27,24],[27,25,27,27],[28,0,29,1],[28,2,29,4],[28,6,28,9],[28,11,28,12],[28,14,28,15],[28,17,28,18],[28,20,28,21],[28,23,28,24],[27,0,27,4],[27,6,27,9],[27,10,27,12],[27,13,27,15],[27,16,27,18],[27,19,27,21],[24,23,24,24],[24,26,24,27],[25,0,25,1],[25,2,25,6],[25,8,25,12],[25,14,25,15],[25,17,25,18],[25,20,25,21],[25,23,25,24],[25,26,25,27],[24,0,24,1],[24,2,24,6],[24,8,24,12],[24,14,24,15],[24,17,24,18],[24,20,24,21],[22,23,22,24],[22,26,22,27],[23,8,23,12],[23,14,23,15],[23,17,23,18],[23,20,23,21],[23,23,23,24],[23,26,23,27],[22,0,23,1],[22,2,23,6],[22,8,22,12],[22,14,22,15],[22,17,22,18],[22,20,22,21],[20,23,20,24],[20,26,20,27],[21,0,21,1],[21,2,21,6],[21,8,21,12],[21,14,21,15],[21,17,21,18],[21,20,21,21],[21,23,21,24],[21,26,21,27],[20,0,20,1],[20,2,20,6],[20,8,20,12],[20,14,20,15],[20,17,20,18],[20,20,20,21],[18,26,18,27],[19,0,19,6],[19,8,19,12],[19,14,19,15],[19,17,19,18],[19,20,19,21],[19,23,19,24],[19,26,19,27],[18,2,18,6],[18,8,18,12],[18,14,18,15],[18,17,18,18],[18,20,18,21],[18,23,18,24],[16,26,16,27],[17,2,17,6],[17,8,17,12],[17,14,17,15],[17,17,17,18],[17,20,17,21],[17,23,17,24],[17,26,17,27],[16,2,16,6],[16,8,16,12],[16,14,16,15],[16,17,16,18],[16,20,16,21],[16,23,16,24],[14,26,14,27],[15,2,15,6],[15,8,15,12],[15,14,15,15],[15,17,15,18],[15,20,15,21],[15,23,15,24],[15,26,15,27],[14,2,14,6],[14,8,14,12],[14,14,14,15],[14,17,14,18],[14,20,14,21],[14,23,14,24],[12,23,12,24],[12,26,12,27],[13,0,13,1],[13,8,13,12],[13,14,13,15],[13,17,13,18],[13,20,13,21],[13,23,13,24],[13,26,13,27],[12,0,12,1],[12,2,13,6],[12,8,12,12],[12,14,12,15],[12,17,12,18],[12,20,12,21],[10,13,11,15],[10,16,10,18],[10,19,10,21],[10,22,10,24],[11,16,11,18],[11,19,11,21],[11,22,11,24],[7,26,7,27],[9,0,9,6],[9,8,11,12],[9,13,9,15],[9,16,9,18],[9,19,9,21],[9,22,9,24],[9,25,11,27],[10,0,11,1],[10,2,11,6],[7,4,7,6],[7,11,7,12],[7,14,7,15],[7,17,7,18],[7,20,7,21],[7,23,7,24],[6,20,6,21],[6,23,6,24],[6,26,6,27],[5,4,5,6],[5,11,5,12],[5,14,5,15],[5,17,5,18],[5,20,5,21],[5,23,5,24],[0,7,0,27],[1,8,1,27],[2,0,2,2],[2,8,2,27],[3,0,6,2],[3,4,4,6],[3,8,3,9],[3,10,3,12],[3,13,4,15],[3,16,3,18],[3,19,3,21],[3,22,3,24],[3,25,3,27],[4,8,4,9],[4,10,4,12],[4,16,4,18],[4,19,4,21],[4,22,4,24],[4,25,4,27],[5,26,5,27],[6,4,6,6],[6,11,6,12],[6,14,6,15],[6,17,6,18]]}
[null,null,null,null,null,null,null,"  MORAVSKOSLEZSKÝ KYNOLOGICKÝ SVAZ, z. s."]
[null,null,null,null,null,null,null," ","Člen FCI prostřednictvím Českomoravské kynologické unie"]
["Druh a stupeň",null,null,null,null,null,null," ","POTVRZENÍ O VYKONANÉ ZKOUŠCE NZŘ"]
[{"$f":"IF(Soupiska!W30=\"N\",Soupiska!B30,\"NE\")","v":"NE"},null,null,null,"A - STOPA",null,null,null,"ZM",null,"ZVV1",null,null,"ZPS1",null,null,"ZVV2",null,null,"ZVV3",null,null,"ZPS2",null,null,"ZPS2"]
[null,null,null,null,null,null,null,null,"ZMMP",null,"ZMP1",null,null,null,null,null,"ZMP2",null,null,"ZMP3",null,null,"A",null,null,"B"]
[null,null,null,null,"Vlastní - cizí",null,null,null,40,null,80,null,null,80,null,null,"80",null,null,80,null,null,80,null,null,80]
[null,null,null,null,"Předměty",null,null,null,10,null,20," ",null,20,null,null,20," ",null,20,null,null,20,null,null,20]
[null,null,null,null,"Celkem",null,null,null,50,{"$f":"SUM(J6:J7)","v":0},100,{"$f":"SUM(L6:M7)","v":0},null,100,{"$f":"SUM(O6:O7)","v":0},null,100,{"$f":"SUM(R6:S7)","v":0},null,100,{"$f":"SUM(U6:V7)","v":0},null,100,{"$f":"SUM(X6:Y7)","v":0},null,100,{"$f":"SUM(AA6:AB7)","v":0}]
[]
["Data psa-feny",null,null,null,null,null,null,null,"B - POSLUŠNOST",null,null,null,null,"ZM",null,null,"ZVV1,ZMP1",null,null,"ZVV2",null,null,"ZVV3,ZMP3",null,null,"ZZO"]
["Jméno:",null,{"$f":"Soupiska!C30","v":0},null,null,null,null,null,null,null,null,null,null,"ZMMP",null,null,"ZPS1,ZPO1",null,null,"ZMP2",null,null,"ZPS2,ZPO2"]
[null,null,null,null,null,null,null,null,null,null,null,null,null,null,null,null,"ZMPO,ZZO1",null,null,"ZZO2",null,null,"ZZO3"]
["Chovná",null,{"$f":"Soupiska!E30","v":0},null,null,null,null,null,"Přivolání psa",null,null,null,null,10,null,null,10," ",null,10," ",null,10," ",null,10]
["stanice:",null,null,null,null,null,null,null,"Ovladatelnost na vod.",null,null,null,null,10,"  ",null,10," ",null," X"," X",null," X"," X",null,10]
["Plemeno:",null,{"$f":"Soupiska!I30","v":0},null,null,null,null,null,"Ovladatelnost bez vod.",null,null,null,null," X"," X",null," X"," X",null,10," ",null,10,null,null," X"," X"]
["Pohlaví:",null,{"$f":"Soupiska!K30","v":0},null,null,null,null,null,"Polohy (S - L - V)",null,null,null,null,10,"  ",null,10," ",null,10,null," ","10"," ",null,10]
["Narozen",null,{"$f":"Soupiska!L30","v":"00:00:00"},null,null,null,null,null,"Odložení za pochodu",null,null,null,null," X"," X",null,10,null,null,10,null," ",10,null,null,10]
["Č.záp.:",null,{"$f":"Soupiska!N30","v":0},null,null,null,null,null,"Štěkání psa",null,null,null,null," X"," X",null,10," ",null,10,null," ",10," ",null," X"," X"]
["T.č./čip:",null,{"$f":"Soupiska!P30","v":0},null,null,null,null,null,"Aport volný",null,null,null,null,10," ",null,10," ",null,"X",null," X"," X"," X",null,10]
["Data psovoda",null,null,null,null,null,null,null,"Skok vysoký  (aport)",null,null,null,null," X"," X",null,10," ",null,10,null," "," X"," X",null," X"," X"]
["Jméno:",null,{"$f":"Soupiska!C31","v":0},null,null,null,null,null,"Skok šplhem  (aport)",null,null,null,null," X"," X",null,10," ",null," X","X",null,10," ",null," X"," X"]
["Příjmení:",null,{"$f":"Soupiska!E31","v":0},null,null,null,null,null,"Plížení",null,null,null,null," X"," X",null," X"," X",null,10,null," ",10," ",null," X"," X"]
["Bydliště:",null,{"$f":"Soupiska!I31","v":0},null,null,null,null,null,"Kladina (nízká/vysoká)",null,null,null,null," X"," X",null,10," ",null,10,null," ",10," ",null," X"," X"]
[null,null,null,null,null,null,null,null,"Vysílání",null,null,null,null," X"," X",null," X"," X",null,10,null,"  ",10,null,null," X"," X"]
["Narozen:",null,{"$f":"DATE(IF(MID(Soupiska!C32,1,2)*1 > YEAR(TODAY())-2000, 1900, 2000) + MID(Soupiska!C32,1,2), MOD(MID(Soupiska!C32,3,2),50), MID(Soupiska!C32,5,2))","v":{"$error":"#VALUE!"}},null,null,null,null,null,"Odložení psa",null,null,null,null,10," ",null,10," ",null,10,null," ",10," ",null,10]
["Člen ZO:",null,{"$f":"Soupiska!I32","v":0},null,null,null,null,null,"Celkem",null,null,null,null,50,{"$f":"SUM(O13:P25)","v":0},null,100,{"$f":"SUM(R13:S25)","v":0},null,100,{"$f":"SUM(U13:V25)","v":0},null,100,{"$f":"SUM(X13:Y25)","v":0},null,60,{"$f":"SUM(AA13:AB25)","v":0}]
[]
["Data akce",null,null,null,null,null,"C - OBRANA",null,null,null,"ZM",null,null,"ZVV1 ",null,null,"ZVV2",null,null,"ZVV3",null,null,"ZPO1",null,null,"ZPO2"]
["Datum:",null,{"$f":"Soupiska!T6","v":"00:00:00"},null,null,null,"Průzkum terénu",null,null,null,10," ",null,10," ",null,10,null,null,10,null,null,10,null,null,20," "]
[null,null,null,null,null,null,"Vyštěkání",null,null,null,10," ",null,10,null,null,10,null,null,10,null,null,10,null,null,20]
["Místo:",null,{"$f":"Soupiska!P5","v":0},null,null,null,"Prohl., výsl., dopr.",null,null,null," X"," X",null,"10/10",null," ","10/10",null," ",10,null," ",10," ",null,20]
[null,null,null,null,null,null,"Ochrana psovoda",null,null,null,"15",null,null," 15/5",null,null," 15/5",null,null,"20/5",null,null,"20/5",null,null,"40/10",null," "]
["Vedoucí zkoušek:",null,{"$f":"Soupiska!D6","v":0},null,null,null,"Hlídání pomocníka 2+1",null,null,null," X"," X",null," X"," X",null," X"," X",null,20,null,null,20,null,null,40,null," "]
[null,null,null,null,null,null,"Samost. činnost psa (zadržení pomocníka)",null,null,null,"15",null,null," 15/5",null," "," 15/5",null," ","20/5",null,null,"20/5",null,null,"40/10",null," "]
["Rozhodčí:",null,{"$f":"Soupiska!P6","v":0},null,null,null,"Odolnost psa",null,null,null,"X","X",null," 15/5",null," "," 15/5",null," ","X","X",null,"X","X",null,"X","X"]
[null,null,null,null,null,null,"Celkem",null,null,null,50,{"$f":"SUM(L29:M35)","v":0},null,100,{"$f":"SUM(O29:P35)","v":0},null,100,{"$f":"SUM(R29:S35)","v":0},null,100,{"$f":"SUM(U29:V35)","v":0},null,100,{"$f":"SUM(X29:Y35)","v":0},null,200,{"$f":"SUM(AA29:AB35)","v":0}]
[" ",null,null,null,null,null,null,null," ",null,null,null,null,null,null," ",null,null," "," ",null," "," ",null," "," ",null," "]
["Výsledek zkoušky",null,null,null,null,null,"D - SPEC .CVIKY",null,null,null,"ZMMP",null,null,"ZMMP1",null,null,"ZMMP2",null,null,"ZMMP3",null,null,"ZPMO",null,null,"ZZO"]
["A   stopa",null,null,{"$f":"J8+L8+O8+R8+U8+X8+AA8","v":0},null,null,"Přivol.psa za ztíž.p.",null,null,null," X"," X",null," X"," X",null," X"," X",null," X"," X",null," X"," X",null,"PV-P-N"," "]
[null,null,null,null,null,null,"Chov.psa ve sk.osob",null,null,null," X"," X",null," X"," X",null," X"," X",null," X"," X",null," X"," X",null,"PV-P-N"," "]
["B  poslušnost",null,null,{"$f":"O26+R26+U26+X26+AA26","v":0},null,null,"Chov.přiváz. psa",null,null,null," X"," X",null," X"," X",null," X"," X",null," X"," X",null," X"," X",null,"PV-P-N"," "]
[null,null,null,null,null,null,"Rozlišování předm.",null,null,null,"10/10",null,null,"15/15",null,null,"15/15",null,null," X"," X",null," X"," X",null," X"," X"]
["C   obrana ",null,null,{"$f":"L36+O36+R36+U36+X36+AA36","v":0},null,null,"Rozlišování osoby",null,null,null," X"," X",null," X"," X",null," X"," X",null," 15/5",null,null," X"," X",null," X"," X"]
[null,null,null,null,null,null,"Vyhledání předm.",null,null,null," 15/5",null,null," 24/6",null," "," 24/6",null,null," 24/6",null," "," X"," X",null," X"," X"]
["D    spec. cviky",null,null,{"$f":"IF(AA51=\" \",L51+O51+R51+U51+X51,AA51)","v":0},null,null,"Ztracený předmět",null,null,null,10,null,null,20," ",null,20,null,null,20,null,null," X"," X",null," X"," X"]
[null,null,null,null,null,null,"Průzk.terénu/vyšť.",null,null,null," X"," X",null,"10/10",null," ","10/10",null,null,"10/10",null,null,"10/10",null,null," X"," X"]
["CELKEM",null,{"$f":"VLOOKUP(A4,TYPY!A$1:D$65536,4,FALSE)","v":{"$error":"#N/A"}},{"$f":"IF(AA51=\" \",D39+D41+D43+D45,D39+D41+D43)","v":0},null,null,"Zajištění figuranta",null,null,null," X"," X",null," X"," X",null," X"," X",null," X"," X",null,10,null,null," X"," X"]
[null,null,null,null,null,null,"Doprovod figuranta",null,null,null," X"," X",null," X"," X",null," X"," X",null," X","X"," X",10,null,null," X"," X"]
["ZNÁMKA",null,null,null,null,null,"Napadení psovoda",null,null,null," X"," X",null," X"," X",null," X"," X",null," X","X"," X",30,null,null," X"," X"]
[{"$f":"IF(D47>0,IFERROR(IF(C47=300,VLOOKUP(D47,TYPY!$B$44:$C$135,2,FALSE),IF(C47=200,VLOOKUP(D47,TYPY!$N$44:$O$105,2,FALSE),IF(C47=150,VLOOKUP(D47,TYPY!$L$44:$M$90,2,FALSE),IF(C47=100,VLOOKUP(D47,TYPY!$F$44:$G$75,2,FALSE),IF(C47=60,IF(D45=\"N\",\"N\",VLOOKUP(D47,TYPY!$J$44:$K$63,2,FALSE)),\"N\"))))),\"N\"),\" \")","v":" "},null,null,null,null,null,"Hlídání  předm.",null,null,null," X"," X",null," X"," X",null," X"," X",null," X","X"," X",30,null,null," X"," X"]
[null,null,null,null,null,null,"Celkem",null,null,null,50,{"$f":"SUM(L42:M45)","v":0},null,100,{"$f":"SUM(P39:P50)","v":0},null,100,{"$f":"SUM(R42:S46)","v":0},null,100,{"$f":"SUM(U43:V46)","v":0},null,100,{"$f":"SUM(X46:Y50)","v":0},null,"PV-P-N"]
[]
[" ",null,null,null,null,null,null,null,null,null," ",null,null,null,null,null," "]
[]
[]
[]
["Razítko organizace",null,null,null,null,null,null,null,null,null,"Podpis ved.  zkoušek",null,null,null,null,null,"Podpis a razítko rozhočího"]

{"sheet":"NZR8","index":37,"n_rows":57,"n_cols":28,"rows_kept":57,"cut":false,"hidden":true,"merged":[[52,0,55,8],[52,10,55,13],[52,16,55,27],[56,0,56,8],[56,10,56,13],[56,16,56,25],[49,23,49,24],[49,26,49,27],[50,6,50,9],[50,11,50,12],[50,14,50,15],[50,17,50,18],[50,20,50,21],[50,23,50,24],[50,26,50,27],[49,0,50,4],[49,6,49,9],[49,11,49,12],[49,14,49,15],[49,17,49,18],[49,20,49,21],[48,0,48,4],[48,6,48,9],[48,11,48,12],[48,14,48,15],[48,17,48,18],[48,20,48,21],[48,23,48,24],[48,26,48,27],[46,0,47,1],[46,2,47,2],[46,3,47,4],[46,17,46,18],[46,20,46,21],[46,23,46,24],[46,26,46,27],[47,6,47,9],[47,11,47,12],[47,14,47,15],[47,17,47,18],[47,20,47,21],[47,23,47,24],[46,6,46,9],[46,11,46,12],[46,14,46,15],[47,26,47,27],[44,17,44,18],[44,20,44,21],[44,23,44,24],[44,26,44,27],[45,6,45,9],[45,11,45,12],[45,26,45,27],[42,23,42,24],[42,26,42,27],[43,6,43,9],[43,23,43,24],[43,26,43,27],[42,17,42,18],[44,0,45,2],[44,3,45,4],[44,6,44,9],[44,11,44,12],[44,14,44,15],[42,0,43,2],[42,3,43,4],[42,6,42,9],[42,11,42,12],[42,14,42,15],[40,20,40,21],[40,23,40,24],[40,26,40,27],[41,6,41,9],[41,20,41,21],[41,23,41,24],[41,26,41,27],[40,0,41,2],[40,3,41,4],[40,6,40,9],[40,11,40,12],[40,14,40,15],[40,17,40,18],[38,26,38,27],[39,6,39,9],[39,11,39,12],[39,14,39,15],[39,17,39,18],[39,20,39,21],[39,23,39,24],[39,26,39,27],[37,22,37,24],[37,25,37,27],[38,0,39,2],[38,3,39,4],[38,6,38,9],[38,11,38,12],[38,14,38,15],[38,17,38,18],[38,20,38,21],[38,23,38,24],[37,0,37,4],[37,6,37,9],[37,10,37,12],[37,13,37,15],[37,16,37,18],[37,19,37,21],[35,11,35,12],[35,14,35,15],[35,17,35,18],[35,20,35,21],[35,23,35,24],[35,26,35,27],[32,23,32,24],[33,6,33,9],[33,11,33,12],[34,0,35,1],[34,2,35,4],[34,6,34,9],[34,11,34,12],[34,20,34,21],[34,23,34,24],[30,26,30,27],[31,6,31,9],[31,11,31,12],[32,0,33,1],[32,2,33,4],[32,6,32,9],[32,11,32,12],[32,14,32,15],[32,17,32,18],[32,20,32,21],[30,0,31,1],[30,2,31,4],[30,6,30,9],[30,11,30,12],[30,20,30,21],[30,23,30,24],[34,26,34,27],[35,6,35,9],[28,26,28,27],[29,6,29,9],[29,11,29,12],[29,14,29,15],[29,17,29,18],[29,20,29,21],[29,23,29,24],[29,26,29,27],[27,22,27,24],[27,25,27,27],[28,0,29,1],[28,2,29,4],[28,6,28,9],[28,11,28,12],[28,14,28,15],[28,17,28,18],[28,20,28,21],[28,23,28,24],[27,0,27,4],[27,6,27,9],[27,10,27,12],[27,13,27,15],[27,16,27,18],[27,19,27,21],[24,23,24,24],[24,26,24,27],[25,0,25,1],[25,2,25,6],[25,8,25,12],[25,14,25,15],[25,17,25,18],[25,20,25,21],[25,23,25,24],[25,26,25,27],[24,0,24,1],[24,2,24,6],[24,8,24,12],[24,14,24,15],[24,17,24,18],[24,20,24,21],[22,23,22,24],[22,26,22,27],[23,8,23,12],[23,14,23,15],[23,17,23,18],[23,20,23,21],[23,23,23,24],[23,26,23,27],[22,0,23,1],[22,2,23,6],[22,8,22,12],[22,14,22,15],[22,17,22,18],[22,20,22,21],[20,23,20,24],[20,26,20,27],[21,0,21,1],[21,2,21,6],[21,8,21,12],[21,14,21,15],[21,17,21,18],[21,20,21,21],[21,23,21,24],[21,26,21,27],[20,0,20,1],[20,2,20,6],[20,8,20,12],[20,14,20,15],[20,17,20,18],[20,20,20,21],[18,26,18,27],[19,0,19,6],[19,8,19,12],[19,14,19,15],[19,17,19,18],[19,20,19,21],[19,23,19,24],[19,26,19,27],[18,2,18,6],[18,8,18,12],[18,14,18,15],[18,17,18,18],[18,20,18,21],[18,23,18,24],[16,26,16,27],[17,2,17,6],[17,8,17,12],[17,14,17,15],[17,17,17,18],[17,20,17,21],[17,23,17,24],[17,26,17,27],[16,2,16,6],[16,8,16,12],[16,14,16,15],[16,17,16,18],[16,20,16,21],[16,23,16,24],[14,26,14,27],[15,2,15,6],[15,8,15,12],[15,14,15,15],[15,17,15,18],[15,20,15,21],[15,23,15,24],[15,26,15,27],[14,2,14,6],[14,8,14,12],[14,14,14,15],[14,17,14,18],[14,20,14,21],[14,23,14,24],[12,23,12,24],[12,26,12,27],[13,0,13,1],[13,8,13,12],[13,14,13,15],[13,17,13,18],[13,20,13,21],[13,23,13,24],[13,26,13,27],[12,0,12,1],[12,2,13,6],[12,8,12,12],[12,14,12,15],[12,17,12,18],[12,20,12,21],[10,13,11,15],[10,16,10,18],[10,19,10,21],[10,22,10,24],[11,16,11,18],[11,19,11,21],[11,22,11,24],[7,26,7,27],[9,0,9,6],[9,8,11,12],[9,13,9,15],[9,16,9,18],[9,19,9,21],[9,22,9,24],[9,25,11,27],[10,0,11,1],[10,2,11,6],[7,4,7,6],[7,11,7,12],[7,14,7,15],[7,17,7,18],[7,20,7,21],[7,23,7,24],[6,20,6,21],[6,23,6,24],[6,26,6,27],[5,4,5,6],[5,11,5,12],[5,14,5,15],[5,17,5,18],[5,20,5,21],[5,23,5,24],[0,7,0,27],[1,8,1,27],[2,0,2,2],[2,8,2,27],[3,0,6,2],[3,4,4,6],[3,8,3,9],[3,10,3,12],[3,13,4,15],[3,16,3,18],[3,19,3,21],[3,22,3,24],[3,25,3,27],[4,8,4,9],[4,10,4,12],[4,16,4,18],[4,19,4,21],[4,22,4,24],[4,25,4,27],[5,26,5,27],[6,4,6,6],[6,11,6,12],[6,14,6,15],[6,17,6,18]]}
[null,null,null,null,null,null,null,"  MORAVSKOSLEZSKÝ KYNOLOGICKÝ SVAZ, z. s."]
[null,null,null,null,null,null,null," ","Člen FCI prostřednictvím Českomoravské kynologické unie"]
["Druh a stupeň",null,null,null,null,null,null," ","POTVRZENÍ O VYKONANÉ ZKOUŠCE NZŘ"]
[{"$f":"IF(Soupiska!W33=\"N\",Soupiska!B33,\"NE\")","v":"NE"},null,null,null,"A - STOPA",null,null,null,"ZM",null,"ZVV1",null,null,"ZPS1",null,null,"ZVV2",null,null,"ZVV3",null,null,"ZPS2",null,null,"ZPS2"]
[null,null,null,null,null,null,null,null,"ZMMP",null,"ZMP1",null,null,null,null,null,"ZMP2",null,null,"ZMP3",null,null,"A",null,null,"B"]
[null,null,null,null,"Vlastní - cizí",null,null,null,40,null,80,null,null,80,null,null,"80",null,null,80,null,null,80,null,null,80]
[null,null,null,null,"Předměty",null,null,null,10,null,20," ",null,20,null,null,20," ",null,20,null,null,20,null,null,20]
[null,null,null,null,"Celkem",null,null,null,50,{"$f":"SUM(J6:J7)","v":0},100,{"$f":"SUM(L6:M7)","v":0},null,100,{"$f":"SUM(O6:O7)","v":0},null,100,{"$f":"SUM(R6:S7)","v":0},null,100,{"$f":"SUM(U6:V7)","v":0},null,100,{"$f":"SUM(X6:Y7)","v":0},null,100,{"$f":"SUM(AA6:AB7)","v":0}]
[]
["Data psa-feny",null,null,null,null,null,null,null,"B - POSLUŠNOST",null,null,null,null,"ZM",null,null,"ZVV1,ZMP1",null,null,"ZVV2",null,null,"ZVV3,ZMP3",null,null,"ZZO"]
["Jméno:",null,{"$f":"Soupiska!C33","v":0},null,null,null,null,null,null,null,null,null,null,"ZMMP",null,null,"ZPS1,ZPO1",null,null,"ZMP2",null,null,"ZPS2,ZPO2"]
[null,null,null,null,null,null,null,null,null,null,null,null,null,null,null,null,"ZMPO,ZZO1",null,null,"ZZO2",null,null,"ZZO3"]
["Chovná",null,{"$f":"Soupiska!E33","v":0},null,null,null,null,null,"Přivolání psa",null,null,null,null,10,null,null,10," ",null,10," ",null,10," ",null,10]
["stanice:",null,null,null,null,null,null,null,"Ovladatelnost na vod.",null,null,null,null,10,"  ",null,10," ",null," X"," X",null," X"," X",null,10]
["Plemeno:",null,{"$f":"Soupiska!I33","v":0},null,null,null,null,null,"Ovladatelnost bez vod.",null,null,null,null," X"," X",null," X"," X",null,10," ",null,10,null,null," X"," X"]
["Pohlaví:",null,{"$f":"Soupiska!K33","v":0},null,null,null,null,null,"Polohy (S - L - V)",null,null,null,null,10,"  ",null,10," ",null,10,null," ","10"," ",null,10]
["Narozen",null,{"$f":"Soupiska!L33","v":"00:00:00"},null,null,null,null,null,"Odložení za pochodu",null,null,null,null," X"," X",null,10,null,null,10,null," ",10,null,null,10]
["Č.záp.:",null,{"$f":"Soupiska!N33","v":0},null,null,null,null,null,"Štěkání psa",null,null,null,null," X"," X",null,10," ",null,10,null," ",10," ",null," X"," X"]
["T.č./čip:",null,{"$f":"Soupiska!P33","v":0},null,null,null,null,null,"Aport volný",null,null,null,null,10," ",null,10," ",null,"X",null," X"," X"," X",null,10]
["Data psovoda",null,null,null,null,null,null,null,"Skok vysoký  (aport)",null,null,null,null," X"," X",null,10," ",null,10,null," "," X"," X",null," X"," X"]
["Jméno:",null,{"$f":"Soupiska!C34","v":0},null,null,null,null,null,"Skok šplhem  (aport)",null,null,null,null," X"," X",null,10," ",null," X","X",null,10," ",null," X"," X"]
["Příjmení:",null,{"$f":"Soupiska!E34","v":0},null,null,null,null,null,"Plížení",null,null,null,null," X"," X",null," X"," X",null,10,null," ",10," ",null," X"," X"]
["Bydliště:",null,{"$f":"Soupiska!I34","v":0},null,null,null,null,null,"Kladina (nízká/vysoká)",null,null,null,null," X"," X",null,10," ",null,10,null," ",10," ",null," X"," X"]
[null,null,null,null,null,null,null,null,"Vysílání",null,null,null,null," X"," X",null," X"," X",null,10,null,"  ",10,null,null," X"," X"]
["Narozen:",null,{"$f":"DATE(IF(MID(Soupiska!C35,1,2)*1 > YEAR(TODAY())-2000, 1900, 2000) + MID(Soupiska!C35,1,2), MOD(MID(Soupiska!C35,3,2),50), MID(Soupiska!C35,5,2))","v":{"$error":"#VALUE!"}},null,null,null,null,null,"Odložení psa",null,null,null,null,10," ",null,10," ",null,10,null," ",10," ",null,10]
["Člen ZO:",null,{"$f":"Soupiska!I35","v":0},null,null,null,null,null,"Celkem",null,null,null,null,50,{"$f":"SUM(O13:P25)","v":0},null,100,{"$f":"SUM(R13:S25)","v":0},null,100,{"$f":"SUM(U13:V25)","v":0},null,100,{"$f":"SUM(X13:Y25)","v":0},null,60,{"$f":"SUM(AA13:AB25)","v":0}]
[]
["Data akce",null,null,null,null,null,"C - OBRANA",null,null,null,"ZM",null,null,"ZVV1 ",null,null,"ZVV2",null,null,"ZVV3",null,null,"ZPO1",null,null,"ZPO2"]
["Datum:",null,{"$f":"Soupiska!T6","v":"00:00:00"},null,null,null,"Průzkum terénu",null,null,null,10," ",null,10," ",null,10,null,null,10,null,null,10,null,null,20," "]
[null,null,null,null,null,null,"Vyštěkání",null,null,null,10," ",null,10,null,null,10,null,null,10,null,null,10,null,null,20]
["Místo:",null,{"$f":"Soupiska!P5","v":0},null,null,null,"Prohl., výsl., dopr.",null,null,null," X"," X",null,"10/10",null," ","10/10",null," ",10,null," ",10," ",null,20]
[null,null,null,null,null,null,"Ochrana psovoda",null,null,null,"15",null,null," 15/5",null,null," 15/5",null,null,"20/5",null,null,"20/5",null,null,"40/10",null," "]
["Vedoucí zkoušek:",null,{"$f":"Soupiska!D6","v":0},null,null,null,"Hlídání pomocníka 2+1",null,null,null," X"," X",null," X"," X",null," X"," X",null,20,null,null,20,null,null,40,null," "]
[null,null,null,null,null,null,"Samost. činnost psa (zadržení pomocníka)",null,null,null,"15",null,null," 15/5",null," "," 15/5",null," ","20/5",null,null,"20/5",null,null,"40/10",null," "]
["Rozhodčí:",null,{"$f":"Soupiska!P6","v":0},null,null,null,"Odolnost psa",null,null,null,"X","X",null," 15/5",null," "," 15/5",null," ","X","X",null,"X","X",null,"X","X"]
[null,null,null,null,null,null,"Celkem",null,null,null,50,{"$f":"SUM(L29:M35)","v":0},null,100,{"$f":"SUM(O29:P35)","v":0},null,100,{"$f":"SUM(R29:S35)","v":0},null,100,{"$f":"SUM(U29:V35)","v":0},null,100,{"$f":"SUM(X29:Y35)","v":0},null,200,{"$f":"SUM(AA29:AB35)","v":0}]
[" ",null,null,null,null,null,null,null," ",null,null,null,null,null,null," ",null,null," "," ",null," "," ",null," "," ",null," "]
["Výsledek zkoušky",null,null,null,null,null,"D - SPEC .CVIKY",null,null,null,"ZMMP",null,null,"ZMMP1",null,null,"ZMMP2",null,null,"ZMMP3",null,null,"ZPMO",null,null,"ZZO"]
["A   stopa",null,null,{"$f":"J8+L8+O8+R8+U8+X8+AA8","v":0},null,null,"Přivol.psa za ztíž.p.",null,null,null," X"," X",null," X"," X",null," X"," X",null," X"," X",null," X"," X",null,"PV-P-N"," "]
[null,null,null,null,null,null,"Chov.psa ve sk.osob",null,null,null," X"," X",null," X"," X",null," X"," X",null," X"," X",null," X"," X",null,"PV-P-N"," "]
["B  poslušnost",null,null,{"$f":"O26+R26+U26+X26+AA26","v":0},null,null,"Chov.přiváz. psa",null,null,null," X"," X",null," X"," X",null," X"," X",null," X"," X",null," X"," X",null,"PV-P-N"," "]
[null,null,null,null,null,null,"Rozlišování předm.",null,null,null,"10/10",null,null,"15/15",null,null,"15/15",null,null," X"," X",null," X"," X",null," X"," X"]
["C   obrana ",null,null,{"$f":"L36+O36+R36+U36+X36+AA36","v":0},null,null,"Rozlišování osoby",null,null,null," X"," X",null," X"," X",null," X"," X",null," 15/5",null,null," X"," X",null," X"," X"]
[null,null,null,null,null,null,"Vyhledání předm.",null,null,null," 15/5",null,null," 24/6",null," "," 24/6",null,null," 24/6",null," "," X"," X",null," X"," X"]
["D    spec. cviky",null,null,{"$f":"IF(AA51=\" \",L51+O51+R51+U51+X51,AA51)","v":0},null,null,"Ztracený předmět",null,null,null,10,null,null,20," ",null,20,null,null,20,null,null," X"," X",null," X"," X"]
[null,null,null,null,null,null,"Průzk.terénu/vyšť.",null,null,null," X"," X",null,"10/10",null," ","10/10",null,null,"10/10",null,null,"10/10",null,null," X"," X"]
["CELKEM",null,{"$f":"VLOOKUP(A4,TYPY!A$1:D$65536,4,FALSE)","v":{"$error":"#N/A"}},{"$f":"IF(AA51=\" \",D39+D41+D43+D45,D39+D41+D43)","v":0},null,null,"Zajištění figuranta",null,null,null," X"," X",null," X"," X",null," X"," X",null," X"," X",null,10,null,null," X"," X"]
[null,null,null,null,null,null,"Doprovod figuranta",null,null,null," X"," X",null," X"," X",null," X"," X",null," X","X"," X",10,null,null," X"," X"]
["ZNÁMKA",null,null,null,null,null,"Napadení psovoda",null,null,null," X"," X",null," X"," X",null," X"," X",null," X","X"," X",30,null,null," X"," X"]
[{"$f":"IF(D47>0,IFERROR(IF(C47=300,VLOOKUP(D47,TYPY!$B$44:$C$135,2,FALSE),IF(C47=200,VLOOKUP(D47,TYPY!$N$44:$O$105,2,FALSE),IF(C47=150,VLOOKUP(D47,TYPY!$L$44:$M$90,2,FALSE),IF(C47=100,VLOOKUP(D47,TYPY!$F$44:$G$75,2,FALSE),IF(C47=60,IF(D45=\"N\",\"N\",VLOOKUP(D47,TYPY!$J$44:$K$63,2,FALSE)),\"N\"))))),\"N\"),\" \")","v":" "},null,null,null,null,null,"Hlídání  předm.",null,null,null," X"," X",null," X"," X",null," X"," X",null," X","X"," X",30,null,null," X"," X"]
[null,null,null,null,null,null,"Celkem",null,null,null,50,{"$f":"SUM(L42:M45)","v":0},null,100,{"$f":"SUM(P39:P50)","v":0},null,100,{"$f":"SUM(R42:S46)","v":0},null,100,{"$f":"SUM(U43:V46)","v":0},null,100,{"$f":"SUM(X46:Y50)","v":0},null,"PV-P-N"]
[]
[" ",null,null,null,null,null,null,null,null,null," ",null,null,null,null,null," "]
[]
[]
[]
["Razítko organizace",null,null,null,null,null,null,null,null,null,"Podpis ved.  zkoušek",null,null,null,null,null,"Podpis a razítko rozhočího"]

{"sheet":"NZR9","index":38,"n_rows":57,"n_cols":28,"rows_kept":57,"cut":false,"hidden":true,"merged":[[52,0,55,8],[52,10,55,13],[52,16,55,27],[56,0,56,8],[56,10,56,13],[56,16,56,25],[49,23,49,24],[49,26,49,27],[50,6,50,9],[50,11,50,12],[50,14,50,15],[50,17,50,18],[50,20,50,21],[50,23,50,24],[50,26,50,27],[49,0,50,4],[49,6,49,9],[49,11,49,12],[49,14,49,15],[49,17,49,18],[49,20,49,21],[48,0,48,4],[48,6,48,9],[48,11,48,12],[48,14,48,15],[48,17,48,18],[48,20,48,21],[48,23,48,24],[48,26,48,27],[46,0,47,1],[46,2,47,2],[46,3,47,4],[46,17,46,18],[46,20,46,21],[46,23,46,24],[46,26,46,27],[47,6,47,9],[47,11,47,12],[47,14,47,15],[47,17,47,18],[47,20,47,21],[47,23,47,24],[46,6,46,9],[46,11,46,12],[46,14,46,15],[47,26,47,27],[44,17,44,18],[44,20,44,21],[44,23,44,24],[44,26,44,27],[45,6,45,9],[45,11,45,12],[45,26,45,27],[42,23,42,24],[42,26,42,27],[43,6,43,9],[43,23,43,24],[43,26,43,27],[42,17,42,18],[44,0,45,2],[44,3,45,4],[44,6,44,9],[44,11,44,12],[44,14,44,15],[42,0,43,2],[42,3,43,4],[42,6,42,9],[42,11,42,12],[42,14,42,15],[40,20,40,21],[40,23,40,24],[40,26,40,27],[41,6,41,9],[41,20,41,21],[41,23,41,24],[41,26,41,27],[40,0,41,2],[40,3,41,4],[40,6,40,9],[40,11,40,12],[40,14,40,15],[40,17,40,18],[38,26,38,27],[39,6,39,9],[39,11,39,12],[39,14,39,15],[39,17,39,18],[39,20,39,21],[39,23,39,24],[39,26,39,27],[37,22,37,24],[37,25,37,27],[38,0,39,2],[38,3,39,4],[38,6,38,9],[38,11,38,12],[38,14,38,15],[38,17,38,18],[38,20,38,21],[38,23,38,24],[37,0,37,4],[37,6,37,9],[37,10,37,12],[37,13,37,15],[37,16,37,18],[37,19,37,21],[35,11,35,12],[35,14,35,15],[35,17,35,18],[35,20,35,21],[35,23,35,24],[35,26,35,27],[32,23,32,24],[33,6,33,9],[33,11,33,12],[34,0,35,1],[34,2,35,4],[34,6,34,9],[34,11,34,12],[34,20,34,21],[34,23,34,24],[30,26,30,27],[31,6,31,9],[31,11,31,12],[32,0,33,1],[32,2,33,4],[32,6,32,9],[32,11,32,12],[32,14,32,15],[32,17,32,18],[32,20,32,21],[30,0,31,1],[30,2,31,4],[30,6,30,9],[30,11,30,12],[30,20,30,21],[30,23,30,24],[34,26,34,27],[35,6,35,9],[28,26,28,27],[29,6,29,9],[29,11,29,12],[29,14,29,15],[29,17,29,18],[29,20,29,21],[29,23,29,24],[29,26,29,27],[27,22,27,24],[27,25,27,27],[28,0,29,1],[28,2,29,4],[28,6,28,9],[28,11,28,12],[28,14,28,15],[28,17,28,18],[28,20,28,21],[28,23,28,24],[27,0,27,4],[27,6,27,9],[27,10,27,12],[27,13,27,15],[27,16,27,18],[27,19,27,21],[24,23,24,24],[24,26,24,27],[25,0,25,1],[25,2,25,6],[25,8,25,12],[25,14,25,15],[25,17,25,18],[25,20,25,21],[25,23,25,24],[25,26,25,27],[24,0,24,1],[24,2,24,6],[24,8,24,12],[24,14,24,15],[24,17,24,18],[24,20,24,21],[22,23,22,24],[22,26,22,27],[23,8,23,12],[23,14,23,15],[23,17,23,18],[23,20,23,21],[23,23,23,24],[23,26,23,27],[22,0,23,1],[22,2,23,6],[22,8,22,12],[22,14,22,15],[22,17,22,18],[22,20,22,21],[20,23,20,24],[20,26,20,27],[21,0,21,1],[21,2,21,6],[21,8,21,12],[21,14,21,15],[21,17,21,18],[21,20,21,21],[21,23,21,24],[21,26,21,27],[20,0,20,1],[20,2,20,6],[20,8,20,12],[20,14,20,15],[20,17,20,18],[20,20,20,21],[18,26,18,27],[19,0,19,6],[19,8,19,12],[19,14,19,15],[19,17,19,18],[19,20,19,21],[19,23,19,24],[19,26,19,27],[18,2,18,6],[18,8,18,12],[18,14,18,15],[18,17,18,18],[18,20,18,21],[18,23,18,24],[16,26,16,27],[17,2,17,6],[17,8,17,12],[17,14,17,15],[17,17,17,18],[17,20,17,21],[17,23,17,24],[17,26,17,27],[16,2,16,6],[16,8,16,12],[16,14,16,15],[16,17,16,18],[16,20,16,21],[16,23,16,24],[14,26,14,27],[15,2,15,6],[15,8,15,12],[15,14,15,15],[15,17,15,18],[15,20,15,21],[15,23,15,24],[15,26,15,27],[14,2,14,6],[14,8,14,12],[14,14,14,15],[14,17,14,18],[14,20,14,21],[14,23,14,24],[12,23,12,24],[12,26,12,27],[13,0,13,1],[13,8,13,12],[13,14,13,15],[13,17,13,18],[13,20,13,21],[13,23,13,24],[13,26,13,27],[12,0,12,1],[12,2,13,6],[12,8,12,12],[12,14,12,15],[12,17,12,18],[12,20,12,21],[10,13,11,15],[10,16,10,18],[10,19,10,21],[10,22,10,24],[11,16,11,18],[11,19,11,21],[11,22,11,24],[7,26,7,27],[9,0,9,6],[9,8,11,12],[9,13,9,15],[9,16,9,18],[9,19,9,21],[9,22,9,24],[9,25,11,27],[10,0,11,1],[10,2,11,6],[7,4,7,6],[7,11,7,12],[7,14,7,15],[7,17,7,18],[7,20,7,21],[7,23,7,24],[6,20,6,21],[6,23,6,24],[6,26,6,27],[5,4,5,6],[5,11,5,12],[5,14,5,15],[5,17,5,18],[5,20,5,21],[5,23,5,24],[0,7,0,27],[1,8,1,27],[2,0,2,2],[2,8,2,27],[3,0,6,2],[3,4,4,6],[3,8,3,9],[3,10,3,12],[3,13,4,15],[3,16,3,18],[3,19,3,21],[3,22,3,24],[3,25,3,27],[4,8,4,9],[4,10,4,12],[4,16,4,18],[4,19,4,21],[4,22,4,24],[4,25,4,27],[5,26,5,27],[6,4,6,6],[6,11,6,12],[6,14,6,15],[6,17,6,18]]}
[null,null,null,null,null,null,null,"  MORAVSKOSLEZSKÝ KYNOLOGICKÝ SVAZ, z. s."]
[null,null,null,null,null,null,null," ","Člen FCI prostřednictvím Českomoravské kynologické unie"]
["Druh a stupeň",null,null,null,null,null,null," ","POTVRZENÍ O VYKONANÉ ZKOUŠCE NZŘ"]
[{"$f":"IF(Soupiska!W36=\"N\",Soupiska!B36,\"NE\")","v":"NE"},null,null,null,"A - STOPA",null,null,null,"ZM",null,"ZVV1",null,null,"ZPS1",null,null,"ZVV2",null,null,"ZVV3",null,null,"ZPS2",null,null,"ZPS2"]
[null,null,null,null,null,null,null,null,"ZMMP",null,"ZMP1",null,null,null,null,null,"ZMP2",null,null,"ZMP3",null,null,"A",null,null,"B"]
[null,null,null,null,"Vlastní - cizí",null,null,null,40,null,80,null,null,80,null,null,"80",null,null,80,null,null,80,null,null,80]
[null,null,null,null,"Předměty",null,null,null,10,null,20," ",null,20,null,null,20," ",null,20,null,null,20,null,null,20]
[null,null,null,null,"Celkem",null,null,null,50,{"$f":"SUM(J6:J7)","v":0},100,{"$f":"SUM(L6:M7)","v":0},null,100,{"$f":"SUM(O6:O7)","v":0},null,100,{"$f":"SUM(R6:S7)","v":0},null,100,{"$f":"SUM(U6:V7)","v":0},null,100,{"$f":"SUM(X6:Y7)","v":0},null,100,{"$f":"SUM(AA6:AB7)","v":0}]
[]
["Data psa-feny",null,null,null,null,null,null,null,"B - POSLUŠNOST",null,null,null,null,"ZM",null,null,"ZVV1,ZMP1",null,null,"ZVV2",null,null,"ZVV3,ZMP3",null,null,"ZZO"]
["Jméno:",null,{"$f":"Soupiska!C36","v":0},null,null,null,null,null,null,null,null,null,null,"ZMMP",null,null,"ZPS1,ZPO1",null,null,"ZMP2",null,null,"ZPS2,ZPO2"]
[null,null,null,null,null,null,null,null,null,null,null,null,null,null,null,null,"ZMPO,ZZO1",null,null,"ZZO2",null,null,"ZZO3"]
["Chovná",null,{"$f":"Soupiska!E36","v":0},null,null,null,null,null,"Přivolání psa",null,null,null,null,10,null,null,10," ",null,10," ",null,10," ",null,10]
["stanice:",null,null,null,null,null,null,null,"Ovladatelnost na vod.",null,null,null,null,10,"  ",null,10," ",null," X"," X",null," X"," X",null,10]
["Plemeno:",null,{"$f":"Soupiska!I36","v":0},null,null,null,null,null,"Ovladatelnost bez vod.",null,null,null,null," X"," X",null," X"," X",null,10," ",null,10,null,null," X"," X"]
["Pohlaví:",null,{"$f":"Soupiska!K36","v":0},null,null,null,null,null,"Polohy (S - L - V)",null,null,null,null,10,"  ",null,10," ",null,10,null," ","10"," ",null,10]
["Narozen",null,{"$f":"Soupiska!L36","v":"00:00:00"},null,null,null,null,null,"Odložení za pochodu",null,null,null,null," X"," X",null,10,null,null,10,null," ",10,null,null,10]
["Č.záp.:",null,{"$f":"Soupiska!N36","v":0},null,null,null,null,null,"Štěkání psa",null,null,null,null," X"," X",null,10," ",null,10,null," ",10," ",null," X"," X"]
["T.č./čip:",null,{"$f":"Soupiska!P36","v":0},null,null,null,null,null,"Aport volný",null,null,null,null,10," ",null,10," ",null,"X",null," X"," X"," X",null,10]
["Data psovoda",null,null,null,null,null,null,null,"Skok vysoký  (aport)",null,null,null,null," X"," X",null,10," ",null,10,null," "," X"," X",null," X"," X"]
["Jméno:",null,{"$f":"Soupiska!C37","v":0},null,null,null,null,null,"Skok šplhem  (aport)",null,null,null,null," X"," X",null,10," ",null," X","X",null,10," ",null," X"," X"]
["Příjmení:",null,{"$f":"Soupiska!E37","v":0},null,null,null,null,null,"Plížení",null,null,null,null," X"," X",null," X"," X",null,10,null," ",10," ",null," X"," X"]
["Bydliště:",null,{"$f":"Soupiska!I37","v":0},null,null,null,null,null,"Kladina (nízká/vysoká)",null,null,null,null," X"," X",null,10," ",null,10,null," ",10," ",null," X"," X"]
[null,null,null,null,null,null,null,null,"Vysílání",null,null,null,null," X"," X",null," X"," X",null,10,null,"  ",10,null,null," X"," X"]
["Narozen:",null,{"$f":"DATE(IF(MID(Soupiska!C38,1,2)*1 > YEAR(TODAY())-2000, 1900, 2000) + MID(Soupiska!C38,1,2), MOD(MID(Soupiska!C38,3,2),50), MID(Soupiska!C38,5,2))","v":{"$error":"#VALUE!"}},null,null,null,null,null,"Odložení psa",null,null,null,null,10," ",null,10," ",null,10,null," ",10," ",null,10]
["Člen ZO:",null,{"$f":"Soupiska!I38","v":0},null,null,null,null,null,"Celkem",null,null,null,null,50,{"$f":"SUM(O13:P25)","v":0},null,100,{"$f":"SUM(R13:S25)","v":0},null,100,{"$f":"SUM(U13:V25)","v":0},null,100,{"$f":"SUM(X13:Y25)","v":0},null,60,{"$f":"SUM(AA13:AB25)","v":0}]
[]
["Data akce",null,null,null,null,null,"C - OBRANA",null,null,null,"ZM",null,null,"ZVV1 ",null,null,"ZVV2",null,null,"ZVV3",null,null,"ZPO1",null,null,"ZPO2"]
["Datum:",null,{"$f":"Soupiska!T6","v":"00:00:00"},null,null,null,"Průzkum terénu",null,null,null,10," ",null,10," ",null,10,null,null,10,null,null,10,null,null,20," "]
[null,null,null,null,null,null,"Vyštěkání",null,null,null,10," ",null,10,null,null,10,null,null,10,null,null,10,null,null,20]
["Místo:",null,{"$f":"Soupiska!P5","v":0},null,null,null,"Prohl., výsl., dopr.",null,null,null," X"," X",null,"10/10",null," ","10/10",null," ",10,null," ",10," ",null,20]
[null,null,null,null,null,null,"Ochrana psovoda",null,null,null,"15",null,null," 15/5",null,null," 15/5",null,null,"20/5",null,null,"20/5",null,null,"40/10",null," "]
["Vedoucí zkoušek:",null,{"$f":"Soupiska!D6","v":0},null,null,null,"Hlídání pomocníka 2+1",null,null,null," X"," X",null," X"," X",null," X"," X",null,20,null,null,20,null,null,40,null," "]
[null,null,null,null,null,null,"Samost. činnost psa (zadržení pomocníka)",null,null,null,"15",null,null," 15/5",null," "," 15/5",null," ","20/5",null,null,"20/5",null,null,"40/10",null," "]
["Rozhodčí:",null,{"$f":"Soupiska!P6","v":0},null,null,null,"Odolnost psa",null,null,null,"X","X",null," 15/5",null," "," 15/5",null," ","X","X",null,"X","X",null,"X","X"]
[null,null,null,null,null,null,"Celkem",null,null,null,50,{"$f":"SUM(L29:M35)","v":0},null,100,{"$f":"SUM(O29:P35)","v":0},null,100,{"$f":"SUM(R29:S35)","v":0},null,100,{"$f":"SUM(U29:V35)","v":0},null,100,{"$f":"SUM(X29:Y35)","v":0},null,200,{"$f":"SUM(AA29:AB35)","v":0}]
[" ",null,null,null,null,null,null,null," ",null,null,null,null,null,null," ",null,null," "," ",null," "," ",null," "," ",null," "]
["Výsledek zkoušky",null,null,null,null,null,"D - SPEC .CVIKY",null,null,null,"ZMMP",null,null,"ZMMP1",null,null,"ZMMP2",null,null,"ZMMP3",null,null,"ZPMO",null,null,"ZZO"]
["A   stopa",null,null,{"$f":"J8+L8+O8+R8+U8+X8+AA8","v":0},null,null,"Přivol.psa za ztíž.p.",null,null,null," X"," X",null," X"," X",null," X"," X",null," X"," X",null," X"," X",null,"PV-P-N"," "]
[null,null,null,null,null,null,"Chov.psa ve sk.osob",null,null,null," X"," X",null," X"," X",null," X"," X",null," X"," X",null," X"," X",null,"PV-P-N"," "]
["B  poslušnost",null,null,{"$f":"O26+R26+U26+X26+AA26","v":0},null,null,"Chov.přiváz. psa",null,null,null," X"," X",null," X"," X",null," X"," X",null," X"," X",null," X"," X",null,"PV-P-N"," "]
[null,null,null,null,null,null,"Rozlišování předm.",null,null,null,"10/10",null,null,"15/15",null,null,"15/15",null,null," X"," X",null," X"," X",null," X"," X"]
["C   obrana ",null,null,{"$f":"L36+O36+R36+U36+X36+AA36","v":0},null,null,"Rozlišování osoby",null,null,null," X"," X",null," X"," X",null," X"," X",null," 15/5",null,null," X"," X",null," X"," X"]
[null,null,null,null,null,null,"Vyhledání předm.",null,null,null," 15/5",null,null," 24/6",null," "," 24/6",null,null," 24/6",null," "," X"," X",null," X"," X"]
["D    spec. cviky",null,null,{"$f":"IF(AA51=\" \",L51+O51+R51+U51+X51,AA51)","v":0},null,null,"Ztracený předmět",null,null,null,10,null,null,20," ",null,20,null,null,20,null,null," X"," X",null," X"," X"]
[null,null,null,null,null,null,"Průzk.terénu/vyšť.",null,null,null," X"," X",null,"10/10",null," ","10/10",null,null,"10/10",null,null,"10/10",null,null," X"," X"]
["CELKEM",null,{"$f":"VLOOKUP(A4,TYPY!A$1:D$65536,4,FALSE)","v":{"$error":"#N/A"}},{"$f":"IF(AA51=\" \",D39+D41+D43+D45,D39+D41+D43)","v":0},null,null,"Zajištění figuranta",null,null,null," X"," X",null," X"," X",null," X"," X",null," X"," X",null,10,null,null," X"," X"]
[null,null,null,null,null,null,"Doprovod figuranta",null,null,null," X"," X",null," X"," X",null," X"," X",null," X","X"," X",10,null,null," X"," X"]
["ZNÁMKA",null,null,null,null,null,"Napadení psovoda",null,null,null," X"," X",null," X"," X",null," X"," X",null," X","X"," X",30,null,null," X"," X"]
[{"$f":"IF(D47>0,IFERROR(IF(C47=300,VLOOKUP(D47,TYPY!$B$44:$C$135,2,FALSE),IF(C47=200,VLOOKUP(D47,TYPY!$N$44:$O$105,2,FALSE),IF(C47=150,VLOOKUP(D47,TYPY!$L$44:$M$90,2,FALSE),IF(C47=100,VLOOKUP(D47,TYPY!$F$44:$G$75,2,FALSE),IF(C47=60,IF(D45=\"N\",\"N\",VLOOKUP(D47,TYPY!$J$44:$K$63,2,FALSE)),\"N\"))))),\"N\"),\" \")","v":" "},null,null,null,null,null,"Hlídání  předm.",null,null,null," X"," X",null," X"," X",null," X"," X",null," X","X"," X",30,null,null," X"," X"]
[null,null,null,null,null,null,"Celkem",null,null,null,50,{"$f":"SUM(L42:M45)","v":0},null,100,{"$f":"SUM(P39:P50)","v":0},null,100,{"$f":"SUM(R42:S46)","v":0},null,100,{"$f":"SUM(U43:V46)","v":0},null,100,{"$f":"SUM(X46:Y50)","v":0},null,"PV-P-N"]
[]
[" ",null,null,null,null,null,null,null,null,null," ",null,null,null,null,null," "]
[]
[]
[]
["Razítko organizace",null,null,null,null,null,null,null,null,null,"Podpis ved.  zkoušek",null,null,null,null,null,"Podpis a razítko rozhočího"]

{"sheet":"NZR10","index":39,"n_rows":57,"n_cols":28,"rows_kept":57,"cut":false,"hidden":true,"merged":[[52,0,55,8],[52,10,55,13],[52,16,55,27],[56,0,56,8],[56,10,56,13],[56,16,56,25],[49,23,49,24],[49,26,49,27],[50,6,50,9],[50,11,50,12],[50,14,50,15],[50,17,50,18],[50,20,50,21],[50,23,50,24],[50,26,50,27],[49,0,50,4],[49,6,49,9],[49,11,49,12],[49,14,49,15],[49,17,49,18],[49,20,49,21],[48,0,48,4],[48,6,48,9],[48,11,48,12],[48,14,48,15],[48,17,48,18],[48,20,48,21],[48,23,48,24],[48,26,48,27],[46,0,47,1],[46,2,47,2],[46,3,47,4],[46,17,46,18],[46,20,46,21],[46,23,46,24],[46,26,46,27],[47,6,47,9],[47,11,47,12],[47,14,47,15],[47,17,47,18],[47,20,47,21],[47,23,47,24],[46,6,46,9],[46,11,46,12],[46,14,46,15],[47,26,47,27],[44,17,44,18],[44,20,44,21],[44,23,44,24],[44,26,44,27],[45,6,45,9],[45,11,45,12],[45,26,45,27],[42,23,42,24],[42,26,42,27],[43,6,43,9],[43,23,43,24],[43,26,43,27],[42,17,42,18],[44,0,45,2],[44,3,45,4],[44,6,44,9],[44,11,44,12],[44,14,44,15],[42,0,43,2],[42,3,43,4],[42,6,42,9],[42,11,42,12],[42,14,42,15],[40,20,40,21],[40,23,40,24],[40,26,40,27],[41,6,41,9],[41,20,41,21],[41,23,41,24],[41,26,41,27],[40,0,41,2],[40,3,41,4],[40,6,40,9],[40,11,40,12],[40,14,40,15],[40,17,40,18],[38,26,38,27],[39,6,39,9],[39,11,39,12],[39,14,39,15],[39,17,39,18],[39,20,39,21],[39,23,39,24],[39,26,39,27],[37,22,37,24],[37,25,37,27],[38,0,39,2],[38,3,39,4],[38,6,38,9],[38,11,38,12],[38,14,38,15],[38,17,38,18],[38,20,38,21],[38,23,38,24],[37,0,37,4],[37,6,37,9],[37,10,37,12],[37,13,37,15],[37,16,37,18],[37,19,37,21],[35,11,35,12],[35,14,35,15],[35,17,35,18],[35,20,35,21],[35,23,35,24],[35,26,35,27],[32,23,32,24],[33,6,33,9],[33,11,33,12],[34,0,35,1],[34,2,35,4],[34,6,34,9],[34,11,34,12],[34,20,34,21],[34,23,34,24],[30,26,30,27],[31,6,31,9],[31,11,31,12],[32,0,33,1],[32,2,33,4],[32,6,32,9],[32,11,32,12],[32,14,32,15],[32,17,32,18],[32,20,32,21],[30,0,31,1],[30,2,31,4],[30,6,30,9],[30,11,30,12],[30,20,30,21],[30,23,30,24],[34,26,34,27],[35,6,35,9],[28,26,28,27],[29,6,29,9],[29,11,29,12],[29,14,29,15],[29,17,29,18],[29,20,29,21],[29,23,29,24],[29,26,29,27],[27,22,27,24],[27,25,27,27],[28,0,29,1],[28,2,29,4],[28,6,28,9],[28,11,28,12],[28,14,28,15],[28,17,28,18],[28,20,28,21],[28,23,28,24],[27,0,27,4],[27,6,27,9],[27,10,27,12],[27,13,27,15],[27,16,27,18],[27,19,27,21],[24,23,24,24],[24,26,24,27],[25,0,25,1],[25,2,25,6],[25,8,25,12],[25,14,25,15],[25,17,25,18],[25,20,25,21],[25,23,25,24],[25,26,25,27],[24,0,24,1],[24,2,24,6],[24,8,24,12],[24,14,24,15],[24,17,24,18],[24,20,24,21],[22,23,22,24],[22,26,22,27],[23,8,23,12],[23,14,23,15],[23,17,23,18],[23,20,23,21],[23,23,23,24],[23,26,23,27],[22,0,23,1],[22,2,23,6],[22,8,22,12],[22,14,22,15],[22,17,22,18],[22,20,22,21],[20,23,20,24],[20,26,20,27],[21,0,21,1],[21,2,21,6],[21,8,21,12],[21,14,21,15],[21,17,21,18],[21,20,21,21],[21,23,21,24],[21,26,21,27],[20,0,20,1],[20,2,20,6],[20,8,20,12],[20,14,20,15],[20,17,20,18],[20,20,20,21],[18,26,18,27],[19,0,19,6],[19,8,19,12],[19,14,19,15],[19,17,19,18],[19,20,19,21],[19,23,19,24],[19,26,19,27],[18,2,18,6],[18,8,18,12],[18,14,18,15],[18,17,18,18],[18,20,18,21],[18,23,18,24],[16,26,16,27],[17,2,17,6],[17,8,17,12],[17,14,17,15],[17,17,17,18],[17,20,17,21],[17,23,17,24],[17,26,17,27],[16,2,16,6],[16,8,16,12],[16,14,16,15],[16,17,16,18],[16,20,16,21],[16,23,16,24],[14,26,14,27],[15,2,15,6],[15,8,15,12],[15,14,15,15],[15,17,15,18],[15,20,15,21],[15,23,15,24],[15,26,15,27],[14,2,14,6],[14,8,14,12],[14,14,14,15],[14,17,14,18],[14,20,14,21],[14,23,14,24],[12,23,12,24],[12,26,12,27],[13,0,13,1],[13,8,13,12],[13,14,13,15],[13,17,13,18],[13,20,13,21],[13,23,13,24],[13,26,13,27],[12,0,12,1],[12,2,13,6],[12,8,12,12],[12,14,12,15],[12,17,12,18],[12,20,12,21],[10,13,11,15],[10,16,10,18],[10,19,10,21],[10,22,10,24],[11,16,11,18],[11,19,11,21],[11,22,11,24],[7,26,7,27],[9,0,9,6],[9,8,11,12],[9,13,9,15],[9,16,9,18],[9,19,9,21],[9,22,9,24],[9,25,11,27],[10,0,11,1],[10,2,11,6],[7,4,7,6],[7,11,7,12],[7,14,7,15],[7,17,7,18],[7,20,7,21],[7,23,7,24],[6,20,6,21],[6,23,6,24],[6,26,6,27],[5,4,5,6],[5,11,5,12],[5,14,5,15],[5,17,5,18],[5,20,5,21],[5,23,5,24],[0,7,0,27],[1,8,1,27],[2,0,2,2],[2,8,2,27],[3,0,6,2],[3,4,4,6],[3,8,3,9],[3,10,3,12],[3,13,4,15],[3,16,3,18],[3,19,3,21],[3,22,3,24],[3,25,3,27],[4,8,4,9],[4,10,4,12],[4,16,4,18],[4,19,4,21],[4,22,4,24],[4,25,4,27],[5,26,5,27],[6,4,6,6],[6,11,6,12],[6,14,6,15],[6,17,6,18]]}
[null,null,null,null,null,null,null,"  MORAVSKOSLEZSKÝ KYNOLOGICKÝ SVAZ, z. s."]
[null,null,null,null,null,null,null," ","Člen FCI prostřednictvím Českomoravské kynologické unie"]
["Druh a stupeň",null,null,null,null,null,null," ","POTVRZENÍ O VYKONANÉ ZKOUŠCE NZŘ"]
[{"$f":"IF(Soupiska!W39=\"N\",Soupiska!B39,\"NE\")","v":"NE"},null,null,null,"A - STOPA",null,null,null,"ZM",null,"ZVV1",null,null,"ZPS1",null,null,"ZVV2",null,null,"ZVV3",null,null,"ZPS2",null,null,"ZPS2"]
[null,null,null,null,null,null,null,null,"ZMMP",null,"ZMP1",null,null,null,null,null,"ZMP2",null,null,"ZMP3",null,null,"A",null,null,"B"]
[null,null,null,null,"Vlastní - cizí",null,null,null,40,null,80,null,null,80,null,null,"80",null,null,80,null,null,80,null,null,80]
[null,null,null,null,"Předměty",null,null,null,10,null,20," ",null,20,null,null,20," ",null,20,null,null,20,null,null,20]
[null,null,null,null,"Celkem",null,null,null,50,{"$f":"SUM(J6:J7)","v":0},100,{"$f":"SUM(L6:M7)","v":0},null,100,{"$f":"SUM(O6:O7)","v":0},null,100,{"$f":"SUM(R6:S7)","v":0},null,100,{"$f":"SUM(U6:V7)","v":0},null,100,{"$f":"SUM(X6:Y7)","v":0},null,100,{"$f":"SUM(AA6:AB7)","v":0}]
[]
["Data psa-feny",null,null,null,null,null,null,null,"B - POSLUŠNOST",null,null,null,null,"ZM",null,null,"ZVV1,ZMP1",null,null,"ZVV2",null,null,"ZVV3,ZMP3",null,null,"ZZO"]
["Jméno:",null,{"$f":"Soupiska!C39","v":0},null,null,null,null,null,null,null,null,null,null,"ZMMP",null,null,"ZPS1,ZPO1",null,null,"ZMP2",null,null,"ZPS2,ZPO2"]
[null,null,null,null,null,null,null,null,null,null,null,null,null,null,null,null,"ZMPO,ZZO1",null,null,"ZZO2",null,null,"ZZO3"]
["Chovná",null,{"$f":"Soupiska!E39","v":0},null,null,null,null,null,"Přivolání psa",null,null,null,null,10,null,null,10," ",null,10," ",null,10," ",null,10]
["stanice:",null,null,null,null,null,null,null,"Ovladatelnost na vod.",null,null,null,null,10,"  ",null,10," ",null," X"," X",null," X"," X",null,10]
["Plemeno:",null,{"$f":"Soupiska!I39","v":0},null,null,null,null,null,"Ovladatelnost bez vod.",null,null,null,null," X"," X",null," X"," X",null,10," ",null,10,null,null," X"," X"]
["Pohlaví:",null,{"$f":"Soupiska!K39","v":0},null,null,null,null,null,"Polohy (S - L - V)",null,null,null,null,10,"  ",null,10," ",null,10,null," ","10"," ",null,10]
["Narozen",null,{"$f":"Soupiska!L39","v":"00:00:00"},null,null,null,null,null,"Odložení za pochodu",null,null,null,null," X"," X",null,10,null,null,10,null," ",10,null,null,10]
["Č.záp.:",null,{"$f":"Soupiska!N39","v":0},null,null,null,null,null,"Štěkání psa",null,null,null,null," X"," X",null,10," ",null,10,null," ",10," ",null," X"," X"]
["T.č./čip:",null,{"$f":"Soupiska!P39","v":0},null,null,null,null,null,"Aport volný",null,null,null,null,10," ",null,10," ",null,"X",null," X"," X"," X",null,10]
["Data psovoda",null,null,null,null,null,null,null,"Skok vysoký  (aport)",null,null,null,null," X"," X",null,10," ",null,10,null," "," X"," X",null," X"," X"]
["Jméno:",null,{"$f":"Soupiska!C40","v":0},null,null,null,null,null,"Skok šplhem  (aport)",null,null,null,null," X"," X",null,10," ",null," X","X",null,10," ",null," X"," X"]
["Příjmení:",null,{"$f":"Soupiska!E40","v":0},null,null,null,null,null,"Plížení",null,null,null,null," X"," X",null," X"," X",null,10,null," ",10," ",null," X"," X"]
["Bydliště:",null,{"$f":"Soupiska!I40","v":0},null,null,null,null,null,"Kladina (nízká/vysoká)",null,null,null,null," X"," X",null,10," ",null,10,null," ",10," ",null," X"," X"]
[null,null,null,null,null,null,null,null,"Vysílání",null,null,null,null," X"," X",null," X"," X",null,10,null,"  ",10,null,null," X"," X"]
["Narozen:",null,{"$f":"DATE(IF(MID(Soupiska!C41,1,2)*1 > YEAR(TODAY())-2000, 1900, 2000) + MID(Soupiska!C41,1,2), MOD(MID(Soupiska!C41,3,2),50), MID(Soupiska!C41,5,2))","v":{"$error":"#VALUE!"}},null,null,null,null,null,"Odložení psa",null,null,null,null,10," ",null,10," ",null,10,null," ",10," ",null,10]
["Člen ZO:",null,{"$f":"Soupiska!I41","v":0},null,null,null,null,null,"Celkem",null,null,null,null,50,{"$f":"SUM(O13:P25)","v":0},null,100,{"$f":"SUM(R13:S25)","v":0},null,100,{"$f":"SUM(U13:V25)","v":0},null,100,{"$f":"SUM(X13:Y25)","v":0},null,60,{"$f":"SUM(AA13:AB25)","v":0}]
[]
["Data akce",null,null,null,null,null,"C - OBRANA",null,null,null,"ZM",null,null,"ZVV1 ",null,null,"ZVV2",null,null,"ZVV3",null,null,"ZPO1",null,null,"ZPO2"]
["Datum:",null,{"$f":"Soupiska!T6","v":"00:00:00"},null,null,null,"Průzkum terénu",null,null,null,10," ",null,10," ",null,10,null,null,10,null,null,10,null,null,20," "]
[null,null,null,null,null,null,"Vyštěkání",null,null,null,10," ",null,10,null,null,10,null,null,10,null,null,10,null,null,20]
["Místo:",null,{"$f":"Soupiska!P5","v":0},null,null,null,"Prohl., výsl., dopr.",null,null,null," X"," X",null,"10/10",null," ","10/10",null," ",10,null," ",10," ",null,20]
[null,null,null,null,null,null,"Ochrana psovoda",null,null,null,"15",null,null," 15/5",null,null," 15/5",null,null,"20/5",null,null,"20/5",null,null,"40/10",null," "]
["Vedoucí zkoušek:",null,{"$f":"Soupiska!D6","v":0},null,null,null,"Hlídání pomocníka 2+1",null,null,null," X"," X",null," X"," X",null," X"," X",null,20,null,null,20,null,null,40,null," "]
[null,null,null,null,null,null,"Samost. činnost psa (zadržení pomocníka)",null,null,null,"15",null,null," 15/5",null," "," 15/5",null," ","20/5",null,null,"20/5",null,null,"40/10",null," "]
["Rozhodčí:",null,{"$f":"Soupiska!P6","v":0},null,null,null,"Odolnost psa",null,null,null,"X","X",null," 15/5",null," "," 15/5",null," ","X","X",null,"X","X",null,"X","X"]
[null,null,null,null,null,null,"Celkem",null,null,null,50,{"$f":"SUM(L29:M35)","v":0},null,100,{"$f":"SUM(O29:P35)","v":0},null,100,{"$f":"SUM(R29:S35)","v":0},null,100,{"$f":"SUM(U29:V35)","v":0},null,100,{"$f":"SUM(X29:Y35)","v":0},null,200,{"$f":"SUM(AA29:AB35)","v":0}]
[" ",null,null,null,null,null,null,null," ",null,null,null,null,null,null," ",null,null," "," ",null," "," ",null," "," ",null," "]
["Výsledek zkoušky",null,null,null,null,null,"D - SPEC .CVIKY",null,null,null,"ZMMP",null,null,"ZMMP1",null,null,"ZMMP2",null,null,"ZMMP3",null,null,"ZPMO",null,null,"ZZO"]
["A   stopa",null,null,{"$f":"J8+L8+O8+R8+U8+X8+AA8","v":0},null,null,"Přivol.psa za ztíž.p.",null,null,null," X"," X",null," X"," X",null," X"," X",null," X"," X",null," X"," X",null,"PV-P-N"," "]
[null,null,null,null,null,null,"Chov.psa ve sk.osob",null,null,null," X"," X",null," X"," X",null," X"," X",null," X"," X",null," X"," X",null,"PV-P-N"," "]
["B  poslušnost",null,null,{"$f":"O26+R26+U26+X26+AA26","v":0},null,null,"Chov.přiváz. psa",null,null,null," X"," X",null," X"," X",null," X"," X",null," X"," X",null," X"," X",null,"PV-P-N"," "]
[null,null,null,null,null,null,"Rozlišování předm.",null,null,null,"10/10",null,null,"15/15",null,null,"15/15",null,null," X"," X",null," X"," X",null," X"," X"]
["C   obrana ",null,null,{"$f":"L36+O36+R36+U36+X36+AA36","v":0},null,null,"Rozlišování osoby",null,null,null," X"," X",null," X"," X",null," X"," X",null," 15/5",null,null," X"," X",null," X"," X"]
[null,null,null,null,null,null,"Vyhledání předm.",null,null,null," 15/5",null,null," 24/6",null," "," 24/6",null,null," 24/6",null," "," X"," X",null," X"," X"]
["D    spec. cviky",null,null,{"$f":"IF(AA51=\" \",L51+O51+R51+U51+X51,AA51)","v":0},null,null,"Ztracený předmět",null,null,null,10,null,null,20," ",null,20,null,null,20,null,null," X"," X",null," X"," X"]
[null,null,null,null,null,null,"Průzk.terénu/vyšť.",null,null,null," X"," X",null,"10/10",null," ","10/10",null,null,"10/10",null,null,"10/10",null,null," X"," X"]
["CELKEM",null,{"$f":"VLOOKUP(A4,TYPY!A$1:D$65536,4,FALSE)","v":{"$error":"#N/A"}},{"$f":"IF(AA51=\" \",D39+D41+D43+D45,D39+D41+D43)","v":0},null,null,"Zajištění figuranta",null,null,null," X"," X",null," X"," X",null," X"," X",null," X"," X",null,10,null,null," X"," X"]
[null,null,null,null,null,null,"Doprovod figuranta",null,null,null," X"," X",null," X"," X",null," X"," X",null," X","X"," X",10,null,null," X"," X"]
["ZNÁMKA",null,null,null,null,null,"Napadení psovoda",null,null,null," X"," X",null," X"," X",null," X"," X",null," X","X"," X",30,null,null," X"," X"]
[{"$f":"IF(D47>0,IFERROR(IF(C47=300,VLOOKUP(D47,TYPY!$B$44:$C$135,2,FALSE),IF(C47=200,VLOOKUP(D47,TYPY!$N$44:$O$105,2,FALSE),IF(C47=150,VLOOKUP(D47,TYPY!$L$44:$M$90,2,FALSE),IF(C47=100,VLOOKUP(D47,TYPY!$F$44:$G$75,2,FALSE),IF(C47=60,IF(D45=\"N\",\"N\",VLOOKUP(D47,TYPY!$J$44:$K$63,2,FALSE)),\"N\"))))),\"N\"),\" \")","v":" "},null,null,null,null,null,"Hlídání  předm.",null,null,null," X"," X",null," X"," X",null," X"," X",null," X","X"," X",30,null,null," X"," X"]
[null,null,null,null,null,null,"Celkem",null,null,null,50,{"$f":"SUM(L42:M45)","v":0},null,100,{"$f":"SUM(P39:P50)","v":0},null,100,{"$f":"SUM(R42:S46)","v":0},null,100,{"$f":"SUM(U43:V46)","v":0},null,100,{"$f":"SUM(X46:Y50)","v":0},null,"PV-P-N"]
[]
[" ",null,null,null,null,null,null,null,null,null," ",null,null,null,null,null," "]
[]
[]
[]
["Razítko organizace",null,null,null,null,null,null,null,null,null,"Podpis ved.  zkoušek",null,null,null,null,null,"Podpis a razítko rozhočího"]

{"sheet":"NZR11","index":40,"n_rows":57,"n_cols":28,"rows_kept":57,"cut":false,"hidden":true,"merged":[[52,0,55,8],[52,10,55,13],[52,16,55,27],[56,0,56,8],[56,10,56,13],[56,16,56,25],[49,23,49,24],[49,26,49,27],[50,6,50,9],[50,11,50,12],[50,14,50,15],[50,17,50,18],[50,20,50,21],[50,23,50,24],[50,26,50,27],[49,0,50,4],[49,6,49,9],[49,11,49,12],[49,14,49,15],[49,17,49,18],[49,20,49,21],[48,0,48,4],[48,6,48,9],[48,11,48,12],[48,14,48,15],[48,17,48,18],[48,20,48,21],[48,23,48,24],[48,26,48,27],[46,0,47,1],[46,2,47,2],[46,3,47,4],[46,17,46,18],[46,20,46,21],[46,23,46,24],[46,26,46,27],[47,6,47,9],[47,11,47,12],[47,14,47,15],[47,17,47,18],[47,20,47,21],[47,23,47,24],[46,6,46,9],[46,11,46,12],[46,14,46,15],[47,26,47,27],[44,17,44,18],[44,20,44,21],[44,23,44,24],[44,26,44,27],[45,6,45,9],[45,11,45,12],[45,26,45,27],[42,23,42,24],[42,26,42,27],[43,6,43,9],[43,23,43,24],[43,26,43,27],[42,17,42,18],[44,0,45,2],[44,3,45,4],[44,6,44,9],[44,11,44,12],[44,14,44,15],[42,0,43,2],[42,3,43,4],[42,6,42,9],[42,11,42,12],[42,14,42,15],[40,20,40,21],[40,23,40,24],[40,26,40,27],[41,6,41,9],[41,20,41,21],[41,23,41,24],[41,26,41,27],[40,0,41,2],[40,3,41,4],[40,6,40,9],[40,11,40,12],[40,14,40,15],[40,17,40,18],[38,26,38,27],[39,6,39,9],[39,11,39,12],[39,14,39,15],[39,17,39,18],[39,20,39,21],[39,23,39,24],[39,26,39,27],[37,22,37,24],[37,25,37,27],[38,0,39,2],[38,3,39,4],[38,6,38,9],[38,11,38,12],[38,14,38,15],[38,17,38,18],[38,20,38,21],[38,23,38,24],[37,0,37,4],[37,6,37,9],[37,10,37,12],[37,13,37,15],[37,16,37,18],[37,19,37,21],[35,11,35,12],[35,14,35,15],[35,17,35,18],[35,20,35,21],[35,23,35,24],[35,26,35,27],[32,23,32,24],[33,6,33,9],[33,11,33,12],[34,0,35,1],[34,2,35,4],[34,6,34,9],[34,11,34,12],[34,20,34,21],[34,23,34,24],[30,26,30,27],[31,6,31,9],[31,11,31,12],[32,0,33,1],[32,2,33,4],[32,6,32,9],[32,11,32,12],[32,14,32,15],[32,17,32,18],[32,20,32,21],[30,0,31,1],[30,2,31,4],[30,6,30,9],[30,11,30,12],[30,20,30,21],[30,23,30,24],[34,26,34,27],[35,6,35,9],[28,26,28,27],[29,6,29,9],[29,11,29,12],[29,14,29,15],[29,17,29,18],[29,20,29,21],[29,23,29,24],[29,26,29,27],[27,22,27,24],[27,25,27,27],[28,0,29,1],[28,2,29,4],[28,6,28,9],[28,11,28,12],[28,14,28,15],[28,17,28,18],[28,20,28,21],[28,23,28,24],[27,0,27,4],[27,6,27,9],[27,10,27,12],[27,13,27,15],[27,16,27,18],[27,19,27,21],[24,23,24,24],[24,26,24,27],[25,0,25,1],[25,2,25,6],[25,8,25,12],[25,14,25,15],[25,17,25,18],[25,20,25,21],[25,23,25,24],[25,26,25,27],[24,0,24,1],[24,2,24,6],[24,8,24,12],[24,14,24,15],[24,17,24,18],[24,20,24,21],[22,23,22,24],[22,26,22,27],[23,8,23,12],[23,14,23,15],[23,17,23,18],[23,20,23,21],[23,23,23,24],[23,26,23,27],[22,0,23,1],[22,2,23,6],[22,8,22,12],[22,14,22,15],[22,17,22,18],[22,20,22,21],[20,23,20,24],[20,26,20,27],[21,0,21,1],[21,2,21,6],[21,8,21,12],[21,14,21,15],[21,17,21,18],[21,20,21,21],[21,23,21,24],[21,26,21,27],[20,0,20,1],[20,2,20,6],[20,8,20,12],[20,14,20,15],[20,17,20,18],[20,20,20,21],[18,26,18,27],[19,0,19,6],[19,8,19,12],[19,14,19,15],[19,17,19,18],[19,20,19,21],[19,23,19,24],[19,26,19,27],[18,2,18,6],[18,8,18,12],[18,14,18,15],[18,17,18,18],[18,20,18,21],[18,23,18,24],[16,26,16,27],[17,2,17,6],[17,8,17,12],[17,14,17,15],[17,17,17,18],[17,20,17,21],[17,23,17,24],[17,26,17,27],[16,2,16,6],[16,8,16,12],[16,14,16,15],[16,17,16,18],[16,20,16,21],[16,23,16,24],[14,26,14,27],[15,2,15,6],[15,8,15,12],[15,14,15,15],[15,17,15,18],[15,20,15,21],[15,23,15,24],[15,26,15,27],[14,2,14,6],[14,8,14,12],[14,14,14,15],[14,17,14,18],[14,20,14,21],[14,23,14,24],[12,23,12,24],[12,26,12,27],[13,0,13,1],[13,8,13,12],[13,14,13,15],[13,17,13,18],[13,20,13,21],[13,23,13,24],[13,26,13,27],[12,0,12,1],[12,2,13,6],[12,8,12,12],[12,14,12,15],[12,17,12,18],[12,20,12,21],[10,13,11,15],[10,16,10,18],[10,19,10,21],[10,22,10,24],[11,16,11,18],[11,19,11,21],[11,22,11,24],[7,26,7,27],[9,0,9,6],[9,8,11,12],[9,13,9,15],[9,16,9,18],[9,19,9,21],[9,22,9,24],[9,25,11,27],[10,0,11,1],[10,2,11,6],[7,4,7,6],[7,11,7,12],[7,14,7,15],[7,17,7,18],[7,20,7,21],[7,23,7,24],[6,20,6,21],[6,23,6,24],[6,26,6,27],[5,4,5,6],[5,11,5,12],[5,14,5,15],[5,17,5,18],[5,20,5,21],[5,23,5,24],[0,7,0,27],[1,8,1,27],[2,0,2,2],[2,8,2,27],[3,0,6,2],[3,4,4,6],[3,8,3,9],[3,10,3,12],[3,13,4,15],[3,16,3,18],[3,19,3,21],[3,22,3,24],[3,25,3,27],[4,8,4,9],[4,10,4,12],[4,16,4,18],[4,19,4,21],[4,22,4,24],[4,25,4,27],[5,26,5,27],[6,4,6,6],[6,11,6,12],[6,14,6,15],[6,17,6,18]]}
[null,null,null,null,null,null,null,"  MORAVSKOSLEZSKÝ KYNOLOGICKÝ SVAZ, z. s."]
[null,null,null,null,null,null,null," ","Člen FCI prostřednictvím Českomoravské kynologické unie"]
["Druh a stupeň",null,null,null,null,null,null," ","POTVRZENÍ O VYKONANÉ ZKOUŠCE NZŘ"]
[{"$f":"IF(Soupiska!W42=\"N\",Soupiska!B42,\"NE\")","v":"NE"},null,null,null,"A - STOPA",null,null,null,"ZM",null,"ZVV1",null,null,"ZPS1",null,null,"ZVV2",null,null,"ZVV3",null,null,"ZPS2",null,null,"ZPS2"]
[null,null,null,null,null,null,null,null,"ZMMP",null,"ZMP1",null,null,null,null,null,"ZMP2",null,null,"ZMP3",null,null,"A",null,null,"B"]
[null,null,null,null,"Vlastní - cizí",null,null,null,40,null,80,null,null,80,null,null,"80",null,null,80,null,null,80,null,null,80]
[null,null,null,null,"Předměty",null,null,null,10,null,20," ",null,20,null,null,20," ",null,20,null,null,20,null,null,20]
[null,null,null,null,"Celkem",null,null,null,50,{"$f":"SUM(J6:J7)","v":0},100,{"$f":"SUM(L6:M7)","v":0},null,100,{"$f":"SUM(O6:O7)","v":0},null,100,{"$f":"SUM(R6:S7)","v":0},null,100,{"$f":"SUM(U6:V7)","v":0},null,100,{"$f":"SUM(X6:Y7)","v":0},null,100,{"$f":"SUM(AA6:AB7)","v":0}]
[]
["Data psa-feny",null,null,null,null,null,null,null,"B - POSLUŠNOST",null,null,null,null,"ZM",null,null,"ZVV1,ZMP1",null,null,"ZVV2",null,null,"ZVV3,ZMP3",null,null,"ZZO"]
["Jméno:",null,{"$f":"Soupiska!C42","v":0},null,null,null,null,null,null,null,null,null,null,"ZMMP",null,null,"ZPS1,ZPO1",null,null,"ZMP2",null,null,"ZPS2,ZPO2"]
[null,null,null,null,null,null,null,null,null,null,null,null,null,null,null,null,"ZMPO,ZZO1",null,null,"ZZO2",null,null,"ZZO3"]
["Chovná",null,{"$f":"Soupiska!E42","v":0},null,null,null,null,null,"Přivolání psa",null,null,null,null,10,null,null,10," ",null,10," ",null,10," ",null,10]
["stanice:",null,null,null,null,null,null,null,"Ovladatelnost na vod.",null,null,null,null,10,"  ",null,10," ",null," X"," X",null," X"," X",null,10]
["Plemeno:",null,{"$f":"Soupiska!I42","v":0},null,null,null,null,null,"Ovladatelnost bez vod.",null,null,null,null," X"," X",null," X"," X",null,10," ",null,10,null,null," X"," X"]
["Pohlaví:",null,{"$f":"Soupiska!K42","v":0},null,null,null,null,null,"Polohy (S - L - V)",null,null,null,null,10,"  ",null,10," ",null,10,null," ","10"," ",null,10]
["Narozen",null,{"$f":"Soupiska!L42","v":"00:00:00"},null,null,null,null,null,"Odložení za pochodu",null,null,null,null," X"," X",null,10,null,null,10,null," ",10,null,null,10]
["Č.záp.:",null,{"$f":"Soupiska!N42","v":0},null,null,null,null,null,"Štěkání psa",null,null,null,null," X"," X",null,10," ",null,10,null," ",10," ",null," X"," X"]
["T.č./čip:",null,{"$f":"Soupiska!P42","v":0},null,null,null,null,null,"Aport volný",null,null,null,null,10," ",null,10," ",null,"X",null," X"," X"," X",null,10]
["Data psovoda",null,null,null,null,null,null,null,"Skok vysoký  (aport)",null,null,null,null," X"," X",null,10," ",null,10,null," "," X"," X",null," X"," X"]
["Jméno:",null,{"$f":"Soupiska!C43","v":0},null,null,null,null,null,"Skok šplhem  (aport)",null,null,null,null," X"," X",null,10," ",null," X","X",null,10," ",null," X"," X"]
["Příjmení:",null,{"$f":"Soupiska!E43","v":0},null,null,null,null,null,"Plížení",null,null,null,null," X"," X",null," X"," X",null,10,null," ",10," ",null," X"," X"]
["Bydliště:",null,{"$f":"Soupiska!I43","v":0},null,null,null,null,null,"Kladina (nízká/vysoká)",null,null,null,null," X"," X",null,10," ",null,10,null," ",10," ",null," X"," X"]
[null,null,null,null,null,null,null,null,"Vysílání",null,null,null,null," X"," X",null," X"," X",null,10,null,"  ",10,null,null," X"," X"]
["Narozen:",null,{"$f":"DATE(IF(MID(Soupiska!C44,1,2)*1 > YEAR(TODAY())-2000, 1900, 2000) + MID(Soupiska!C44,1,2), MOD(MID(Soupiska!C44,3,2),50), MID(Soupiska!C44,5,2))","v":{"$error":"#VALUE!"}},null,null,null,null,null,"Odložení psa",null,null,null,null,10," ",null,10," ",null,10,null," ",10," ",null,10]
["Člen ZO:",null,{"$f":"Soupiska!I44","v":0},null,null,null,null,null,"Celkem",null,null,null,null,50,{"$f":"SUM(O13:P25)","v":0},null,100,{"$f":"SUM(R13:S25)","v":0},null,100,{"$f":"SUM(U13:V25)","v":0},null,100,{"$f":"SUM(X13:Y25)","v":0},null,60,{"$f":"SUM(AA13:AB25)","v":0}]
[]
["Data akce",null,null,null,null,null,"C - OBRANA",null,null,null,"ZM",null,null,"ZVV1 ",null,null,"ZVV2",null,null,"ZVV3",null,null,"ZPO1",null,null,"ZPO2"]
["Datum:",null,{"$f":"Soupiska!T6","v":"00:00:00"},null,null,null,"Průzkum terénu",null,null,null,10," ",null,10," ",null,10,null,null,10,null,null,10,null,null,20," "]
[null,null,null,null,null,null,"Vyštěkání",null,null,null,10," ",null,10,null,null,10,null,null,10,null,null,10,null,null,20]
["Místo:",null,{"$f":"Soupiska!P5","v":0},null,null,null,"Prohl., výsl., dopr.",null,null,null," X"," X",null,"10/10",null," ","10/10",null," ",10,null," ",10," ",null,20]
[null,null,null,null,null,null,"Ochrana psovoda",null,null,null,"15",null,null," 15/5",null,null," 15/5",null,null,"20/5",null,null,"20/5",null,null,"40/10",null," "]
["Vedoucí zkoušek:",null,{"$f":"Soupiska!D6","v":0},null,null,null,"Hlídání pomocníka 2+1",null,null,null," X"," X",null," X"," X",null," X"," X",null,20,null,null,20,null,null,40,null," "]
[null,null,null,null,null,null,"Samost. činnost psa (zadržení pomocníka)",null,null,null,"15",null,null," 15/5",null," "," 15/5",null," ","20/5",null,null,"20/5",null,null,"40/10",null," "]
["Rozhodčí:",null,{"$f":"Soupiska!P6","v":0},null,null,null,"Odolnost psa",null,null,null,"X","X",null," 15/5",null," "," 15/5",null," ","X","X",null,"X","X",null,"X","X"]
[null,null,null,null,null,null,"Celkem",null,null,null,50,{"$f":"SUM(L29:M35)","v":0},null,100,{"$f":"SUM(O29:P35)","v":0},null,100,{"$f":"SUM(R29:S35)","v":0},null,100,{"$f":"SUM(U29:V35)","v":0},null,100,{"$f":"SUM(X29:Y35)","v":0},null,200,{"$f":"SUM(AA29:AB35)","v":0}]
[" ",null,null,null,null,null,null,null," ",null,null,null,null,null,null," ",null,null," "," ",null," "," ",null," "," ",null," "]
["Výsledek zkoušky",null,null,null,null,null,"D - SPEC .CVIKY",null,null,null,"ZMMP",null,null,"ZMMP1",null,null,"ZMMP2",null,null,"ZMMP3",null,null,"ZPMO",null,null,"ZZO"]
["A   stopa",null,null,{"$f":"J8+L8+O8+R8+U8+X8+AA8","v":0},null,null,"Přivol.psa za ztíž.p.",null,null,null," X"," X",null," X"," X",null," X"," X",null," X"," X",null," X"," X",null,"PV-P-N"," "]
[null,null,null,null,null,null,"Chov.psa ve sk.osob",null,null,null," X"," X",null," X"," X",null," X"," X",null," X"," X",null," X"," X",null,"PV-P-N"," "]
["B  poslušnost",null,null,{"$f":"O26+R26+U26+X26+AA26","v":0},null,null,"Chov.přiváz. psa",null,null,null," X"," X",null," X"," X",null," X"," X",null," X"," X",null," X"," X",null,"PV-P-N"," "]
[null,null,null,null,null,null,"Rozlišování předm.",null,null,null,"10/10",null,null,"15/15",null,null,"15/15",null,null," X"," X",null," X"," X",null," X"," X"]
["C   obrana ",null,null,{"$f":"L36+O36+R36+U36+X36+AA36","v":0},null,null,"Rozlišování osoby",null,null,null," X"," X",null," X"," X",null," X"," X",null," 15/5",null,null," X"," X",null," X"," X"]
[null,null,null,null,null,null,"Vyhledání předm.",null,null,null," 15/5",null,null," 24/6",null," "," 24/6",null,null," 24/6",null," "," X"," X",null," X"," X"]
["D    spec. cviky",null,null,{"$f":"IF(AA51=\" \",L51+O51+R51+U51+X51,AA51)","v":0},null,null,"Ztracený předmět",null,null,null,10,null,null,20," ",null,20,null,null,20,null,null," X"," X",null," X"," X"]
[null,null,null,null,null,null,"Průzk.terénu/vyšť.",null,null,null," X"," X",null,"10/10",null," ","10/10",null,null,"10/10",null,null,"10/10",null,null," X"," X"]
["CELKEM",null,{"$f":"VLOOKUP(A4,TYPY!A$1:D$65536,4,FALSE)","v":{"$error":"#N/A"}},{"$f":"IF(AA51=\" \",D39+D41+D43+D45,D39+D41+D43)","v":0},null,null,"Zajištění figuranta",null,null,null," X"," X",null," X"," X",null," X"," X",null," X"," X",null,10,null,null," X"," X"]
[null,null,null,null,null,null,"Doprovod figuranta",null,null,null," X"," X",null," X"," X",null," X"," X",null," X","X"," X",10,null,null," X"," X"]
["ZNÁMKA",null,null,null,null,null,"Napadení psovoda",null,null,null," X"," X",null," X"," X",null," X"," X",null," X","X"," X",30,null,null," X"," X"]
[{"$f":"IF(D47>0,IFERROR(IF(C47=300,VLOOKUP(D47,TYPY!$B$44:$C$135,2,FALSE),IF(C47=200,VLOOKUP(D47,TYPY!$N$44:$O$105,2,FALSE),IF(C47=150,VLOOKUP(D47,TYPY!$L$44:$M$90,2,FALSE),IF(C47=100,VLOOKUP(D47,TYPY!$F$44:$G$75,2,FALSE),IF(C47=60,IF(D45=\"N\",\"N\",VLOOKUP(D47,TYPY!$J$44:$K$63,2,FALSE)),\"N\"))))),\"N\"),\" \")","v":" "},null,null,null,null,null,"Hlídání  předm.",null,null,null," X"," X",null," X"," X",null," X"," X",null," X","X"," X",30,null,null," X"," X"]
[null,null,null,null,null,null,"Celkem",null,null,null,50,{"$f":"SUM(L42:M45)","v":0},null,100,{"$f":"SUM(P39:P50)","v":0},null,100,{"$f":"SUM(R42:S46)","v":0},null,100,{"$f":"SUM(U43:V46)","v":0},null,100,{"$f":"SUM(X46:Y50)","v":0},null,"PV-P-N"]
[]
[" ",null,null,null,null,null,null,null,null,null," ",null,null,null,null,null," "]
[]
[]
[]
["Razítko organizace",null,null,null,null,null,null,null,null,null,"Podpis ved.  zkoušek",null,null,null,null,null,"Podpis a razítko rozhočího"]

{"sheet":"NZR12","index":41,"n_rows":57,"n_cols":28,"rows_kept":57,"cut":false,"hidden":true,"merged":[[52,0,55,8],[52,10,55,13],[52,16,55,27],[56,0,56,8],[56,10,56,13],[56,16,56,25],[49,23,49,24],[49,26,49,27],[50,6,50,9],[50,11,50,12],[50,14,50,15],[50,17,50,18],[50,20,50,21],[50,23,50,24],[50,26,50,27],[49,0,50,4],[49,6,49,9],[49,11,49,12],[49,14,49,15],[49,17,49,18],[49,20,49,21],[48,0,48,4],[48,6,48,9],[48,11,48,12],[48,14,48,15],[48,17,48,18],[48,20,48,21],[48,23,48,24],[48,26,48,27],[46,0,47,1],[46,2,47,2],[46,3,47,4],[46,17,46,18],[46,20,46,21],[46,23,46,24],[46,26,46,27],[47,6,47,9],[47,11,47,12],[47,14,47,15],[47,17,47,18],[47,20,47,21],[47,23,47,24],[46,6,46,9],[46,11,46,12],[46,14,46,15],[47,26,47,27],[44,17,44,18],[44,20,44,21],[44,23,44,24],[44,26,44,27],[45,6,45,9],[45,11,45,12],[45,26,45,27],[42,23,42,24],[42,26,42,27],[43,6,43,9],[43,23,43,24],[43,26,43,27],[42,17,42,18],[44,0,45,2],[44,3,45,4],[44,6,44,9],[44,11,44,12],[44,14,44,15],[42,0,43,2],[42,3,43,4],[42,6,42,9],[42,11,42,12],[42,14,42,15],[40,20,40,21],[40,23,40,24],[40,26,40,27],[41,6,41,9],[41,20,41,21],[41,23,41,24],[41,26,41,27],[40,0,41,2],[40,3,41,4],[40,6,40,9],[40,11,40,12],[40,14,40,15],[40,17,40,18],[38,26,38,27],[39,6,39,9],[39,11,39,12],[39,14,39,15],[39,17,39,18],[39,20,39,21],[39,23,39,24],[39,26,39,27],[37,22,37,24],[37,25,37,27],[38,0,39,2],[38,3,39,4],[38,6,38,9],[38,11,38,12],[38,14,38,15],[38,17,38,18],[38,20,38,21],[38,23,38,24],[37,0,37,4],[37,6,37,9],[37,10,37,12],[37,13,37,15],[37,16,37,18],[37,19,37,21],[35,11,35,12],[35,14,35,15],[35,17,35,18],[35,20,35,21],[35,23,35,24],[35,26,35,27],[32,23,32,24],[33,6,33,9],[33,11,33,12],[34,0,35,1],[34,2,35,4],[34,6,34,9],[34,11,34,12],[34,20,34,21],[34,23,34,24],[30,26,30,27],[31,6,31,9],[31,11,31,12],[32,0,33,1],[32,2,33,4],[32,6,32,9],[32,11,32,12],[32,14,32,15],[32,17,32,18],[32,20,32,21],[30,0,31,1],[30,2,31,4],[30,6,30,9],[30,11,30,12],[30,20,30,21],[30,23,30,24],[34,26,34,27],[35,6,35,9],[28,26,28,27],[29,6,29,9],[29,11,29,12],[29,14,29,15],[29,17,29,18],[29,20,29,21],[29,23,29,24],[29,26,29,27],[27,22,27,24],[27,25,27,27],[28,0,29,1],[28,2,29,4],[28,6,28,9],[28,11,28,12],[28,14,28,15],[28,17,28,18],[28,20,28,21],[28,23,28,24],[27,0,27,4],[27,6,27,9],[27,10,27,12],[27,13,27,15],[27,16,27,18],[27,19,27,21],[24,23,24,24],[24,26,24,27],[25,0,25,1],[25,2,25,6],[25,8,25,12],[25,14,25,15],[25,17,25,18],[25,20,25,21],[25,23,25,24],[25,26,25,27],[24,0,24,1],[24,2,24,6],[24,8,24,12],[24,14,24,15],[24,17,24,18],[24,20,24,21],[22,23,22,24],[22,26,22,27],[23,8,23,12],[23,14,23,15],[23,17,23,18],[23,20,23,21],[23,23,23,24],[23,26,23,27],[22,0,23,1],[22,2,23,6],[22,8,22,12],[22,14,22,15],[22,17,22,18],[22,20,22,21],[20,23,20,24],[20,26,20,27],[21,0,21,1],[21,2,21,6],[21,8,21,12],[21,14,21,15],[21,17,21,18],[21,20,21,21],[21,23,21,24],[21,26,21,27],[20,0,20,1],[20,2,20,6],[20,8,20,12],[20,14,20,15],[20,17,20,18],[20,20,20,21],[18,26,18,27],[19,0,19,6],[19,8,19,12],[19,14,19,15],[19,17,19,18],[19,20,19,21],[19,23,19,24],[19,26,19,27],[18,2,18,6],[18,8,18,12],[18,14,18,15],[18,17,18,18],[18,20,18,21],[18,23,18,24],[16,26,16,27],[17,2,17,6],[17,8,17,12],[17,14,17,15],[17,17,17,18],[17,20,17,21],[17,23,17,24],[17,26,17,27],[16,2,16,6],[16,8,16,12],[16,14,16,15],[16,17,16,18],[16,20,16,21],[16,23,16,24],[14,26,14,27],[15,2,15,6],[15,8,15,12],[15,14,15,15],[15,17,15,18],[15,20,15,21],[15,23,15,24],[15,26,15,27],[14,2,14,6],[14,8,14,12],[14,14,14,15],[14,17,14,18],[14,20,14,21],[14,23,14,24],[12,23,12,24],[12,26,12,27],[13,0,13,1],[13,8,13,12],[13,14,13,15],[13,17,13,18],[13,20,13,21],[13,23,13,24],[13,26,13,27],[12,0,12,1],[12,2,13,6],[12,8,12,12],[12,14,12,15],[12,17,12,18],[12,20,12,21],[10,13,11,15],[10,16,10,18],[10,19,10,21],[10,22,10,24],[11,16,11,18],[11,19,11,21],[11,22,11,24],[7,26,7,27],[9,0,9,6],[9,8,11,12],[9,13,9,15],[9,16,9,18],[9,19,9,21],[9,22,9,24],[9,25,11,27],[10,0,11,1],[10,2,11,6],[7,4,7,6],[7,11,7,12],[7,14,7,15],[7,17,7,18],[7,20,7,21],[7,23,7,24],[6,20,6,21],[6,23,6,24],[6,26,6,27],[5,4,5,6],[5,11,5,12],[5,14,5,15],[5,17,5,18],[5,20,5,21],[5,23,5,24],[0,7,0,27],[1,8,1,27],[2,0,2,2],[2,8,2,27],[3,0,6,2],[3,4,4,6],[3,8,3,9],[3,10,3,12],[3,13,4,15],[3,16,3,18],[3,19,3,21],[3,22,3,24],[3,25,3,27],[4,8,4,9],[4,10,4,12],[4,16,4,18],[4,19,4,21],[4,22,4,24],[4,25,4,27],[5,26,5,27],[6,4,6,6],[6,11,6,12],[6,14,6,15],[6,17,6,18]]}
[null,null,null,null,null,null,null,"  MORAVSKOSLEZSKÝ KYNOLOGICKÝ SVAZ, z. s."]
[null,null,null,null,null,null,null," ","Člen FCI prostřednictvím Českomoravské kynologické unie"]
["Druh a stupeň",null,null,null,null,null,null," ","POTVRZENÍ O VYKONANÉ ZKOUŠCE NZŘ"]
[{"$f":"IF(Soupiska!W45=\"N\",Soupiska!B45,\"NE\")","v":"NE"},null,null,null,"A - STOPA",null,null,null,"ZM",null,"ZVV1",null,null,"ZPS1",null,null,"ZVV2",null,null,"ZVV3",null,null,"ZPS2",null,null,"ZPS2"]
[null,null,null,null,null,null,null,null,"ZMMP",null,"ZMP1",null,null,null,null,null,"ZMP2",null,null,"ZMP3",null,null,"A",null,null,"B"]
[null,null,null,null,"Vlastní - cizí",null,null,null,40,null,80,null,null,80,null,null,"80",null,null,80,null,null,80,null,null,80]
[null,null,null,null,"Předměty",null,null,null,10,null,20," ",null,20,null,null,20," ",null,20,null,null,20,null,null,20]
[null,null,null,null,"Celkem",null,null,null,50,{"$f":"SUM(J6:J7)","v":0},100,{"$f":"SUM(L6:M7)","v":0},null,100,{"$f":"SUM(O6:O7)","v":0},null,100,{"$f":"SUM(R6:S7)","v":0},null,100,{"$f":"SUM(U6:V7)","v":0},null,100,{"$f":"SUM(X6:Y7)","v":0},null,100,{"$f":"SUM(AA6:AB7)","v":0}]
[]
["Data psa-feny",null,null,null,null,null,null,null,"B - POSLUŠNOST",null,null,null,null,"ZM",null,null,"ZVV1,ZMP1",null,null,"ZVV2",null,null,"ZVV3,ZMP3",null,null,"ZZO"]
["Jméno:",null,{"$f":"Soupiska!C45","v":0},null,null,null,null,null,null,null,null,null,null,"ZMMP",null,null,"ZPS1,ZPO1",null,null,"ZMP2",null,null,"ZPS2,ZPO2"]
[null,null,null,null,null,null,null,null,null,null,null,null,null,null,null,null,"ZMPO,ZZO1",null,null,"ZZO2",null,null,"ZZO3"]
["Chovná",null,{"$f":"Soupiska!E45","v":0},null,null,null,null,null,"Přivolání psa",null,null,null,null,10,null,null,10," ",null,10," ",null,10," ",null,10]
["stanice:",null,null,null,null,null,null,null,"Ovladatelnost na vod.",null,null,null,null,10,"  ",null,10," ",null," X"," X",null," X"," X",null,10]
["Plemeno:",null,{"$f":"Soupiska!I45","v":0},null,null,null,null,null,"Ovladatelnost bez vod.",null,null,null,null," X"," X",null," X"," X",null,10," ",null,10,null,null," X"," X"]
["Pohlaví:",null,{"$f":"Soupiska!K45","v":0},null,null,null,null,null,"Polohy (S - L - V)",null,null,null,null,10,"  ",null,10," ",null,10,null," ","10"," ",null,10]
["Narozen",null,{"$f":"Soupiska!L45","v":"00:00:00"},null,null,null,null,null,"Odložení za pochodu",null,null,null,null," X"," X",null,10,null,null,10,null," ",10,null,null,10]
["Č.záp.:",null,{"$f":"Soupiska!N45","v":0},null,null,null,null,null,"Štěkání psa",null,null,null,null," X"," X",null,10," ",null,10,null," ",10," ",null," X"," X"]
["T.č./čip:",null,{"$f":"Soupiska!P45","v":0},null,null,null,null,null,"Aport volný",null,null,null,null,10," ",null,10," ",null,"X",null," X"," X"," X",null,10]
["Data psovoda",null,null,null,null,null,null,null,"Skok vysoký  (aport)",null,null,null,null," X"," X",null,10," ",null,10,null," "," X"," X",null," X"," X"]
["Jméno:",null,{"$f":"Soupiska!C46","v":0},null,null,null,null,null,"Skok šplhem  (aport)",null,null,null,null," X"," X",null,10," ",null," X","X",null,10," ",null," X"," X"]
["Příjmení:",null,{"$f":"Soupiska!E46","v":0},null,null,null,null,null,"Plížení",null,null,null,null," X"," X",null," X"," X",null,10,null," ",10," ",null," X"," X"]
["Bydliště:",null,{"$f":"Soupiska!I46","v":0},null,null,null,null,null,"Kladina (nízká/vysoká)",null,null,null,null," X"," X",null,10," ",null,10,null," ",10," ",null," X"," X"]
[null,null,null,null,null,null,null,null,"Vysílání",null,null,null,null," X"," X",null," X"," X",null,10,null,"  ",10,null,null," X"," X"]
["Narozen:",null,{"$f":"DATE(IF(MID(Soupiska!C47,1,2)*1 > YEAR(TODAY())-2000, 1900, 2000) + MID(Soupiska!C47,1,2), MOD(MID(Soupiska!C47,3,2),50), MID(Soupiska!C47,5,2))","v":{"$error":"#VALUE!"}},null,null,null,null,null,"Odložení psa",null,null,null,null,10," ",null,10," ",null,10,null," ",10," ",null,10]
["Člen ZO:",null,{"$f":"Soupiska!I47","v":0},null,null,null,null,null,"Celkem",null,null,null,null,50,{"$f":"SUM(O13:P25)","v":0},null,100,{"$f":"SUM(R13:S25)","v":0},null,100,{"$f":"SUM(U13:V25)","v":0},null,100,{"$f":"SUM(X13:Y25)","v":0},null,60,{"$f":"SUM(AA13:AB25)","v":0}]
[]
["Data akce",null,null,null,null,null,"C - OBRANA",null,null,null,"ZM",null,null,"ZVV1 ",null,null,"ZVV2",null,null,"ZVV3",null,null,"ZPO1",null,null,"ZPO2"]
["Datum:",null,{"$f":"Soupiska!T6","v":"00:00:00"},null,null,null,"Průzkum terénu",null,null,null,10," ",null,10," ",null,10,null,null,10,null,null,10,null,null,20," "]
[null,null,null,null,null,null,"Vyštěkání",null,null,null,10," ",null,10,null,null,10,null,null,10,null,null,10,null,null,20]
["Místo:",null,{"$f":"Soupiska!P5","v":0},null,null,null,"Prohl., výsl., dopr.",null,null,null," X"," X",null,"10/10",null," ","10/10",null," ",10,null," ",10," ",null,20]
[null,null,null,null,null,null,"Ochrana psovoda",null,null,null,"15",null,null," 15/5",null,null," 15/5",null,null,"20/5",null,null,"20/5",null,null,"40/10",null," "]
["Vedoucí zkoušek:",null,{"$f":"Soupiska!D6","v":0},null,null,null,"Hlídání pomocníka 2+1",null,null,null," X"," X",null," X"," X",null," X"," X",null,20,null,null,20,null,null,40,null," "]
[null,null,null,null,null,null,"Samost. činnost psa (zadržení pomocníka)",null,null,null,"15",null,null," 15/5",null," "," 15/5",null," ","20/5",null,null,"20/5",null,null,"40/10",null," "]
["Rozhodčí:",null,{"$f":"Soupiska!P6","v":0},null,null,null,"Odolnost psa",null,null,null,"X","X",null," 15/5",null," "," 15/5",null," ","X","X",null,"X","X",null,"X","X"]
[null,null,null,null,null,null,"Celkem",null,null,null,50,{"$f":"SUM(L29:M35)","v":0},null,100,{"$f":"SUM(O29:P35)","v":0},null,100,{"$f":"SUM(R29:S35)","v":0},null,100,{"$f":"SUM(U29:V35)","v":0},null,100,{"$f":"SUM(X29:Y35)","v":0},null,200,{"$f":"SUM(AA29:AB35)","v":0}]
[" ",null,null,null,null,null,null,null," ",null,null,null,null,null,null," ",null,null," "," ",null," "," ",null," "," ",null," "]
["Výsledek zkoušky",null,null,null,null,null,"D - SPEC .CVIKY",null,null,null,"ZMMP",null,null,"ZMMP1",null,null,"ZMMP2",null,null,"ZMMP3",null,null,"ZPMO",null,null,"ZZO"]
["A   stopa",null,null,{"$f":"J8+L8+O8+R8+U8+X8+AA8","v":0},null,null,"Přivol.psa za ztíž.p.",null,null,null," X"," X",null," X"," X",null," X"," X",null," X"," X",null," X"," X",null,"PV-P-N"," "]
[null,null,null,null,null,null,"Chov.psa ve sk.osob",null,null,null," X"," X",null," X"," X",null," X"," X",null," X"," X",null," X"," X",null,"PV-P-N"," "]
["B  poslušnost",null,null,{"$f":"O26+R26+U26+X26+AA26","v":0},null,null,"Chov.přiváz. psa",null,null,null," X"," X",null," X"," X",null," X"," X",null," X"," X",null," X"," X",null,"PV-P-N"," "]
[null,null,null,null,null,null,"Rozlišování předm.",null,null,null,"10/10",null,null,"15/15",null,null,"15/15",null,null," X"," X",null," X"," X",null," X"," X"]
["C   obrana ",null,null,{"$f":"L36+O36+R36+U36+X36+AA36","v":0},null,null,"Rozlišování osoby",null,null,null," X"," X",null," X"," X",null," X"," X",null," 15/5",null,null," X"," X",null," X"," X"]
[null,null,null,null,null,null,"Vyhledání předm.",null,null,null," 15/5",null,null," 24/6",null," "," 24/6",null,null," 24/6",null," "," X"," X",null," X"," X"]
["D    spec. cviky",null,null,{"$f":"IF(AA51=\" \",L51+O51+R51+U51+X51,AA51)","v":0},null,null,"Ztracený předmět",null,null,null,10,null,null,20," ",null,20,null,null,20,null,null," X"," X",null," X"," X"]
[null,null,null,null,null,null,"Průzk.terénu/vyšť.",null,null,null," X"," X",null,"10/10",null," ","10/10",null,null,"10/10",null,null,"10/10",null,null," X"," X"]
["CELKEM",null,{"$f":"VLOOKUP(A4,TYPY!A$1:D$65536,4,FALSE)","v":{"$error":"#N/A"}},{"$f":"IF(AA51=\" \",D39+D41+D43+D45,D39+D41+D43)","v":0},null,null,"Zajištění figuranta",null,null,null," X"," X",null," X"," X",null," X"," X",null," X"," X",null,10,null,null," X"," X"]
[null,null,null,null,null,null,"Doprovod figuranta",null,null,null," X"," X",null," X"," X",null," X"," X",null," X","X"," X",10,null,null," X"," X"]
["ZNÁMKA",null,null,null,null,null,"Napadení psovoda",null,null,null," X"," X",null," X"," X",null," X"," X",null," X","X"," X",30,null,null," X"," X"]
[{"$f":"IF(D47>0,IFERROR(IF(C47=300,VLOOKUP(D47,TYPY!$B$44:$C$135,2,FALSE),IF(C47=200,VLOOKUP(D47,TYPY!$N$44:$O$105,2,FALSE),IF(C47=150,VLOOKUP(D47,TYPY!$L$44:$M$90,2,FALSE),IF(C47=100,VLOOKUP(D47,TYPY!$F$44:$G$75,2,FALSE),IF(C47=60,IF(D45=\"N\",\"N\",VLOOKUP(D47,TYPY!$J$44:$K$63,2,FALSE)),\"N\"))))),\"N\"),\" \")","v":" "},null,null,null,null,null,"Hlídání  předm.",null,null,null," X"," X",null," X"," X",null," X"," X",null," X","X"," X",30,null,null," X"," X"]
[null,null,null,null,null,null,"Celkem",null,null,null,50,{"$f":"SUM(L42:M45)","v":0},null,100,{"$f":"SUM(P39:P50)","v":0},null,100,{"$f":"SUM(R42:S46)","v":0},null,100,{"$f":"SUM(U43:V46)","v":0},null,100,{"$f":"SUM(X46:Y50)","v":0},null,"PV-P-N"]
[]
[" ",null,null,null,null,null,null,null,null,null," ",null,null,null,null,null," "]
[]
[]
[]
["Razítko organizace",null,null,null,null,null,null,null,null,null,"Podpis ved.  zkoušek",null,null,null,null,null,"Podpis a razítko rozhočího"]

{"sheet":"NZR13","index":42,"n_rows":57,"n_cols":28,"rows_kept":57,"cut":false,"hidden":true,"merged":[[52,0,55,8],[52,10,55,13],[52,16,55,27],[56,0,56,8],[56,10,56,13],[56,16,56,25],[49,23,49,24],[49,26,49,27],[50,6,50,9],[50,11,50,12],[50,14,50,15],[50,17,50,18],[50,20,50,21],[50,23,50,24],[50,26,50,27],[49,0,50,4],[49,6,49,9],[49,11,49,12],[49,14,49,15],[49,17,49,18],[49,20,49,21],[48,0,48,4],[48,6,48,9],[48,11,48,12],[48,14,48,15],[48,17,48,18],[48,20,48,21],[48,23,48,24],[48,26,48,27],[46,0,47,1],[46,2,47,2],[46,3,47,4],[46,17,46,18],[46,20,46,21],[46,23,46,24],[46,26,46,27],[47,6,47,9],[47,11,47,12],[47,14,47,15],[47,17,47,18],[47,20,47,21],[47,23,47,24],[46,6,46,9],[46,11,46,12],[46,14,46,15],[47,26,47,27],[44,17,44,18],[44,20,44,21],[44,23,44,24],[44,26,44,27],[45,6,45,9],[45,11,45,12],[45,26,45,27],[42,23,42,24],[42,26,42,27],[43,6,43,9],[43,23,43,24],[43,26,43,27],[42,17,42,18],[44,0,45,2],[44,3,45,4],[44,6,44,9],[44,11,44,12],[44,14,44,15],[42,0,43,2],[42,3,43,4],[42,6,42,9],[42,11,42,12],[42,14,42,15],[40,20,40,21],[40,23,40,24],[40,26,40,27],[41,6,41,9],[41,20,41,21],[41,23,41,24],[41,26,41,27],[40,0,41,2],[40,3,41,4],[40,6,40,9],[40,11,40,12],[40,14,40,15],[40,17,40,18],[38,26,38,27],[39,6,39,9],[39,11,39,12],[39,14,39,15],[39,17,39,18],[39,20,39,21],[39,23,39,24],[39,26,39,27],[37,22,37,24],[37,25,37,27],[38,0,39,2],[38,3,39,4],[38,6,38,9],[38,11,38,12],[38,14,38,15],[38,17,38,18],[38,20,38,21],[38,23,38,24],[37,0,37,4],[37,6,37,9],[37,10,37,12],[37,13,37,15],[37,16,37,18],[37,19,37,21],[35,11,35,12],[35,14,35,15],[35,17,35,18],[35,20,35,21],[35,23,35,24],[35,26,35,27],[32,23,32,24],[33,6,33,9],[33,11,33,12],[34,0,35,1],[34,2,35,4],[34,6,34,9],[34,11,34,12],[34,20,34,21],[34,23,34,24],[30,26,30,27],[31,6,31,9],[31,11,31,12],[32,0,33,1],[32,2,33,4],[32,6,32,9],[32,11,32,12],[32,14,32,15],[32,17,32,18],[32,20,32,21],[30,0,31,1],[30,2,31,4],[30,6,30,9],[30,11,30,12],[30,20,30,21],[30,23,30,24],[34,26,34,27],[35,6,35,9],[28,26,28,27],[29,6,29,9],[29,11,29,12],[29,14,29,15],[29,17,29,18],[29,20,29,21],[29,23,29,24],[29,26,29,27],[27,22,27,24],[27,25,27,27],[28,0,29,1],[28,2,29,4],[28,6,28,9],[28,11,28,12],[28,14,28,15],[28,17,28,18],[28,20,28,21],[28,23,28,24],[27,0,27,4],[27,6,27,9],[27,10,27,12],[27,13,27,15],[27,16,27,18],[27,19,27,21],[24,23,24,24],[24,26,24,27],[25,0,25,1],[25,2,25,6],[25,8,25,12],[25,14,25,15],[25,17,25,18],[25,20,25,21],[25,23,25,24],[25,26,25,27],[24,0,24,1],[24,2,24,6],[24,8,24,12],[24,14,24,15],[24,17,24,18],[24,20,24,21],[22,23,22,24],[22,26,22,27],[23,8,23,12],[23,14,23,15],[23,17,23,18],[23,20,23,21],[23,23,23,24],[23,26,23,27],[22,0,23,1],[22,2,23,6],[22,8,22,12],[22,14,22,15],[22,17,22,18],[22,20,22,21],[20,23,20,24],[20,26,20,27],[21,0,21,1],[21,2,21,6],[21,8,21,12],[21,14,21,15],[21,17,21,18],[21,20,21,21],[21,23,21,24],[21,26,21,27],[20,0,20,1],[20,2,20,6],[20,8,20,12],[20,14,20,15],[20,17,20,18],[20,20,20,21],[18,26,18,27],[19,0,19,6],[19,8,19,12],[19,14,19,15],[19,17,19,18],[19,20,19,21],[19,23,19,24],[19,26,19,27],[18,2,18,6],[18,8,18,12],[18,14,18,15],[18,17,18,18],[18,20,18,21],[18,23,18,24],[16,26,16,27],[17,2,17,6],[17,8,17,12],[17,14,17,15],[17,17,17,18],[17,20,17,21],[17,23,17,24],[17,26,17,27],[16,2,16,6],[16,8,16,12],[16,14,16,15],[16,17,16,18],[16,20,16,21],[16,23,16,24],[14,26,14,27],[15,2,15,6],[15,8,15,12],[15,14,15,15],[15,17,15,18],[15,20,15,21],[15,23,15,24],[15,26,15,27],[14,2,14,6],[14,8,14,12],[14,14,14,15],[14,17,14,18],[14,20,14,21],[14,23,14,24],[12,23,12,24],[12,26,12,27],[13,0,13,1],[13,8,13,12],[13,14,13,15],[13,17,13,18],[13,20,13,21],[13,23,13,24],[13,26,13,27],[12,0,12,1],[12,2,13,6],[12,8,12,12],[12,14,12,15],[12,17,12,18],[12,20,12,21],[10,13,11,15],[10,16,10,18],[10,19,10,21],[10,22,10,24],[11,16,11,18],[11,19,11,21],[11,22,11,24],[7,26,7,27],[9,0,9,6],[9,8,11,12],[9,13,9,15],[9,16,9,18],[9,19,9,21],[9,22,9,24],[9,25,11,27],[10,0,11,1],[10,2,11,6],[7,4,7,6],[7,11,7,12],[7,14,7,15],[7,17,7,18],[7,20,7,21],[7,23,7,24],[6,20,6,21],[6,23,6,24],[6,26,6,27],[5,4,5,6],[5,11,5,12],[5,14,5,15],[5,17,5,18],[5,20,5,21],[5,23,5,24],[0,7,0,27],[1,8,1,27],[2,0,2,2],[2,8,2,27],[3,0,6,2],[3,4,4,6],[3,8,3,9],[3,10,3,12],[3,13,4,15],[3,16,3,18],[3,19,3,21],[3,22,3,24],[3,25,3,27],[4,8,4,9],[4,10,4,12],[4,16,4,18],[4,19,4,21],[4,22,4,24],[4,25,4,27],[5,26,5,27],[6,4,6,6],[6,11,6,12],[6,14,6,15],[6,17,6,18]]}
[null,null,null,null,null,null,null,"  MORAVSKOSLEZSKÝ KYNOLOGICKÝ SVAZ, z. s."]
[null,null,null,null,null,null,null," ","Člen FCI prostřednictvím Českomoravské kynologické unie"]
["Druh a stupeň",null,null,null,null,null,null," ","POTVRZENÍ O VYKONANÉ ZKOUŠCE NZŘ"]
[{"$f":"IF(Soupiska!W48=\"N\",Soupiska!B48,\"NE\")","v":"NE"},null,null,null,"A - STOPA",null,null,null,"ZM",null,"ZVV1",null,null,"ZPS1",null,null,"ZVV2",null,null,"ZVV3",null,null,"ZPS2",null,null,"ZPS2"]
[null,null,null,null,null,null,null,null,"ZMMP",null,"ZMP1",null,null,null,null,null,"ZMP2",null,null,"ZMP3",null,null,"A",null,null,"B"]
[null,null,null,null,"Vlastní - cizí",null,null,null,40,null,80,null,null,80,null,null,"80",null,null,80,null,null,80,null,null,80]
[null,null,null,null,"Předměty",null,null,null,10,null,20," ",null,20,null,null,20," ",null,20,null,null,20,null,null,20]
[null,null,null,null,"Celkem",null,null,null,50,{"$f":"SUM(J6:J7)","v":0},100,{"$f":"SUM(L6:M7)","v":0},null,100,{"$f":"SUM(O6:O7)","v":0},null,100,{"$f":"SUM(R6:S7)","v":0},null,100,{"$f":"SUM(U6:V7)","v":0},null,100,{"$f":"SUM(X6:Y7)","v":0},null,100,{"$f":"SUM(AA6:AB7)","v":0}]
[]
["Data psa-feny",null,null,null,null,null,null,null,"B - POSLUŠNOST",null,null,null,null,"ZM",null,null,"ZVV1,ZMP1",null,null,"ZVV2",null,null,"ZVV3,ZMP3",null,null,"ZZO"]
["Jméno:",null,{"$f":"Soupiska!C48","v":0},null,null,null,null,null,null,null,null,null,null,"ZMMP",null,null,"ZPS1,ZPO1",null,null,"ZMP2",null,null,"ZPS2,ZPO2"]
[null,null,null,null,null,null,null,null,null,null,null,null,null,null,null,null,"ZMPO,ZZO1",null,null,"ZZO2",null,null,"ZZO3"]
["Chovná",null,{"$f":"Soupiska!E48","v":0},null,null,null,null,null,"Přivolání psa",null,null,null,null,10,null,null,10," ",null,10," ",null,10," ",null,10]
["stanice:",null,null,null,null,null,null,null,"Ovladatelnost na vod.",null,null,null,null,10,"  ",null,10," ",null," X"," X",null," X"," X",null,10]
["Plemeno:",null,{"$f":"Soupiska!I48","v":0},null,null,null,null,null,"Ovladatelnost bez vod.",null,null,null,null," X"," X",null," X"," X",null,10," ",null,10,null,null," X"," X"]
["Pohlaví:",null,{"$f":"Soupiska!K48","v":0},null,null,null,null,null,"Polohy (S - L - V)",null,null,null,null,10,"  ",null,10," ",null,10,null," ","10"," ",null,10]
["Narozen",null,{"$f":"Soupiska!L48","v":"00:00:00"},null,null,null,null,null,"Odložení za pochodu",null,null,null,null," X"," X",null,10,null,null,10,null," ",10,null,null,10]
["Č.záp.:",null,{"$f":"Soupiska!N48","v":0},null,null,null,null,null,"Štěkání psa",null,null,null,null," X"," X",null,10," ",null,10,null," ",10," ",null," X"," X"]
["T.č./čip:",null,{"$f":"Soupiska!P48","v":0},null,null,null,null,null,"Aport volný",null,null,null,null,10," ",null,10," ",null,"X",null," X"," X"," X",null,10]
["Data psovoda",null,null,null,null,null,null,null,"Skok vysoký  (aport)",null,null,null,null," X"," X",null,10," ",null,10,null," "," X"," X",null," X"," X"]
["Jméno:",null,{"$f":"Soupiska!C49","v":0},null,null,null,null,null,"Skok šplhem  (aport)",null,null,null,null," X"," X",null,10," ",null," X","X",null,10," ",null," X"," X"]
["Příjmení:",null,{"$f":"Soupiska!E49","v":0},null,null,null,null,null,"Plížení",null,null,null,null," X"," X",null," X"," X",null,10,null," ",10," ",null," X"," X"]
["Bydliště:",null,{"$f":"Soupiska!I49","v":0},null,null,null,null,null,"Kladina (nízká/vysoká)",null,null,null,null," X"," X",null,10," ",null,10,null," ",10," ",null," X"," X"]
[null,null,null,null,null,null,null,null,"Vysílání",null,null,null,null," X"," X",null," X"," X",null,10,null,"  ",10,null,null," X"," X"]
["Narozen:",null,{"$f":"DATE(IF(MID(Soupiska!C50,1,2)*1 > YEAR(TODAY())-2000, 1900, 2000) + MID(Soupiska!C50,1,2), MOD(MID(Soupiska!C50,3,2),50), MID(Soupiska!C50,5,2))","v":{"$error":"#VALUE!"}},null,null,null,null,null,"Odložení psa",null,null,null,null,10," ",null,10," ",null,10,null," ",10," ",null,10]
["Člen ZO:",null,{"$f":"Soupiska!I50","v":0},null,null,null,null,null,"Celkem",null,null,null,null,50,{"$f":"SUM(O13:P25)","v":0},null,100,{"$f":"SUM(R13:S25)","v":0},null,100,{"$f":"SUM(U13:V25)","v":0},null,100,{"$f":"SUM(X13:Y25)","v":0},null,60,{"$f":"SUM(AA13:AB25)","v":0}]
[]
["Data akce",null,null,null,null,null,"C - OBRANA",null,null,null,"ZM",null,null,"ZVV1 ",null,null,"ZVV2",null,null,"ZVV3",null,null,"ZPO1",null,null,"ZPO2"]
["Datum:",null,{"$f":"Soupiska!T6","v":"00:00:00"},null,null,null,"Průzkum terénu",null,null,null,10," ",null,10," ",null,10,null,null,10,null,null,10,null,null,20," "]
[null,null,null,null,null,null,"Vyštěkání",null,null,null,10," ",null,10,null,null,10,null,null,10,null,null,10,null,null,20]
["Místo:",null,{"$f":"Soupiska!P5","v":0},null,null,null,"Prohl., výsl., dopr.",null,null,null," X"," X",null,"10/10",null," ","10/10",null," ",10,null," ",10," ",null,20]
[null,null,null,null,null,null,"Ochrana psovoda",null,null,null,"15",null,null," 15/5",null,null," 15/5",null,null,"20/5",null,null,"20/5",null,null,"40/10",null," "]
["Vedoucí zkoušek:",null,{"$f":"Soupiska!D6","v":0},null,null,null,"Hlídání pomocníka 2+1",null,null,null," X"," X",null," X"," X",null," X"," X",null,20,null,null,20,null,null,40,null," "]
[null,null,null,null,null,null,"Samost. činnost psa (zadržení pomocníka)",null,null,null,"15",null,null," 15/5",null," "," 15/5",null," ","20/5",null,null,"20/5",null,null,"40/10",null," "]
["Rozhodčí:",null,{"$f":"Soupiska!P6","v":0},null,null,null,"Odolnost psa",null,null,null,"X","X",null," 15/5",null," "," 15/5",null," ","X","X",null,"X","X",null,"X","X"]
[null,null,null,null,null,null,"Celkem",null,null,null,50,{"$f":"SUM(L29:M35)","v":0},null,100,{"$f":"SUM(O29:P35)","v":0},null,100,{"$f":"SUM(R29:S35)","v":0},null,100,{"$f":"SUM(U29:V35)","v":0},null,100,{"$f":"SUM(X29:Y35)","v":0},null,200,{"$f":"SUM(AA29:AB35)","v":0}]
[" ",null,null,null,null,null,null,null," ",null,null,null,null,null,null," ",null,null," "," ",null," "," ",null," "," ",null," "]
["Výsledek zkoušky",null,null,null,null,null,"D - SPEC .CVIKY",null,null,null,"ZMMP",null,null,"ZMMP1",null,null,"ZMMP2",null,null,"ZMMP3",null,null,"ZPMO",null,null,"ZZO"]
["A   stopa",null,null,{"$f":"J8+L8+O8+R8+U8+X8+AA8","v":0},null,null,"Přivol.psa za ztíž.p.",null,null,null," X"," X",null," X"," X",null," X"," X",null," X"," X",null," X"," X",null,"PV-P-N"," "]
[null,null,null,null,null,null,"Chov.psa ve sk.osob",null,null,null," X"," X",null," X"," X",null," X"," X",null," X"," X",null," X"," X",null,"PV-P-N"," "]
["B  poslušnost",null,null,{"$f":"O26+R26+U26+X26+AA26","v":0},null,null,"Chov.přiváz. psa",null,null,null," X"," X",null," X"," X",null," X"," X",null," X"," X",null," X"," X",null,"PV-P-N"," "]
[null,null,null,null,null,null,"Rozlišování předm.",null,null,null,"10/10",null,null,"15/15",null,null,"15/15",null,null," X"," X",null," X"," X",null," X"," X"]
["C   obrana ",null,null,{"$f":"L36+O36+R36+U36+X36+AA36","v":0},null,null,"Rozlišování osoby",null,null,null," X"," X",null," X"," X",null," X"," X",null," 15/5",null,null," X"," X",null," X"," X"]
[null,null,null,null,null,null,"Vyhledání předm.",null,null,null," 15/5",null,null," 24/6",null," "," 24/6",null,null," 24/6",null," "," X"," X",null," X"," X"]
["D    spec. cviky",null,null,{"$f":"IF(AA51=\" \",L51+O51+R51+U51+X51,AA51)","v":0},null,null,"Ztracený předmět",null,null,null,10,null,null,20," ",null,20,null,null,20,null,null," X"," X",null," X"," X"]
[null,null,null,null,null,null,"Průzk.terénu/vyšť.",null,null,null," X"," X",null,"10/10",null," ","10/10",null,null,"10/10",null,null,"10/10",null,null," X"," X"]
["CELKEM",null,{"$f":"VLOOKUP(A4,TYPY!A$1:D$65536,4,FALSE)","v":{"$error":"#N/A"}},{"$f":"IF(AA51=\" \",D39+D41+D43+D45,D39+D41+D43)","v":0},null,null,"Zajištění figuranta",null,null,null," X"," X",null," X"," X",null," X"," X",null," X"," X",null,10,null,null," X"," X"]
[null,null,null,null,null,null,"Doprovod figuranta",null,null,null," X"," X",null," X"," X",null," X"," X",null," X","X"," X",10,null,null," X"," X"]
["ZNÁMKA",null,null,null,null,null,"Napadení psovoda",null,null,null," X"," X",null," X"," X",null," X"," X",null," X","X"," X",30,null,null," X"," X"]
[{"$f":"IF(D47>0,IFERROR(IF(C47=300,VLOOKUP(D47,TYPY!$B$44:$C$135,2,FALSE),IF(C47=200,VLOOKUP(D47,TYPY!$N$44:$O$105,2,FALSE),IF(C47=150,VLOOKUP(D47,TYPY!$L$44:$M$90,2,FALSE),IF(C47=100,VLOOKUP(D47,TYPY!$F$44:$G$75,2,FALSE),IF(C47=60,IF(D45=\"N\",\"N\",VLOOKUP(D47,TYPY!$J$44:$K$63,2,FALSE)),\"N\"))))),\"N\"),\" \")","v":" "},null,null,null,null,null,"Hlídání  předm.",null,null,null," X"," X",null," X"," X",null," X"," X",null," X","X"," X",30,null,null," X"," X"]
[null,null,null,null,null,null,"Celkem",null,null,null,50,{"$f":"SUM(L42:M45)","v":0},null,100,{"$f":"SUM(P39:P50)","v":0},null,100,{"$f":"SUM(R42:S46)","v":0},null,100,{"$f":"SUM(U43:V46)","v":0},null,100,{"$f":"SUM(X46:Y50)","v":0},null,"PV-P-N"]
[]
[" ",null,null,null,null,null,null,null,null,null," ",null,null,null,null,null," "]
[]
[]
[]
["Razítko organizace",null,null,null,null,null,null,null,null,null,"Podpis ved.  zkoušek",null,null,null,null,null,"Podpis a razítko rozhočího"]

{"sheet":"NZR14","index":43,"n_rows":57,"n_cols":28,"rows_kept":57,"cut":false,"hidden":true,"merged":[[52,0,55,8],[52,10,55,13],[52,16,55,27],[56,0,56,8],[56,10,56,13],[56,16,56,25],[49,23,49,24],[49,26,49,27],[50,6,50,9],[50,11,50,12],[50,14,50,15],[50,17,50,18],[50,20,50,21],[50,23,50,24],[50,26,50,27],[49,0,50,4],[49,6,49,9],[49,11,49,12],[49,14,49,15],[49,17,49,18],[49,20,49,21],[48,0,48,4],[48,6,48,9],[48,11,48,12],[48,14,48,15],[48,17,48,18],[48,20,48,21],[48,23,48,24],[48,26,48,27],[46,0,47,1],[46,2,47,2],[46,3,47,4],[46,17,46,18],[46,20,46,21],[46,23,46,24],[46,26,46,27],[47,6,47,9],[47,11,47,12],[47,14,47,15],[47,17,47,18],[47,20,47,21],[47,23,47,24],[46,6,46,9],[46,11,46,12],[46,14,46,15],[47,26,47,27],[44,17,44,18],[44,20,44,21],[44,23,44,24],[44,26,44,27],[45,6,45,9],[45,11,45,12],[45,26,45,27],[42,23,42,24],[42,26,42,27],[43,6,43,9],[43,23,43,24],[43,26,43,27],[42,17,42,18],[44,0,45,2],[44,3,45,4],[44,6,44,9],[44,11,44,12],[44,14,44,15],[42,0,43,2],[42,3,43,4],[42,6,42,9],[42,11,42,12],[42,14,42,15],[40,20,40,21],[40,23,40,24],[40,26,40,27],[41,6,41,9],[41,20,41,21],[41,23,41,24],[41,26,41,27],[40,0,41,2],[40,3,41,4],[40,6,40,9],[40,11,40,12],[40,14,40,15],[40,17,40,18],[38,26,38,27],[39,6,39,9],[39,11,39,12],[39,14,39,15],[39,17,39,18],[39,20,39,21],[39,23,39,24],[39,26,39,27],[37,22,37,24],[37,25,37,27],[38,0,39,2],[38,3,39,4],[38,6,38,9],[38,11,38,12],[38,14,38,15],[38,17,38,18],[38,20,38,21],[38,23,38,24],[37,0,37,4],[37,6,37,9],[37,10,37,12],[37,13,37,15],[37,16,37,18],[37,19,37,21],[35,11,35,12],[35,14,35,15],[35,17,35,18],[35,20,35,21],[35,23,35,24],[35,26,35,27],[32,23,32,24],[33,6,33,9],[33,11,33,12],[34,0,35,1],[34,2,35,4],[34,6,34,9],[34,11,34,12],[34,20,34,21],[34,23,34,24],[30,26,30,27],[31,6,31,9],[31,11,31,12],[32,0,33,1],[32,2,33,4],[32,6,32,9],[32,11,32,12],[32,14,32,15],[32,17,32,18],[32,20,32,21],[30,0,31,1],[30,2,31,4],[30,6,30,9],[30,11,30,12],[30,20,30,21],[30,23,30,24],[34,26,34,27],[35,6,35,9],[28,26,28,27],[29,6,29,9],[29,11,29,12],[29,14,29,15],[29,17,29,18],[29,20,29,21],[29,23,29,24],[29,26,29,27],[27,22,27,24],[27,25,27,27],[28,0,29,1],[28,2,29,4],[28,6,28,9],[28,11,28,12],[28,14,28,15],[28,17,28,18],[28,20,28,21],[28,23,28,24],[27,0,27,4],[27,6,27,9],[27,10,27,12],[27,13,27,15],[27,16,27,18],[27,19,27,21],[24,23,24,24],[24,26,24,27],[25,0,25,1],[25,2,25,6],[25,8,25,12],[25,14,25,15],[25,17,25,18],[25,20,25,21],[25,23,25,24],[25,26,25,27],[24,0,24,1],[24,2,24,6],[24,8,24,12],[24,14,24,15],[24,17,24,18],[24,20,24,21],[22,23,22,24],[22,26,22,27],[23,8,23,12],[23,14,23,15],[23,17,23,18],[23,20,23,21],[23,23,23,24],[23,26,23,27],[22,0,23,1],[22,2,23,6],[22,8,22,12],[22,14,22,15],[22,17,22,18],[22,20,22,21],[20,23,20,24],[20,26,20,27],[21,0,21,1],[21,2,21,6],[21,8,21,12],[21,14,21,15],[21,17,21,18],[21,20,21,21],[21,23,21,24],[21,26,21,27],[20,0,20,1],[20,2,20,6],[20,8,20,12],[20,14,20,15],[20,17,20,18],[20,20,20,21],[18,26,18,27],[19,0,19,6],[19,8,19,12],[19,14,19,15],[19,17,19,18],[19,20,19,21],[19,23,19,24],[19,26,19,27],[18,2,18,6],[18,8,18,12],[18,14,18,15],[18,17,18,18],[18,20,18,21],[18,23,18,24],[16,26,16,27],[17,2,17,6],[17,8,17,12],[17,14,17,15],[17,17,17,18],[17,20,17,21],[17,23,17,24],[17,26,17,27],[16,2,16,6],[16,8,16,12],[16,14,16,15],[16,17,16,18],[16,20,16,21],[16,23,16,24],[14,26,14,27],[15,2,15,6],[15,8,15,12],[15,14,15,15],[15,17,15,18],[15,20,15,21],[15,23,15,24],[15,26,15,27],[14,2,14,6],[14,8,14,12],[14,14,14,15],[14,17,14,18],[14,20,14,21],[14,23,14,24],[12,23,12,24],[12,26,12,27],[13,0,13,1],[13,8,13,12],[13,14,13,15],[13,17,13,18],[13,20,13,21],[13,23,13,24],[13,26,13,27],[12,0,12,1],[12,2,13,6],[12,8,12,12],[12,14,12,15],[12,17,12,18],[12,20,12,21],[10,13,11,15],[10,16,10,18],[10,19,10,21],[10,22,10,24],[11,16,11,18],[11,19,11,21],[11,22,11,24],[7,26,7,27],[9,0,9,6],[9,8,11,12],[9,13,9,15],[9,16,9,18],[9,19,9,21],[9,22,9,24],[9,25,11,27],[10,0,11,1],[10,2,11,6],[7,4,7,6],[7,11,7,12],[7,14,7,15],[7,17,7,18],[7,20,7,21],[7,23,7,24],[6,20,6,21],[6,23,6,24],[6,26,6,27],[5,4,5,6],[5,11,5,12],[5,14,5,15],[5,17,5,18],[5,20,5,21],[5,23,5,24],[0,7,0,27],[1,8,1,27],[2,0,2,2],[2,8,2,27],[3,0,6,2],[3,4,4,6],[3,8,3,9],[3,10,3,12],[3,13,4,15],[3,16,3,18],[3,19,3,21],[3,22,3,24],[3,25,3,27],[4,8,4,9],[4,10,4,12],[4,16,4,18],[4,19,4,21],[4,22,4,24],[4,25,4,27],[5,26,5,27],[6,4,6,6],[6,11,6,12],[6,14,6,15],[6,17,6,18]]}
[null,null,null,null,null,null,null,"  MORAVSKOSLEZSKÝ KYNOLOGICKÝ SVAZ, z. s."]
[null,null,null,null,null,null,null," ","Člen FCI prostřednictvím Českomoravské kynologické unie"]
["Druh a stupeň",null,null,null,null,null,null," ","POTVRZENÍ O VYKONANÉ ZKOUŠCE NZŘ"]
[{"$f":"IF(Soupiska!W51=\"N\",Soupiska!B51,\"NE\")","v":"NE"},null,null,null,"A - STOPA",null,null,null,"ZM",null,"ZVV1",null,null,"ZPS1",null,null,"ZVV2",null,null,"ZVV3",null,null,"ZPS2",null,null,"ZPS2"]
[null,null,null,null,null,null,null,null,"ZMMP",null,"ZMP1",null,null,null,null,null,"ZMP2",null,null,"ZMP3",null,null,"A",null,null,"B"]
[null,null,null,null,"Vlastní - cizí",null,null,null,40,null,80,null,null,80,null,null,"80",null,null,80,null,null,80,null,null,80]
[null,null,null,null,"Předměty",null,null,null,10,null,20," ",null,20,null,null,20," ",null,20,null,null,20,null,null,20]
[null,null,null,null,"Celkem",null,null,null,50,{"$f":"SUM(J6:J7)","v":0},100,{"$f":"SUM(L6:M7)","v":0},null,100,{"$f":"SUM(O6:O7)","v":0},null,100,{"$f":"SUM(R6:S7)","v":0},null,100,{"$f":"SUM(U6:V7)","v":0},null,100,{"$f":"SUM(X6:Y7)","v":0},null,100,{"$f":"SUM(AA6:AB7)","v":0}]
[]
["Data psa-feny",null,null,null,null,null,null,null,"B - POSLUŠNOST",null,null,null,null,"ZM",null,null,"ZVV1,ZMP1",null,null,"ZVV2",null,null,"ZVV3,ZMP3",null,null,"ZZO"]
["Jméno:",null,{"$f":"Soupiska!C51","v":0},null,null,null,null,null,null,null,null,null,null,"ZMMP",null,null,"ZPS1,ZPO1",null,null,"ZMP2",null,null,"ZPS2,ZPO2"]
[null,null,null,null,null,null,null,null,null,null,null,null,null,null,null,null,"ZMPO,ZZO1",null,null,"ZZO2",null,null,"ZZO3"]
["Chovná",null,{"$f":"Soupiska!E51","v":0},null,null,null,null,null,"Přivolání psa",null,null,null,null,10,null,null,10," ",null,10," ",null,10," ",null,10]
["stanice:",null,null,null,null,null,null,null,"Ovladatelnost na vod.",null,null,null,null,10,"  ",null,10," ",null," X"," X",null," X"," X",null,10]
["Plemeno:",null,{"$f":"Soupiska!I51","v":0},null,null,null,null,null,"Ovladatelnost bez vod.",null,null,null,null," X"," X",null," X"," X",null,10," ",null,10,null,null," X"," X"]
["Pohlaví:",null,{"$f":"Soupiska!K51","v":0},null,null,null,null,null,"Polohy (S - L - V)",null,null,null,null,10,"  ",null,10," ",null,10,null," ","10"," ",null,10]
["Narozen",null,{"$f":"Soupiska!L51","v":"00:00:00"},null,null,null,null,null,"Odložení za pochodu",null,null,null,null," X"," X",null,10,null,null,10,null," ",10,null,null,10]
["Č.záp.:",null,{"$f":"Soupiska!N51","v":0},null,null,null,null,null,"Štěkání psa",null,null,null,null," X"," X",null,10," ",null,10,null," ",10," ",null," X"," X"]
["T.č./čip:",null,{"$f":"Soupiska!P51","v":0},null,null,null,null,null,"Aport volný",null,null,null,null,10," ",null,10," ",null,"X",null," X"," X"," X",null,10]
["Data psovoda",null,null,null,null,null,null,null,"Skok vysoký  (aport)",null,null,null,null," X"," X",null,10," ",null,10,null," "," X"," X",null," X"," X"]
["Jméno:",null,{"$f":"Soupiska!C52","v":0},null,null,null,null,null,"Skok šplhem  (aport)",null,null,null,null," X"," X",null,10," ",null," X","X",null,10," ",null," X"," X"]
["Příjmení:",null,{"$f":"Soupiska!E52","v":0},null,null,null,null,null,"Plížení",null,null,null,null," X"," X",null," X"," X",null,10,null," ",10," ",null," X"," X"]
["Bydliště:",null,{"$f":"Soupiska!I52","v":0},null,null,null,null,null,"Kladina (nízká/vysoká)",null,null,null,null," X"," X",null,10," ",null,10,null," ",10," ",null," X"," X"]
[null,null,null,null,null,null,null,null,"Vysílání",null,null,null,null," X"," X",null," X"," X",null,10,null,"  ",10,null,null," X"," X"]
["Narozen:",null,{"$f":"DATE(IF(MID(Soupiska!C53,1,2)*1 > YEAR(TODAY())-2000, 1900, 2000) + MID(Soupiska!C53,1,2), MOD(MID(Soupiska!C53,3,2),50), MID(Soupiska!C53,5,2))","v":{"$error":"#VALUE!"}},null,null,null,null,null,"Odložení psa",null,null,null,null,10," ",null,10," ",null,10,null," ",10," ",null,10]
["Člen ZO:",null,{"$f":"Soupiska!I53","v":0},null,null,null,null,null,"Celkem",null,null,null,null,50,{"$f":"SUM(O13:P25)","v":0},null,100,{"$f":"SUM(R13:S25)","v":0},null,100,{"$f":"SUM(U13:V25)","v":0},null,100,{"$f":"SUM(X13:Y25)","v":0},null,60,{"$f":"SUM(AA13:AB25)","v":0}]
[]
["Data akce",null,null,null,null,null,"C - OBRANA",null,null,null,"ZM",null,null,"ZVV1 ",null,null,"ZVV2",null,null,"ZVV3",null,null,"ZPO1",null,null,"ZPO2"]
["Datum:",null,{"$f":"Soupiska!T6","v":"00:00:00"},null,null,null,"Průzkum terénu",null,null,null,10," ",null,10," ",null,10,null,null,10,null,null,10,null,null,20," "]
[null,null,null,null,null,null,"Vyštěkání",null,null,null,10," ",null,10,null,null,10,null,null,10,null,null,10,null,null,20]
["Místo:",null,{"$f":"Soupiska!P5","v":0},null,null,null,"Prohl., výsl., dopr.",null,null,null," X"," X",null,"10/10",null," ","10/10",null," ",10,null," ",10," ",null,20]
[null,null,null,null,null,null,"Ochrana psovoda",null,null,null,"15",null,null," 15/5",null,null," 15/5",null,null,"20/5",null,null,"20/5",null,null,"40/10",null," "]
["Vedoucí zkoušek:",null,{"$f":"Soupiska!D6","v":0},null,null,null,"Hlídání pomocníka 2+1",null,null,null," X"," X",null," X"," X",null," X"," X",null,20,null,null,20,null,null,40,null," "]
[null,null,null,null,null,null,"Samost. činnost psa (zadržení pomocníka)",null,null,null,"15",null,null," 15/5",null," "," 15/5",null," ","20/5",null,null,"20/5",null,null,"40/10",null," "]
["Rozhodčí:",null,{"$f":"Soupiska!P6","v":0},null,null,null,"Odolnost psa",null,null,null,"X","X",null," 15/5",null," "," 15/5",null," ","X","X",null,"X","X",null,"X","X"]
[null,null,null,null,null,null,"Celkem",null,null,null,50,{"$f":"SUM(L29:M35)","v":0},null,100,{"$f":"SUM(O29:P35)","v":0},null,100,{"$f":"SUM(R29:S35)","v":0},null,100,{"$f":"SUM(U29:V35)","v":0},null,100,{"$f":"SUM(X29:Y35)","v":0},null,200,{"$f":"SUM(AA29:AB35)","v":0}]
[" ",null,null,null,null,null,null,null," ",null,null,null,null,null,null," ",null,null," "," ",null," "," ",null," "," ",null," "]
["Výsledek zkoušky",null,null,null,null,null,"D - SPEC .CVIKY",null,null,null,"ZMMP",null,null,"ZMMP1",null,null,"ZMMP2",null,null,"ZMMP3",null,null,"ZPMO",null,null,"ZZO"]
["A   stopa",null,null,{"$f":"J8+L8+O8+R8+U8+X8+AA8","v":0},null,null,"Přivol.psa za ztíž.p.",null,null,null," X"," X",null," X"," X",null," X"," X",null," X"," X",null," X"," X",null,"PV-P-N"," "]
[null,null,null,null,null,null,"Chov.psa ve sk.osob",null,null,null," X"," X",null," X"," X",null," X"," X",null," X"," X",null," X"," X",null,"PV-P-N"," "]
["B  poslušnost",null,null,{"$f":"O26+R26+U26+X26+AA26","v":0},null,null,"Chov.přiváz. psa",null,null,null," X"," X",null," X"," X",null," X"," X",null," X"," X",null," X"," X",null,"PV-P-N"," "]
[null,null,null,null,null,null,"Rozlišování předm.",null,null,null,"10/10",null,null,"15/15",null,null,"15/15",null,null," X"," X",null," X"," X",null," X"," X"]
["C   obrana ",null,null,{"$f":"L36+O36+R36+U36+X36+AA36","v":0},null,null,"Rozlišování osoby",null,null,null," X"," X",null," X"," X",null," X"," X",null," 15/5",null,null," X"," X",null," X"," X"]
[null,null,null,null,null,null,"Vyhledání předm.",null,null,null," 15/5",null,null," 24/6",null," "," 24/6",null,null," 24/6",null," "," X"," X",null," X"," X"]
["D    spec. cviky",null,null,{"$f":"IF(AA51=\" \",L51+O51+R51+U51+X51,AA51)","v":0},null,null,"Ztracený předmět",null,null,null,10,null,null,20," ",null,20,null,null,20,null,null," X"," X",null," X"," X"]
[null,null,null,null,null,null,"Průzk.terénu/vyšť.",null,null,null," X"," X",null,"10/10",null," ","10/10",null,null,"10/10",null,null,"10/10",null,null," X"," X"]
["CELKEM",null,{"$f":"VLOOKUP(A4,TYPY!A$1:D$65536,4,FALSE)","v":{"$error":"#N/A"}},{"$f":"IF(AA51=\" \",D39+D41+D43+D45,D39+D41+D43)","v":0},null,null,"Zajištění figuranta",null,null,null," X"," X",null," X"," X",null," X"," X",null," X"," X",null,10,null,null," X"," X"]
[null,null,null,null,null,null,"Doprovod figuranta",null,null,null," X"," X",null," X"," X",null," X"," X",null," X","X"," X",10,null,null," X"," X"]
["ZNÁMKA",null,null,null,null,null,"Napadení psovoda",null,null,null," X"," X",null," X"," X",null," X"," X",null," X","X"," X",30,null,null," X"," X"]
[{"$f":"IF(D47>0,IFERROR(IF(C47=300,VLOOKUP(D47,TYPY!$B$44:$C$135,2,FALSE),IF(C47=200,VLOOKUP(D47,TYPY!$N$44:$O$105,2,FALSE),IF(C47=150,VLOOKUP(D47,TYPY!$L$44:$M$90,2,FALSE),IF(C47=100,VLOOKUP(D47,TYPY!$F$44:$G$75,2,FALSE),IF(C47=60,IF(D45=\"N\",\"N\",VLOOKUP(D47,TYPY!$J$44:$K$63,2,FALSE)),\"N\"))))),\"N\"),\" \")","v":" "},null,null,null,null,null,"Hlídání  předm.",null,null,null," X"," X",null," X"," X",null," X"," X",null," X","X"," X",30,null,null," X"," X"]
[null,null,null,null,null,null,"Celkem",null,null,null,50,{"$f":"SUM(L42:M45)","v":0},null,100,{"$f":"SUM(P39:P50)","v":0},null,100,{"$f":"SUM(R42:S46)","v":0},null,100,{"$f":"SUM(U43:V46)","v":0},null,100,{"$f":"SUM(X46:Y50)","v":0},null,"PV-P-N"]
[]
[" ",null,null,null,null,null,null,null,null,null," ",null,null,null,null,null," "]
[]
[]
[]
["Razítko organizace",null,null,null,null,null,null,null,null,null,"Podpis ved.  zkoušek",null,null,null,null,null,"Podpis a razítko rozhočího"]

{"sheet":"NZR15","index":44,"n_rows":57,"n_cols":28,"rows_kept":57,"cut":false,"hidden":true,"merged":[[52,0,55,8],[52,10,55,13],[52,16,55,27],[56,0,56,8],[56,10,56,13],[56,16,56,25],[49,23,49,24],[49,26,49,27],[50,6,50,9],[50,11,50,12],[50,14,50,15],[50,17,50,18],[50,20,50,21],[50,23,50,24],[50,26,50,27],[49,0,50,4],[49,6,49,9],[49,11,49,12],[49,14,49,15],[49,17,49,18],[49,20,49,21],[48,0,48,4],[48,6,48,9],[48,11,48,12],[48,14,48,15],[48,17,48,18],[48,20,48,21],[48,23,48,24],[48,26,48,27],[46,0,47,1],[46,2,47,2],[46,3,47,4],[46,17,46,18],[46,20,46,21],[46,23,46,24],[46,26,46,27],[47,6,47,9],[47,11,47,12],[47,14,47,15],[47,17,47,18],[47,20,47,21],[47,23,47,24],[46,6,46,9],[46,11,46,12],[46,14,46,15],[47,26,47,27],[44,17,44,18],[44,20,44,21],[44,23,44,24],[44,26,44,27],[45,6,45,9],[45,11,45,12],[45,26,45,27],[42,23,42,24],[42,26,42,27],[43,6,43,9],[43,23,43,24],[43,26,43,27],[42,17,42,18],[44,0,45,2],[44,3,45,4],[44,6,44,9],[44,11,44,12],[44,14,44,15],[42,0,43,2],[42,3,43,4],[42,6,42,9],[42,11,42,12],[42,14,42,15],[40,20,40,21],[40,23,40,24],[40,26,40,27],[41,6,41,9],[41,20,41,21],[41,23,41,24],[41,26,41,27],[40,0,41,2],[40,3,41,4],[40,6,40,9],[40,11,40,12],[40,14,40,15],[40,17,40,18],[38,26,38,27],[39,6,39,9],[39,11,39,12],[39,14,39,15],[39,17,39,18],[39,20,39,21],[39,23,39,24],[39,26,39,27],[37,22,37,24],[37,25,37,27],[38,0,39,2],[38,3,39,4],[38,6,38,9],[38,11,38,12],[38,14,38,15],[38,17,38,18],[38,20,38,21],[38,23,38,24],[37,0,37,4],[37,6,37,9],[37,10,37,12],[37,13,37,15],[37,16,37,18],[37,19,37,21],[35,11,35,12],[35,14,35,15],[35,17,35,18],[35,20,35,21],[35,23,35,24],[35,26,35,27],[32,23,32,24],[33,6,33,9],[33,11,33,12],[34,0,35,1],[34,2,35,4],[34,6,34,9],[34,11,34,12],[34,20,34,21],[34,23,34,24],[30,26,30,27],[31,6,31,9],[31,11,31,12],[32,0,33,1],[32,2,33,4],[32,6,32,9],[32,11,32,12],[32,14,32,15],[32,17,32,18],[32,20,32,21],[30,0,31,1],[30,2,31,4],[30,6,30,9],[30,11,30,12],[30,20,30,21],[30,23,30,24],[34,26,34,27],[35,6,35,9],[28,26,28,27],[29,6,29,9],[29,11,29,12],[29,14,29,15],[29,17,29,18],[29,20,29,21],[29,23,29,24],[29,26,29,27],[27,22,27,24],[27,25,27,27],[28,0,29,1],[28,2,29,4],[28,6,28,9],[28,11,28,12],[28,14,28,15],[28,17,28,18],[28,20,28,21],[28,23,28,24],[27,0,27,4],[27,6,27,9],[27,10,27,12],[27,13,27,15],[27,16,27,18],[27,19,27,21],[24,23,24,24],[24,26,24,27],[25,0,25,1],[25,2,25,6],[25,8,25,12],[25,14,25,15],[25,17,25,18],[25,20,25,21],[25,23,25,24],[25,26,25,27],[24,0,24,1],[24,2,24,6],[24,8,24,12],[24,14,24,15],[24,17,24,18],[24,20,24,21],[22,23,22,24],[22,26,22,27],[23,8,23,12],[23,14,23,15],[23,17,23,18],[23,20,23,21],[23,23,23,24],[23,26,23,27],[22,0,23,1],[22,2,23,6],[22,8,22,12],[22,14,22,15],[22,17,22,18],[22,20,22,21],[20,23,20,24],[20,26,20,27],[21,0,21,1],[21,2,21,6],[21,8,21,12],[21,14,21,15],[21,17,21,18],[21,20,21,21],[21,23,21,24],[21,26,21,27],[20,0,20,1],[20,2,20,6],[20,8,20,12],[20,14,20,15],[20,17,20,18],[20,20,20,21],[18,26,18,27],[19,0,19,6],[19,8,19,12],[19,14,19,15],[19,17,19,18],[19,20,19,21],[19,23,19,24],[19,26,19,27],[18,2,18,6],[18,8,18,12],[18,14,18,15],[18,17,18,18],[18,20,18,21],[18,23,18,24],[16,26,16,27],[17,2,17,6],[17,8,17,12],[17,14,17,15],[17,17,17,18],[17,20,17,21],[17,23,17,24],[17,26,17,27],[16,2,16,6],[16,8,16,12],[16,14,16,15],[16,17,16,18],[16,20,16,21],[16,23,16,24],[14,26,14,27],[15,2,15,6],[15,8,15,12],[15,14,15,15],[15,17,15,18],[15,20,15,21],[15,23,15,24],[15,26,15,27],[14,2,14,6],[14,8,14,12],[14,14,14,15],[14,17,14,18],[14,20,14,21],[14,23,14,24],[12,23,12,24],[12,26,12,27],[13,0,13,1],[13,8,13,12],[13,14,13,15],[13,17,13,18],[13,20,13,21],[13,23,13,24],[13,26,13,27],[12,0,12,1],[12,2,13,6],[12,8,12,12],[12,14,12,15],[12,17,12,18],[12,20,12,21],[10,13,11,15],[10,16,10,18],[10,19,10,21],[10,22,10,24],[11,16,11,18],[11,19,11,21],[11,22,11,24],[7,26,7,27],[9,0,9,6],[9,8,11,12],[9,13,9,15],[9,16,9,18],[9,19,9,21],[9,22,9,24],[9,25,11,27],[10,0,11,1],[10,2,11,6],[7,4,7,6],[7,11,7,12],[7,14,7,15],[7,17,7,18],[7,20,7,21],[7,23,7,24],[6,20,6,21],[6,23,6,24],[6,26,6,27],[5,4,5,6],[5,11,5,12],[5,14,5,15],[5,17,5,18],[5,20,5,21],[5,23,5,24],[0,7,0,27],[1,8,1,27],[2,0,2,2],[2,8,2,27],[3,0,6,2],[3,4,4,6],[3,8,3,9],[3,10,3,12],[3,13,4,15],[3,16,3,18],[3,19,3,21],[3,22,3,24],[3,25,3,27],[4,8,4,9],[4,10,4,12],[4,16,4,18],[4,19,4,21],[4,22,4,24],[4,25,4,27],[5,26,5,27],[6,4,6,6],[6,11,6,12],[6,14,6,15],[6,17,6,18]]}
[null,null,null,null,null,null,null,"  MORAVSKOSLEZSKÝ KYNOLOGICKÝ SVAZ, z. s."]
[null,null,null,null,null,null,null," ","Člen FCI prostřednictvím Českomoravské kynologické unie"]
["Druh a stupeň",null,null,null,null,null,null," ","POTVRZENÍ O VYKONANÉ ZKOUŠCE NZŘ"]
[{"$f":"IF(Soupiska!W54=\"N\",Soupiska!B54,\"NE\")","v":"NE"},null,null,null,"A - STOPA",null,null,null,"ZM",null,"ZVV1",null,null,"ZPS1",null,null,"ZVV2",null,null,"ZVV3",null,null,"ZPS2",null,null,"ZPS2"]
[null,null,null,null,null,null,null,null,"ZMMP",null,"ZMP1",null,null,null,null,null,"ZMP2",null,null,"ZMP3",null,null,"A",null,null,"B"]
[null,null,null,null,"Vlastní - cizí",null,null,null,40,null,80,null,null,80,null,null,"80",null,null,80,null,null,80,null,null,80]
[null,null,null,null,"Předměty",null,null,null,10,null,20," ",null,20,null,null,20," ",null,20,null,null,20,null,null,20]
[null,null,null,null,"Celkem",null,null,null,50,{"$f":"SUM(J6:J7)","v":0},100,{"$f":"SUM(L6:M7)","v":0},null,100,{"$f":"SUM(O6:O7)","v":0},null,100,{"$f":"SUM(R6:S7)","v":0},null,100,{"$f":"SUM(U6:V7)","v":0},null,100,{"$f":"SUM(X6:Y7)","v":0},null,100,{"$f":"SUM(AA6:AB7)","v":0}]
[]
["Data psa-feny",null,null,null,null,null,null,null,"B - POSLUŠNOST",null,null,null,null,"ZM",null,null,"ZVV1,ZMP1",null,null,"ZVV2",null,null,"ZVV3,ZMP3",null,null,"ZZO"]
["Jméno:",null,{"$f":"Soupiska!C54","v":0},null,null,null,null,null,null,null,null,null,null,"ZMMP",null,null,"ZPS1,ZPO1",null,null,"ZMP2",null,null,"ZPS2,ZPO2"]
[null,null,null,null,null,null,null,null,null,null,null,null,null,null,null,null,"ZMPO,ZZO1",null,null,"ZZO2",null,null,"ZZO3"]
["Chovná",null,{"$f":"Soupiska!E54","v":0},null,null,null,null,null,"Přivolání psa",null,null,null,null,10,null,null,10," ",null,10," ",null,10," ",null,10]
["stanice:",null,null,null,null,null,null,null,"Ovladatelnost na vod.",null,null,null,null,10,"  ",null,10," ",null," X"," X",null," X"," X",null,10]
["Plemeno:",null,{"$f":"Soupiska!I54","v":0},null,null,null,null,null,"Ovladatelnost bez vod.",null,null,null,null," X"," X",null," X"," X",null,10," ",null,10,null,null," X"," X"]
["Pohlaví:",null,{"$f":"Soupiska!K54","v":0},null,null,null,null,null,"Polohy (S - L - V)",null,null,null,null,10,"  ",null,10," ",null,10,null," ","10"," ",null,10]
["Narozen",null,{"$f":"Soupiska!L54","v":"00:00:00"},null,null,null,null,null,"Odložení za pochodu",null,null,null,null," X"," X",null,10,null,null,10,null," ",10,null,null,10]
["Č.záp.:",null,{"$f":"Soupiska!N54","v":0},null,null,null,null,null,"Štěkání psa",null,null,null,null," X"," X",null,10," ",null,10,null," ",10," ",null," X"," X"]
["T.č./čip:",null,{"$f":"Soupiska!P54","v":0},null,null,null,null,null,"Aport volný",null,null,null,null,10," ",null,10," ",null,"X",null," X"," X"," X",null,10]
["Data psovoda",null,null,null,null,null,null,null,"Skok vysoký  (aport)",null,null,null,null," X"," X",null,10," ",null,10,null," "," X"," X",null," X"," X"]
["Jméno:",null,{"$f":"Soupiska!C55","v":0},null,null,null,null,null,"Skok šplhem  (aport)",null,null,null,null," X"," X",null,10," ",null," X","X",null,10," ",null," X"," X"]
["Příjmení:",null,{"$f":"Soupiska!E55","v":0},null,null,null,null,null,"Plížení",null,null,null,null," X"," X",null," X"," X",null,10,null," ",10," ",null," X"," X"]
["Bydliště:",null,{"$f":"Soupiska!I55","v":0},null,null,null,null,null,"Kladina (nízká/vysoká)",null,null,null,null," X"," X",null,10," ",null,10,null," ",10," ",null," X"," X"]
[null,null,null,null,null,null,null,null,"Vysílání",null,null,null,null," X"," X",null," X"," X",null,10,null,"  ",10,null,null," X"," X"]
["Narozen:",null,{"$f":"DATE(IF(MID(Soupiska!C56,1,2)*1 > YEAR(TODAY())-2000, 1900, 2000) + MID(Soupiska!C56,1,2), MOD(MID(Soupiska!C56,3,2),50), MID(Soupiska!C56,5,2))","v":{"$error":"#VALUE!"}},null,null,null,null,null,"Odložení psa",null,null,null,null,10," ",null,10," ",null,10,null," ",10," ",null,10]
["Člen ZO:",null,{"$f":"Soupiska!I56","v":0},null,null,null,null,null,"Celkem",null,null,null,null,50,{"$f":"SUM(O13:P25)","v":0},null,100,{"$f":"SUM(R13:S25)","v":0},null,100,{"$f":"SUM(U13:V25)","v":0},null,100,{"$f":"SUM(X13:Y25)","v":0},null,60,{"$f":"SUM(AA13:AB25)","v":0}]
[]
["Data akce",null,null,null,null,null,"C - OBRANA",null,null,null,"ZM",null,null,"ZVV1 ",null,null,"ZVV2",null,null,"ZVV3",null,null,"ZPO1",null,null,"ZPO2"]
["Datum:",null,{"$f":"Soupiska!T6","v":"00:00:00"},null,null,null,"Průzkum terénu",null,null,null,10," ",null,10," ",null,10,null,null,10,null,null,10,null,null,20," "]
[null,null,null,null,null,null,"Vyštěkání",null,null,null,10," ",null,10,null,null,10,null,null,10,null,null,10,null,null,20]
["Místo:",null,{"$f":"Soupiska!P5","v":0},null,null,null,"Prohl., výsl., dopr.",null,null,null," X"," X",null,"10/10",null," ","10/10",null," ",10,null," ",10," ",null,20]
[null,null,null,null,null,null,"Ochrana psovoda",null,null,null,"15",null,null," 15/5",null,null," 15/5",null,null,"20/5",null,null,"20/5",null,null,"40/10",null," "]
["Vedoucí zkoušek:",null,{"$f":"Soupiska!D6","v":0},null,null,null,"Hlídání pomocníka 2+1",null,null,null," X"," X",null," X"," X",null," X"," X",null,20,null,null,20,null,null,40,null," "]
[null,null,null,null,null,null,"Samost. činnost psa (zadržení pomocníka)",null,null,null,"15",null,null," 15/5",null," "," 15/5",null," ","20/5",null,null,"20/5",null,null,"40/10",null," "]
["Rozhodčí:",null,{"$f":"Soupiska!P6","v":0},null,null,null,"Odolnost psa",null,null,null,"X","X",null," 15/5",null," "," 15/5",null," ","X","X",null,"X","X",null,"X","X"]
[null,null,null,null,null,null,"Celkem",null,null,null,50,{"$f":"SUM(L29:M35)","v":0},null,100,{"$f":"SUM(O29:P35)","v":0},null,100,{"$f":"SUM(R29:S35)","v":0},null,100,{"$f":"SUM(U29:V35)","v":0},null,100,{"$f":"SUM(X29:Y35)","v":0},null,200,{"$f":"SUM(AA29:AB35)","v":0}]
[" ",null,null,null,null,null,null,null," ",null,null,null,null,null,null," ",null,null," "," ",null," "," ",null," "," ",null," "]
["Výsledek zkoušky",null,null,null,null,null,"D - SPEC .CVIKY",null,null,null,"ZMMP",null,null,"ZMMP1",null,null,"ZMMP2",null,null,"ZMMP3",null,null,"ZPMO",null,null,"ZZO"]
["A   stopa",null,null,{"$f":"J8+L8+O8+R8+U8+X8+AA8","v":0},null,null,"Přivol.psa za ztíž.p.",null,null,null," X"," X",null," X"," X",null," X"," X",null," X"," X",null," X"," X",null,"PV-P-N"," "]
[null,null,null,null,null,null,"Chov.psa ve sk.osob",null,null,null," X"," X",null," X"," X",null," X"," X",null," X"," X",null," X"," X",null,"PV-P-N"," "]
["B  poslušnost",null,null,{"$f":"O26+R26+U26+X26+AA26","v":0},null,null,"Chov.přiváz. psa",null,null,null," X"," X",null," X"," X",null," X"," X",null," X"," X",null," X"," X",null,"PV-P-N"," "]
[null,null,null,null,null,null,"Rozlišování předm.",null,null,null,"10/10",null,null,"15/15",null,null,"15/15",null,null," X"," X",null," X"," X",null," X"," X"]
["C   obrana ",null,null,{"$f":"L36+O36+R36+U36+X36+AA36","v":0},null,null,"Rozlišování osoby",null,null,null," X"," X",null," X"," X",null," X"," X",null," 15/5",null,null," X"," X",null," X"," X"]
[null,null,null,null,null,null,"Vyhledání předm.",null,null,null," 15/5",null,null," 24/6",null," "," 24/6",null,null," 24/6",null," "," X"," X",null," X"," X"]
["D    spec. cviky",null,null,{"$f":"IF(AA51=\" \",L51+O51+R51+U51+X51,AA51)","v":0},null,null,"Ztracený předmět",null,null,null,10,null,null,20," ",null,20,null,null,20,null,null," X"," X",null," X"," X"]
[null,null,null,null,null,null,"Průzk.terénu/vyšť.",null,null,null," X"," X",null,"10/10",null," ","10/10",null,null,"10/10",null,null,"10/10",null,null," X"," X"]
["CELKEM",null,{"$f":"VLOOKUP(A4,TYPY!A$1:D$65536,4,FALSE)","v":{"$error":"#N/A"}},{"$f":"IF(AA51=\" \",D39+D41+D43+D45,D39+D41+D43)","v":0},null,null,"Zajištění figuranta",null,null,null," X"," X",null," X"," X",null," X"," X",null," X"," X",null,10,null,null," X"," X"]
[null,null,null,null,null,null,"Doprovod figuranta",null,null,null," X"," X",null," X"," X",null," X"," X",null," X","X"," X",10,null,null," X"," X"]
["ZNÁMKA",null,null,null,null,null,"Napadení psovoda",null,null,null," X"," X",null," X"," X",null," X"," X",null," X","X"," X",30,null,null," X"," X"]
[{"$f":"IF(D47>0,IFERROR(IF(C47=300,VLOOKUP(D47,TYPY!$B$44:$C$135,2,FALSE),IF(C47=200,VLOOKUP(D47,TYPY!$N$44:$O$105,2,FALSE),IF(C47=150,VLOOKUP(D47,TYPY!$L$44:$M$90,2,FALSE),IF(C47=100,VLOOKUP(D47,TYPY!$F$44:$G$75,2,FALSE),IF(C47=60,IF(D45=\"N\",\"N\",VLOOKUP(D47,TYPY!$J$44:$K$63,2,FALSE)),\"N\"))))),\"N\"),\" \")","v":" "},null,null,null,null,null,"Hlídání  předm.",null,null,null," X"," X",null," X"," X",null," X"," X",null," X","X"," X",30,null,null," X"," X"]
[null,null,null,null,null,null,"Celkem",null,null,null,50,{"$f":"SUM(L42:M45)","v":0},null,100,{"$f":"SUM(P39:P50)","v":0},null,100,{"$f":"SUM(R42:S46)","v":0},null,100,{"$f":"SUM(U43:V46)","v":0},null,100,{"$f":"SUM(X46:Y50)","v":0},null,"PV-P-N"]
[]
[" ",null,null,null,null,null,null,null,null,null," ",null,null,null,null,null," "]
[]
[]
[]
["Razítko organizace",null,null,null,null,null,null,null,null,null,"Podpis ved.  zkoušek",null,null,null,null,null,"Podpis a razítko rozhočího"]

{"sheet":"NZR16","index":45,"n_rows":57,"n_cols":28,"rows_kept":57,"cut":false,"hidden":true,"merged":[[52,0,55,8],[52,10,55,13],[52,16,55,27],[56,0,56,8],[56,10,56,13],[56,16,56,25],[49,23,49,24],[49,26,49,27],[50,6,50,9],[50,11,50,12],[50,14,50,15],[50,17,50,18],[50,20,50,21],[50,23,50,24],[50,26,50,27],[49,0,50,4],[49,6,49,9],[49,11,49,12],[49,14,49,15],[49,17,49,18],[49,20,49,21],[48,0,48,4],[48,6,48,9],[48,11,48,12],[48,14,48,15],[48,17,48,18],[48,20,48,21],[48,23,48,24],[48,26,48,27],[46,0,47,1],[46,2,47,2],[46,3,47,4],[46,17,46,18],[46,20,46,21],[46,23,46,24],[46,26,46,27],[47,6,47,9],[47,11,47,12],[47,14,47,15],[47,17,47,18],[47,20,47,21],[47,23,47,24],[46,6,46,9],[46,11,46,12],[46,14,46,15],[47,26,47,27],[44,17,44,18],[44,20,44,21],[44,23,44,24],[44,26,44,27],[45,6,45,9],[45,11,45,12],[45,26,45,27],[42,23,42,24],[42,26,42,27],[43,6,43,9],[43,23,43,24],[43,26,43,27],[42,17,42,18],[44,0,45,2],[44,3,45,4],[44,6,44,9],[44,11,44,12],[44,14,44,15],[42,0,43,2],[42,3,43,4],[42,6,42,9],[42,11,42,12],[42,14,42,15],[40,20,40,21],[40,23,40,24],[40,26,40,27],[41,6,41,9],[41,20,41,21],[41,23,41,24],[41,26,41,27],[40,0,41,2],[40,3,41,4],[40,6,40,9],[40,11,40,12],[40,14,40,15],[40,17,40,18],[38,26,38,27],[39,6,39,9],[39,11,39,12],[39,14,39,15],[39,17,39,18],[39,20,39,21],[39,23,39,24],[39,26,39,27],[37,22,37,24],[37,25,37,27],[38,0,39,2],[38,3,39,4],[38,6,38,9],[38,11,38,12],[38,14,38,15],[38,17,38,18],[38,20,38,21],[38,23,38,24],[37,0,37,4],[37,6,37,9],[37,10,37,12],[37,13,37,15],[37,16,37,18],[37,19,37,21],[35,11,35,12],[35,14,35,15],[35,17,35,18],[35,20,35,21],[35,23,35,24],[35,26,35,27],[32,23,32,24],[33,6,33,9],[33,11,33,12],[34,0,35,1],[34,2,35,4],[34,6,34,9],[34,11,34,12],[34,20,34,21],[34,23,34,24],[30,26,30,27],[31,6,31,9],[31,11,31,12],[32,0,33,1],[32,2,33,4],[32,6,32,9],[32,11,32,12],[32,14,32,15],[32,17,32,18],[32,20,32,21],[30,0,31,1],[30,2,31,4],[30,6,30,9],[30,11,30,12],[30,20,30,21],[30,23,30,24],[34,26,34,27],[35,6,35,9],[28,26,28,27],[29,6,29,9],[29,11,29,12],[29,14,29,15],[29,17,29,18],[29,20,29,21],[29,23,29,24],[29,26,29,27],[27,22,27,24],[27,25,27,27],[28,0,29,1],[28,2,29,4],[28,6,28,9],[28,11,28,12],[28,14,28,15],[28,17,28,18],[28,20,28,21],[28,23,28,24],[27,0,27,4],[27,6,27,9],[27,10,27,12],[27,13,27,15],[27,16,27,18],[27,19,27,21],[24,23,24,24],[24,26,24,27],[25,0,25,1],[25,2,25,6],[25,8,25,12],[25,14,25,15],[25,17,25,18],[25,20,25,21],[25,23,25,24],[25,26,25,27],[24,0,24,1],[24,2,24,6],[24,8,24,12],[24,14,24,15],[24,17,24,18],[24,20,24,21],[22,23,22,24],[22,26,22,27],[23,8,23,12],[23,14,23,15],[23,17,23,18],[23,20,23,21],[23,23,23,24],[23,26,23,27],[22,0,23,1],[22,2,23,6],[22,8,22,12],[22,14,22,15],[22,17,22,18],[22,20,22,21],[20,23,20,24],[20,26,20,27],[21,0,21,1],[21,2,21,6],[21,8,21,12],[21,14,21,15],[21,17,21,18],[21,20,21,21],[21,23,21,24],[21,26,21,27],[20,0,20,1],[20,2,20,6],[20,8,20,12],[20,14,20,15],[20,17,20,18],[20,20,20,21],[18,26,18,27],[19,0,19,6],[19,8,19,12],[19,14,19,15],[19,17,19,18],[19,20,19,21],[19,23,19,24],[19,26,19,27],[18,2,18,6],[18,8,18,12],[18,14,18,15],[18,17,18,18],[18,20,18,21],[18,23,18,24],[16,26,16,27],[17,2,17,6],[17,8,17,12],[17,14,17,15],[17,17,17,18],[17,20,17,21],[17,23,17,24],[17,26,17,27],[16,2,16,6],[16,8,16,12],[16,14,16,15],[16,17,16,18],[16,20,16,21],[16,23,16,24],[14,26,14,27],[15,2,15,6],[15,8,15,12],[15,14,15,15],[15,17,15,18],[15,20,15,21],[15,23,15,24],[15,26,15,27],[14,2,14,6],[14,8,14,12],[14,14,14,15],[14,17,14,18],[14,20,14,21],[14,23,14,24],[12,23,12,24],[12,26,12,27],[13,0,13,1],[13,8,13,12],[13,14,13,15],[13,17,13,18],[13,20,13,21],[13,23,13,24],[13,26,13,27],[12,0,12,1],[12,2,13,6],[12,8,12,12],[12,14,12,15],[12,17,12,18],[12,20,12,21],[10,13,11,15],[10,16,10,18],[10,19,10,21],[10,22,10,24],[11,16,11,18],[11,19,11,21],[11,22,11,24],[7,26,7,27],[9,0,9,6],[9,8,11,12],[9,13,9,15],[9,16,9,18],[9,19,9,21],[9,22,9,24],[9,25,11,27],[10,0,11,1],[10,2,11,6],[7,4,7,6],[7,11,7,12],[7,14,7,15],[7,17,7,18],[7,20,7,21],[7,23,7,24],[6,20,6,21],[6,23,6,24],[6,26,6,27],[5,4,5,6],[5,11,5,12],[5,14,5,15],[5,17,5,18],[5,20,5,21],[5,23,5,24],[0,7,0,27],[1,8,1,27],[2,0,2,2],[2,8,2,27],[3,0,6,2],[3,4,4,6],[3,8,3,9],[3,10,3,12],[3,13,4,15],[3,16,3,18],[3,19,3,21],[3,22,3,24],[3,25,3,27],[4,8,4,9],[4,10,4,12],[4,16,4,18],[4,19,4,21],[4,22,4,24],[4,25,4,27],[5,26,5,27],[6,4,6,6],[6,11,6,12],[6,14,6,15],[6,17,6,18]]}
[null,null,null,null,null,null,null,"  MORAVSKOSLEZSKÝ KYNOLOGICKÝ SVAZ, z. s."]
[null,null,null,null,null,null,null," ","Člen FCI prostřednictvím Českomoravské kynologické unie"]
["Druh a stupeň",null,null,null,null,null,null," ","POTVRZENÍ O VYKONANÉ ZKOUŠCE NZŘ"]
[{"$f":"IF(Soupiska!W57=\"N\",Soupiska!B57,\"NE\")","v":"NE"},null,null,null,"A - STOPA",null,null,null,"ZM",null,"ZVV1",null,null,"ZPS1",null,null,"ZVV2",null,null,"ZVV3",null,null,"ZPS2",null,null,"ZPS2"]
[null,null,null,null,null,null,null,null,"ZMMP",null,"ZMP1",null,null,null,null,null,"ZMP2",null,null,"ZMP3",null,null,"A",null,null,"B"]
[null,null,null,null,"Vlastní - cizí",null,null,null,40,null,80,null,null,80,null,null,"80",null,null,80,null,null,80,null,null,80]
[null,null,null,null,"Předměty",null,null,null,10,null,20," ",null,20,null,null,20," ",null,20,null,null,20,null,null,20]
[null,null,null,null,"Celkem",null,null,null,50,{"$f":"SUM(J6:J7)","v":0},100,{"$f":"SUM(L6:M7)","v":0},null,100,{"$f":"SUM(O6:O7)","v":0},null,100,{"$f":"SUM(R6:S7)","v":0},null,100,{"$f":"SUM(U6:V7)","v":0},null,100,{"$f":"SUM(X6:Y7)","v":0},null,100,{"$f":"SUM(AA6:AB7)","v":0}]
[]
["Data psa-feny",null,null,null,null,null,null,null,"B - POSLUŠNOST",null,null,null,null,"ZM",null,null,"ZVV1,ZMP1",null,null,"ZVV2",null,null,"ZVV3,ZMP3",null,null,"ZZO"]
["Jméno:",null,{"$f":"Soupiska!C57","v":0},null,null,null,null,null,null,null,null,null,null,"ZMMP",null,null,"ZPS1,ZPO1",null,null,"ZMP2",null,null,"ZPS2,ZPO2"]
[null,null,null,null,null,null,null,null,null,null,null,null,null,null,null,null,"ZMPO,ZZO1",null,null,"ZZO2",null,null,"ZZO3"]
["Chovná",null,{"$f":"Soupiska!E57","v":0},null,null,null,null,null,"Přivolání psa",null,null,null,null,10,null,null,10," ",null,10," ",null,10," ",null,10]
["stanice:",null,null,null,null,null,null,null,"Ovladatelnost na vod.",null,null,null,null,10,"  ",null,10," ",null," X"," X",null," X"," X",null,10]
["Plemeno:",null,{"$f":"Soupiska!I57","v":0},null,null,null,null,null,"Ovladatelnost bez vod.",null,null,null,null," X"," X",null," X"," X",null,10," ",null,10,null,null," X"," X"]
["Pohlaví:",null,{"$f":"Soupiska!K57","v":0},null,null,null,null,null,"Polohy (S - L - V)",null,null,null,null,10,"  ",null,10," ",null,10,null," ","10"," ",null,10]
["Narozen",null,{"$f":"Soupiska!L57","v":"00:00:00"},null,null,null,null,null,"Odložení za pochodu",null,null,null,null," X"," X",null,10,null,null,10,null," ",10,null,null,10]
["Č.záp.:",null,{"$f":"Soupiska!N57","v":0},null,null,null,null,null,"Štěkání psa",null,null,null,null," X"," X",null,10," ",null,10,null," ",10," ",null," X"," X"]
["T.č./čip:",null,{"$f":"Soupiska!P57","v":0},null,null,null,null,null,"Aport volný",null,null,null,null,10," ",null,10," ",null,"X",null," X"," X"," X",null,10]
["Data psovoda",null,null,null,null,null,null,null,"Skok vysoký  (aport)",null,null,null,null," X"," X",null,10," ",null,10,null," "," X"," X",null," X"," X"]
["Jméno:",null,{"$f":"Soupiska!C58","v":0},null,null,null,null,null,"Skok šplhem  (aport)",null,null,null,null," X"," X",null,10," ",null," X","X",null,10," ",null," X"," X"]
["Příjmení:",null,{"$f":"Soupiska!E58","v":0},null,null,null,null,null,"Plížení",null,null,null,null," X"," X",null," X"," X",null,10,null," ",10," ",null," X"," X"]
["Bydliště:",null,{"$f":"Soupiska!I58","v":0},null,null,null,null,null,"Kladina (nízká/vysoká)",null,null,null,null," X"," X",null,10," ",null,10,null," ",10," ",null," X"," X"]
[null,null,null,null,null,null,null,null,"Vysílání",null,null,null,null," X"," X",null," X"," X",null,10,null,"  ",10,null,null," X"," X"]
["Narozen:",null,{"$f":"DATE(IF(MID(Soupiska!C59,1,2)*1 > YEAR(TODAY())-2000, 1900, 2000) + MID(Soupiska!C59,1,2), MOD(MID(Soupiska!C59,3,2),50), MID(Soupiska!C59,5,2))","v":{"$error":"#VALUE!"}},null,null,null,null,null,"Odložení psa",null,null,null,null,10," ",null,10," ",null,10,null," ",10," ",null,10]
["Člen ZO:",null,{"$f":"Soupiska!I59","v":0},null,null,null,null,null,"Celkem",null,null,null,null,50,{"$f":"SUM(O13:P25)","v":0},null,100,{"$f":"SUM(R13:S25)","v":0},null,100,{"$f":"SUM(U13:V25)","v":0},null,100,{"$f":"SUM(X13:Y25)","v":0},null,60,{"$f":"SUM(AA13:AB25)","v":0}]
[]
["Data akce",null,null,null,null,null,"C - OBRANA",null,null,null,"ZM",null,null,"ZVV1 ",null,null,"ZVV2",null,null,"ZVV3",null,null,"ZPO1",null,null,"ZPO2"]
["Datum:",null,{"$f":"Soupiska!T6","v":"00:00:00"},null,null,null,"Průzkum terénu",null,null,null,10," ",null,10," ",null,10,null,null,10,null,null,10,null,null,20," "]
[null,null,null,null,null,null,"Vyštěkání",null,null,null,10," ",null,10,null,null,10,null,null,10,null,null,10,null,null,20]
["Místo:",null,{"$f":"Soupiska!P5","v":0},null,null,null,"Prohl., výsl., dopr.",null,null,null," X"," X",null,"10/10",null," ","10/10",null," ",10,null," ",10," ",null,20]
[null,null,null,null,null,null,"Ochrana psovoda",null,null,null,"15",null,null," 15/5",null,null," 15/5",null,null,"20/5",null,null,"20/5",null,null,"40/10",null," "]
["Vedoucí zkoušek:",null,{"$f":"Soupiska!D6","v":0},null,null,null,"Hlídání pomocníka 2+1",null,null,null," X"," X",null," X"," X",null," X"," X",null,20,null,null,20,null,null,40,null," "]
[null,null,null,null,null,null,"Samost. činnost psa (zadržení pomocníka)",null,null,null,"15",null,null," 15/5",null," "," 15/5",null," ","20/5",null,null,"20/5",null,null,"40/10",null," "]
["Rozhodčí:",null,{"$f":"Soupiska!P6","v":0},null,null,null,"Odolnost psa",null,null,null,"X","X",null," 15/5",null," "," 15/5",null," ","X","X",null,"X","X",null,"X","X"]
[null,null,null,null,null,null,"Celkem",null,null,null,50,{"$f":"SUM(L29:M35)","v":0},null,100,{"$f":"SUM(O29:P35)","v":0},null,100,{"$f":"SUM(R29:S35)","v":0},null,100,{"$f":"SUM(U29:V35)","v":0},null,100,{"$f":"SUM(X29:Y35)","v":0},null,200,{"$f":"SUM(AA29:AB35)","v":0}]
[" ",null,null,null,null,null,null,null," ",null,null,null,null,null,null," ",null,null," "," ",null," "," ",null," "," ",null," "]
["Výsledek zkoušky",null,null,null,null,null,"D - SPEC .CVIKY",null,null,null,"ZMMP",null,null,"ZMMP1",null,null,"ZMMP2",null,null,"ZMMP3",null,null,"ZPMO",null,null,"ZZO"]
["A   stopa",null,null,{"$f":"J8+L8+O8+R8+U8+X8+AA8","v":0},null,null,"Přivol.psa za ztíž.p.",null,null,null," X"," X",null," X"," X",null," X"," X",null," X"," X",null," X"," X",null,"PV-P-N"," "]
[null,null,null,null,null,null,"Chov.psa ve sk.osob",null,null,null," X"," X",null," X"," X",null," X"," X",null," X"," X",null," X"," X",null,"PV-P-N"," "]
["B  poslušnost",null,null,{"$f":"O26+R26+U26+X26+AA26","v":0},null,null,"Chov.přiváz. psa",null,null,null," X"," X",null," X"," X",null," X"," X",null," X"," X",null," X"," X",null,"PV-P-N"," "]
[null,null,null,null,null,null,"Rozlišování předm.",null,null,null,"10/10",null,null,"15/15",null,null,"15/15",null,null," X"," X",null," X"," X",null," X"," X"]
["C   obrana ",null,null,{"$f":"L36+O36+R36+U36+X36+AA36","v":0},null,null,"Rozlišování osoby",null,null,null," X"," X",null," X"," X",null," X"," X",null," 15/5",null,null," X"," X",null," X"," X"]
[null,null,null,null,null,null,"Vyhledání předm.",null,null,null," 15/5",null,null," 24/6",null," "," 24/6",null,null," 24/6",null," "," X"," X",null," X"," X"]
["D    spec. cviky",null,null,{"$f":"IF(AA51=\" \",L51+O51+R51+U51+X51,AA51)","v":0},null,null,"Ztracený předmět",null,null,null,10,null,null,20," ",null,20,null,null,20,null,null," X"," X",null," X"," X"]
[null,null,null,null,null,null,"Průzk.terénu/vyšť.",null,null,null," X"," X",null,"10/10",null," ","10/10",null,null,"10/10",null,null,"10/10",null,null," X"," X"]
["CELKEM",null,{"$f":"VLOOKUP(A4,TYPY!A$1:D$65536,4,FALSE)","v":{"$error":"#N/A"}},{"$f":"IF(AA51=\" \",D39+D41+D43+D45,D39+D41+D43)","v":0},null,null,"Zajištění figuranta",null,null,null," X"," X",null," X"," X",null," X"," X",null," X"," X",null,10,null,null," X"," X"]
[null,null,null,null,null,null,"Doprovod figuranta",null,null,null," X"," X",null," X"," X",null," X"," X",null," X","X"," X",10,null,null," X"," X"]
["ZNÁMKA",null,null,null,null,null,"Napadení psovoda",null,null,null," X"," X",null," X"," X",null," X"," X",null," X","X"," X",30,null,null," X"," X"]
[{"$f":"IF(D47>0,IFERROR(IF(C47=300,VLOOKUP(D47,TYPY!$B$44:$C$135,2,FALSE),IF(C47=200,VLOOKUP(D47,TYPY!$N$44:$O$105,2,FALSE),IF(C47=150,VLOOKUP(D47,TYPY!$L$44:$M$90,2,FALSE),IF(C47=100,VLOOKUP(D47,TYPY!$F$44:$G$75,2,FALSE),IF(C47=60,IF(D45=\"N\",\"N\",VLOOKUP(D47,TYPY!$J$44:$K$63,2,FALSE)),\"N\"))))),\"N\"),\" \")","v":" "},null,null,null,null,null,"Hlídání  předm.",null,null,null," X"," X",null," X"," X",null," X"," X",null," X","X"," X",30,null,null," X"," X"]
[null,null,null,null,null,null,"Celkem",null,null,null,50,{"$f":"SUM(L42:M45)","v":0},null,100,{"$f":"SUM(P39:P50)","v":0},null,100,{"$f":"SUM(R42:S46)","v":0},null,100,{"$f":"SUM(U43:V46)","v":0},null,100,{"$f":"SUM(X46:Y50)","v":0},null,"PV-P-N"]
[]
[" ",null,null,null,null,null,null,null,null,null," ",null,null,null,null,null," "]
[]
[]
[]
["Razítko organizace",null,null,null,null,null,null,null,null,null,"Podpis ved.  zkoušek",null,null,null,null,null,"Podpis a razítko rozhočího"]

{"sheet":"NZR17","index":46,"n_rows":57,"n_cols":28,"rows_kept":57,"cut":false,"hidden":true,"merged":[[52,0,55,8],[52,10,55,13],[52,16,55,27],[56,0,56,8],[56,10,56,13],[56,16,56,25],[49,23,49,24],[49,26,49,27],[50,6,50,9],[50,11,50,12],[50,14,50,15],[50,17,50,18],[50,20,50,21],[50,23,50,24],[50,26,50,27],[49,0,50,4],[49,6,49,9],[49,11,49,12],[49,14,49,15],[49,17,49,18],[49,20,49,21],[48,0,48,4],[48,6,48,9],[48,11,48,12],[48,14,48,15],[48,17,48,18],[48,20,48,21],[48,23,48,24],[48,26,48,27],[46,0,47,1],[46,2,47,2],[46,3,47,4],[46,17,46,18],[46,20,46,21],[46,23,46,24],[46,26,46,27],[47,6,47,9],[47,11,47,12],[47,14,47,15],[47,17,47,18],[47,20,47,21],[47,23,47,24],[46,6,46,9],[46,11,46,12],[46,14,46,15],[47,26,47,27],[44,17,44,18],[44,20,44,21],[44,23,44,24],[44,26,44,27],[45,6,45,9],[45,11,45,12],[45,26,45,27],[42,23,42,24],[42,26,42,27],[43,6,43,9],[43,23,43,24],[43,26,43,27],[42,17,42,18],[44,0,45,2],[44,3,45,4],[44,6,44,9],[44,11,44,12],[44,14,44,15],[42,0,43,2],[42,3,43,4],[42,6,42,9],[42,11,42,12],[42,14,42,15],[40,20,40,21],[40,23,40,24],[40,26,40,27],[41,6,41,9],[41,20,41,21],[41,23,41,24],[41,26,41,27],[40,0,41,2],[40,3,41,4],[40,6,40,9],[40,11,40,12],[40,14,40,15],[40,17,40,18],[38,26,38,27],[39,6,39,9],[39,11,39,12],[39,14,39,15],[39,17,39,18],[39,20,39,21],[39,23,39,24],[39,26,39,27],[37,22,37,24],[37,25,37,27],[38,0,39,2],[38,3,39,4],[38,6,38,9],[38,11,38,12],[38,14,38,15],[38,17,38,18],[38,20,38,21],[38,23,38,24],[37,0,37,4],[37,6,37,9],[37,10,37,12],[37,13,37,15],[37,16,37,18],[37,19,37,21],[35,11,35,12],[35,14,35,15],[35,17,35,18],[35,20,35,21],[35,23,35,24],[35,26,35,27],[32,23,32,24],[33,6,33,9],[33,11,33,12],[34,0,35,1],[34,2,35,4],[34,6,34,9],[34,11,34,12],[34,20,34,21],[34,23,34,24],[30,26,30,27],[31,6,31,9],[31,11,31,12],[32,0,33,1],[32,2,33,4],[32,6,32,9],[32,11,32,12],[32,14,32,15],[32,17,32,18],[32,20,32,21],[30,0,31,1],[30,2,31,4],[30,6,30,9],[30,11,30,12],[30,20,30,21],[30,23,30,24],[34,26,34,27],[35,6,35,9],[28,26,28,27],[29,6,29,9],[29,11,29,12],[29,14,29,15],[29,17,29,18],[29,20,29,21],[29,23,29,24],[29,26,29,27],[27,22,27,24],[27,25,27,27],[28,0,29,1],[28,2,29,4],[28,6,28,9],[28,11,28,12],[28,14,28,15],[28,17,28,18],[28,20,28,21],[28,23,28,24],[27,0,27,4],[27,6,27,9],[27,10,27,12],[27,13,27,15],[27,16,27,18],[27,19,27,21],[24,23,24,24],[24,26,24,27],[25,0,25,1],[25,2,25,6],[25,8,25,12],[25,14,25,15],[25,17,25,18],[25,20,25,21],[25,23,25,24],[25,26,25,27],[24,0,24,1],[24,2,24,6],[24,8,24,12],[24,14,24,15],[24,17,24,18],[24,20,24,21],[22,23,22,24],[22,26,22,27],[23,8,23,12],[23,14,23,15],[23,17,23,18],[23,20,23,21],[23,23,23,24],[23,26,23,27],[22,0,23,1],[22,2,23,6],[22,8,22,12],[22,14,22,15],[22,17,22,18],[22,20,22,21],[20,23,20,24],[20,26,20,27],[21,0,21,1],[21,2,21,6],[21,8,21,12],[21,14,21,15],[21,17,21,18],[21,20,21,21],[21,23,21,24],[21,26,21,27],[20,0,20,1],[20,2,20,6],[20,8,20,12],[20,14,20,15],[20,17,20,18],[20,20,20,21],[18,26,18,27],[19,0,19,6],[19,8,19,12],[19,14,19,15],[19,17,19,18],[19,20,19,21],[19,23,19,24],[19,26,19,27],[18,2,18,6],[18,8,18,12],[18,14,18,15],[18,17,18,18],[18,20,18,21],[18,23,18,24],[16,26,16,27],[17,2,17,6],[17,8,17,12],[17,14,17,15],[17,17,17,18],[17,20,17,21],[17,23,17,24],[17,26,17,27],[16,2,16,6],[16,8,16,12],[16,14,16,15],[16,17,16,18],[16,20,16,21],[16,23,16,24],[14,26,14,27],[15,2,15,6],[15,8,15,12],[15,14,15,15],[15,17,15,18],[15,20,15,21],[15,23,15,24],[15,26,15,27],[14,2,14,6],[14,8,14,12],[14,14,14,15],[14,17,14,18],[14,20,14,21],[14,23,14,24],[12,23,12,24],[12,26,12,27],[13,0,13,1],[13,8,13,12],[13,14,13,15],[13,17,13,18],[13,20,13,21],[13,23,13,24],[13,26,13,27],[12,0,12,1],[12,2,13,6],[12,8,12,12],[12,14,12,15],[12,17,12,18],[12,20,12,21],[10,13,11,15],[10,16,10,18],[10,19,10,21],[10,22,10,24],[11,16,11,18],[11,19,11,21],[11,22,11,24],[7,26,7,27],[9,0,9,6],[9,8,11,12],[9,13,9,15],[9,16,9,18],[9,19,9,21],[9,22,9,24],[9,25,11,27],[10,0,11,1],[10,2,11,6],[7,4,7,6],[7,11,7,12],[7,14,7,15],[7,17,7,18],[7,20,7,21],[7,23,7,24],[6,20,6,21],[6,23,6,24],[6,26,6,27],[5,4,5,6],[5,11,5,12],[5,14,5,15],[5,17,5,18],[5,20,5,21],[5,23,5,24],[0,7,0,27],[1,8,1,27],[2,0,2,2],[2,8,2,27],[3,0,6,2],[3,4,4,6],[3,8,3,9],[3,10,3,12],[3,13,4,15],[3,16,3,18],[3,19,3,21],[3,22,3,24],[3,25,3,27],[4,8,4,9],[4,10,4,12],[4,16,4,18],[4,19,4,21],[4,22,4,24],[4,25,4,27],[5,26,5,27],[6,4,6,6],[6,11,6,12],[6,14,6,15],[6,17,6,18]]}
[null,null,null,null,null,null,null,"  MORAVSKOSLEZSKÝ KYNOLOGICKÝ SVAZ, z. s."]
[null,null,null,null,null,null,null," ","Člen FCI prostřednictvím Českomoravské kynologické unie"]
["Druh a stupeň",null,null,null,null,null,null," ","POTVRZENÍ O VYKONANÉ ZKOUŠCE NZŘ"]
[{"$f":"IF(Soupiska!W60=\"N\",Soupiska!B60,\"NE\")","v":"NE"},null,null,null,"A - STOPA",null,null,null,"ZM",null,"ZVV1",null,null,"ZPS1",null,null,"ZVV2",null,null,"ZVV3",null,null,"ZPS2",null,null,"ZPS2"]
[null,null,null,null,null,null,null,null,"ZMMP",null,"ZMP1",null,null,null,null,null,"ZMP2",null,null,"ZMP3",null,null,"A",null,null,"B"]
[null,null,null,null,"Vlastní - cizí",null,null,null,40,null,80,null,null,80,null,null,"80",null,null,80,null,null,80,null,null,80]
[null,null,null,null,"Předměty",null,null,null,10,null,20," ",null,20,null,null,20," ",null,20,null,null,20,null,null,20]
[null,null,null,null,"Celkem",null,null,null,50,{"$f":"SUM(J6:J7)","v":0},100,{"$f":"SUM(L6:M7)","v":0},null,100,{"$f":"SUM(O6:O7)","v":0},null,100,{"$f":"SUM(R6:S7)","v":0},null,100,{"$f":"SUM(U6:V7)","v":0},null,100,{"$f":"SUM(X6:Y7)","v":0},null,100,{"$f":"SUM(AA6:AB7)","v":0}]
[]
["Data psa-feny",null,null,null,null,null,null,null,"B - POSLUŠNOST",null,null,null,null,"ZM",null,null,"ZVV1,ZMP1",null,null,"ZVV2",null,null,"ZVV3,ZMP3",null,null,"ZZO"]
["Jméno:",null,{"$f":"Soupiska!C60","v":0},null,null,null,null,null,null,null,null,null,null,"ZMMP",null,null,"ZPS1,ZPO1",null,null,"ZMP2",null,null,"ZPS2,ZPO2"]
[null,null,null,null,null,null,null,null,null,null,null,null,null,null,null,null,"ZMPO,ZZO1",null,null,"ZZO2",null,null,"ZZO3"]
["Chovná",null,{"$f":"Soupiska!E60","v":0},null,null,null,null,null,"Přivolání psa",null,null,null,null,10,null,null,10," ",null,10," ",null,10," ",null,10]
["stanice:",null,null,null,null,null,null,null,"Ovladatelnost na vod.",null,null,null,null,10,"  ",null,10," ",null," X"," X",null," X"," X",null,10]
["Plemeno:",null,{"$f":"Soupiska!I60","v":0},null,null,null,null,null,"Ovladatelnost bez vod.",null,null,null,null," X"," X",null," X"," X",null,10," ",null,10,null,null," X"," X"]
["Pohlaví:",null,{"$f":"Soupiska!K60","v":0},null,null,null,null,null,"Polohy (S - L - V)",null,null,null,null,10,"  ",null,10," ",null,10,null," ","10"," ",null,10]
["Narozen",null,{"$f":"Soupiska!L60","v":"00:00:00"},null,null,null,null,null,"Odložení za pochodu",null,null,null,null," X"," X",null,10,null,null,10,null," ",10,null,null,10]
["Č.záp.:",null,{"$f":"Soupiska!N60","v":0},null,null,null,null,null,"Štěkání psa",null,null,null,null," X"," X",null,10," ",null,10,null," ",10," ",null," X"," X"]
["T.č./čip:",null,{"$f":"Soupiska!P60","v":0},null,null,null,null,null,"Aport volný",null,null,null,null,10," ",null,10," ",null,"X",null," X"," X"," X",null,10]
["Data psovoda",null,null,null,null,null,null,null,"Skok vysoký  (aport)",null,null,null,null," X"," X",null,10," ",null,10,null," "," X"," X",null," X"," X"]
["Jméno:",null,{"$f":"Soupiska!C61","v":0},null,null,null,null,null,"Skok šplhem  (aport)",null,null,null,null," X"," X",null,10," ",null," X","X",null,10," ",null," X"," X"]
["Příjmení:",null,{"$f":"Soupiska!E61","v":0},null,null,null,null,null,"Plížení",null,null,null,null," X"," X",null," X"," X",null,10,null," ",10," ",null," X"," X"]
["Bydliště:",null,{"$f":"Soupiska!I61","v":0},null,null,null,null,null,"Kladina (nízká/vysoká)",null,null,null,null," X"," X",null,10," ",null,10,null," ",10," ",null," X"," X"]
[null,null,null,null,null,null,null,null,"Vysílání",null,null,null,null," X"," X",null," X"," X",null,10,null,"  ",10,null,null," X"," X"]
["Narozen:",null,{"$f":"DATE(IF(MID(Soupiska!C62,1,2)*1 > YEAR(TODAY())-2000, 1900, 2000) + MID(Soupiska!C62,1,2), MOD(MID(Soupiska!C62,3,2),50), MID(Soupiska!C62,5,2))","v":{"$error":"#VALUE!"}},null,null,null,null,null,"Odložení psa",null,null,null,null,10," ",null,10," ",null,10,null," ",10," ",null,10]
["Člen ZO:",null,{"$f":"Soupiska!I62","v":0},null,null,null,null,null,"Celkem",null,null,null,null,50,{"$f":"SUM(O13:P25)","v":0},null,100,{"$f":"SUM(R13:S25)","v":0},null,100,{"$f":"SUM(U13:V25)","v":0},null,100,{"$f":"SUM(X13:Y25)","v":0},null,60,{"$f":"SUM(AA13:AB25)","v":0}]
[]
["Data akce",null,null,null,null,null,"C - OBRANA",null,null,null,"ZM",null,null,"ZVV1 ",null,null,"ZVV2",null,null,"ZVV3",null,null,"ZPO1",null,null,"ZPO2"]
["Datum:",null,{"$f":"Soupiska!T6","v":"00:00:00"},null,null,null,"Průzkum terénu",null,null,null,10," ",null,10," ",null,10,null,null,10,null,null,10,null,null,20," "]
[null,null,null,null,null,null,"Vyštěkání",null,null,null,10," ",null,10,null,null,10,null,null,10,null,null,10,null,null,20]
["Místo:",null,{"$f":"Soupiska!P5","v":0},null,null,null,"Prohl., výsl., dopr.",null,null,null," X"," X",null,"10/10",null," ","10/10",null," ",10,null," ",10," ",null,20]
[null,null,null,null,null,null,"Ochrana psovoda",null,null,null,"15",null,null," 15/5",null,null," 15/5",null,null,"20/5",null,null,"20/5",null,null,"40/10",null," "]
["Vedoucí zkoušek:",null,{"$f":"Soupiska!D6","v":0},null,null,null,"Hlídání pomocníka 2+1",null,null,null," X"," X",null," X"," X",null," X"," X",null,20,null,null,20,null,null,40,null," "]
[null,null,null,null,null,null,"Samost. činnost psa (zadržení pomocníka)",null,null,null,"15",null,null," 15/5",null," "," 15/5",null," ","20/5",null,null,"20/5",null,null,"40/10",null," "]
["Rozhodčí:",null,{"$f":"Soupiska!P6","v":0},null,null,null,"Odolnost psa",null,null,null,"X","X",null," 15/5",null," "," 15/5",null," ","X","X",null,"X","X",null,"X","X"]
[null,null,null,null,null,null,"Celkem",null,null,null,50,{"$f":"SUM(L29:M35)","v":0},null,100,{"$f":"SUM(O29:P35)","v":0},null,100,{"$f":"SUM(R29:S35)","v":0},null,100,{"$f":"SUM(U29:V35)","v":0},null,100,{"$f":"SUM(X29:Y35)","v":0},null,200,{"$f":"SUM(AA29:AB35)","v":0}]
[" ",null,null,null,null,null,null,null," ",null,null,null,null,null,null," ",null,null," "," ",null," "," ",null," "," ",null," "]
["Výsledek zkoušky",null,null,null,null,null,"D - SPEC .CVIKY",null,null,null,"ZMMP",null,null,"ZMMP1",null,null,"ZMMP2",null,null,"ZMMP3",null,null,"ZPMO",null,null,"ZZO"]
["A   stopa",null,null,{"$f":"J8+L8+O8+R8+U8+X8+AA8","v":0},null,null,"Přivol.psa za ztíž.p.",null,null,null," X"," X",null," X"," X",null," X"," X",null," X"," X",null," X"," X",null,"PV-P-N"," "]
[null,null,null,null,null,null,"Chov.psa ve sk.osob",null,null,null," X"," X",null," X"," X",null," X"," X",null," X"," X",null," X"," X",null,"PV-P-N"," "]
["B  poslušnost",null,null,{"$f":"O26+R26+U26+X26+AA26","v":0},null,null,"Chov.přiváz. psa",null,null,null," X"," X",null," X"," X",null," X"," X",null," X"," X",null," X"," X",null,"PV-P-N"," "]
[null,null,null,null,null,null,"Rozlišování předm.",null,null,null,"10/10",null,null,"15/15",null,null,"15/15",null,null," X"," X",null," X"," X",null," X"," X"]
["C   obrana ",null,null,{"$f":"L36+O36+R36+U36+X36+AA36","v":0},null,null,"Rozlišování osoby",null,null,null," X"," X",null," X"," X",null," X"," X",null," 15/5",null,null," X"," X",null," X"," X"]
[null,null,null,null,null,null,"Vyhledání předm.",null,null,null," 15/5",null,null," 24/6",null," "," 24/6",null,null," 24/6",null," "," X"," X",null," X"," X"]
["D    spec. cviky",null,null,{"$f":"IF(AA51=\" \",L51+O51+R51+U51+X51,AA51)","v":0},null,null,"Ztracený předmět",null,null,null,10,null,null,20," ",null,20,null,null,20,null,null," X"," X",null," X"," X"]
[null,null,null,null,null,null,"Průzk.terénu/vyšť.",null,null,null," X"," X",null,"10/10",null," ","10/10",null,null,"10/10",null,null,"10/10",null,null," X"," X"]
["CELKEM",null,{"$f":"VLOOKUP(A4,TYPY!A$1:D$65536,4,FALSE)","v":{"$error":"#N/A"}},{"$f":"IF(AA51=\" \",D39+D41+D43+D45,D39+D41+D43)","v":0},null,null,"Zajištění figuranta",null,null,null," X"," X",null," X"," X",null," X"," X",null," X"," X",null,10,null,null," X"," X"]
[null,null,null,null,null,null,"Doprovod figuranta",null,null,null," X"," X",null," X"," X",null," X"," X",null," X","X"," X",10,null,null," X"," X"]
["ZNÁMKA",null,null,null,null,null,"Napadení psovoda",null,null,null," X"," X",null," X"," X",null," X"," X",null," X","X"," X",30,null,null," X"," X"]
[{"$f":"IF(D47>0,IFERROR(IF(C47=300,VLOOKUP(D47,TYPY!$B$44:$C$135,2,FALSE),IF(C47=200,VLOOKUP(D47,TYPY!$N$44:$O$105,2,FALSE),IF(C47=150,VLOOKUP(D47,TYPY!$L$44:$M$90,2,FALSE),IF(C47=100,VLOOKUP(D47,TYPY!$F$44:$G$75,2,FALSE),IF(C47=60,IF(D45=\"N\",\"N\",VLOOKUP(D47,TYPY!$J$44:$K$63,2,FALSE)),\"N\"))))),\"N\"),\" \")","v":" "},null,null,null,null,null,"Hlídání  předm.",null,null,null," X"," X",null," X"," X",null," X"," X",null," X","X"," X",30,null,null," X"," X"]
[null,null,null,null,null,null,"Celkem",null,null,null,50,{"$f":"SUM(L42:M45)","v":0},null,100,{"$f":"SUM(P39:P50)","v":0},null,100,{"$f":"SUM(R42:S46)","v":0},null,100,{"$f":"SUM(U43:V46)","v":0},null,100,{"$f":"SUM(X46:Y50)","v":0},null,"PV-P-N"]
[]
[" ",null,null,null,null,null,null,null,null,null," ",null,null,null,null,null," "]
[]
[]
[]
["Razítko organizace",null,null,null,null,null,null,null,null,null,"Podpis ved.  zkoušek",null,null,null,null,null,"Podpis a razítko rozhočího"]

{"sheet":"NZR18","index":47,"n_rows":57,"n_cols":28,"rows_kept":57,"cut":false,"hidden":true,"merged":[[52,0,55,8],[52,10,55,13],[52,16,55,27],[56,0,56,8],[56,10,56,13],[56,16,56,25],[49,23,49,24],[49,26,49,27],[50,6,50,9],[50,11,50,12],[50,14,50,15],[50,17,50,18],[50,20,50,21],[50,23,50,24],[50,26,50,27],[49,0,50,4],[49,6,49,9],[49,11,49,12],[49,14,49,15],[49,17,49,18],[49,20,49,21],[48,0,48,4],[48,6,48,9],[48,11,48,12],[48,14,48,15],[48,17,48,18],[48,20,48,21],[48,23,48,24],[48,26,48,27],[46,0,47,1],[46,2,47,2],[46,3,47,4],[46,17,46,18],[46,20,46,21],[46,23,46,24],[46,26,46,27],[47,6,47,9],[47,11,47,12],[47,14,47,15],[47,17,47,18],[47,20,47,21],[47,23,47,24],[46,6,46,9],[46,11,46,12],[46,14,46,15],[47,26,47,27],[44,17,44,18],[44,20,44,21],[44,23,44,24],[44,26,44,27],[45,6,45,9],[45,11,45,12],[45,26,45,27],[42,23,42,24],[42,26,42,27],[43,6,43,9],[43,23,43,24],[43,26,43,27],[42,17,42,18],[44,0,45,2],[44,3,45,4],[44,6,44,9],[44,11,44,12],[44,14,44,15],[42,0,43,2],[42,3,43,4],[42,6,42,9],[42,11,42,12],[42,14,42,15],[40,20,40,21],[40,23,40,24],[40,26,40,27],[41,6,41,9],[41,20,41,21],[41,23,41,24],[41,26,41,27],[40,0,41,2],[40,3,41,4],[40,6,40,9],[40,11,40,12],[40,14,40,15],[40,17,40,18],[38,26,38,27],[39,6,39,9],[39,11,39,12],[39,14,39,15],[39,17,39,18],[39,20,39,21],[39,23,39,24],[39,26,39,27],[37,22,37,24],[37,25,37,27],[38,0,39,2],[38,3,39,4],[38,6,38,9],[38,11,38,12],[38,14,38,15],[38,17,38,18],[38,20,38,21],[38,23,38,24],[37,0,37,4],[37,6,37,9],[37,10,37,12],[37,13,37,15],[37,16,37,18],[37,19,37,21],[35,11,35,12],[35,14,35,15],[35,17,35,18],[35,20,35,21],[35,23,35,24],[35,26,35,27],[32,23,32,24],[33,6,33,9],[33,11,33,12],[34,0,35,1],[34,2,35,4],[34,6,34,9],[34,11,34,12],[34,20,34,21],[34,23,34,24],[30,26,30,27],[31,6,31,9],[31,11,31,12],[32,0,33,1],[32,2,33,4],[32,6,32,9],[32,11,32,12],[32,14,32,15],[32,17,32,18],[32,20,32,21],[30,0,31,1],[30,2,31,4],[30,6,30,9],[30,11,30,12],[30,20,30,21],[30,23,30,24],[34,26,34,27],[35,6,35,9],[28,26,28,27],[29,6,29,9],[29,11,29,12],[29,14,29,15],[29,17,29,18],[29,20,29,21],[29,23,29,24],[29,26,29,27],[27,22,27,24],[27,25,27,27],[28,0,29,1],[28,2,29,4],[28,6,28,9],[28,11,28,12],[28,14,28,15],[28,17,28,18],[28,20,28,21],[28,23,28,24],[27,0,27,4],[27,6,27,9],[27,10,27,12],[27,13,27,15],[27,16,27,18],[27,19,27,21],[24,23,24,24],[24,26,24,27],[25,0,25,1],[25,2,25,6],[25,8,25,12],[25,14,25,15],[25,17,25,18],[25,20,25,21],[25,23,25,24],[25,26,25,27],[24,0,24,1],[24,2,24,6],[24,8,24,12],[24,14,24,15],[24,17,24,18],[24,20,24,21],[22,23,22,24],[22,26,22,27],[23,8,23,12],[23,14,23,15],[23,17,23,18],[23,20,23,21],[23,23,23,24],[23,26,23,27],[22,0,23,1],[22,2,23,6],[22,8,22,12],[22,14,22,15],[22,17,22,18],[22,20,22,21],[20,23,20,24],[20,26,20,27],[21,0,21,1],[21,2,21,6],[21,8,21,12],[21,14,21,15],[21,17,21,18],[21,20,21,21],[21,23,21,24],[21,26,21,27],[20,0,20,1],[20,2,20,6],[20,8,20,12],[20,14,20,15],[20,17,20,18],[20,20,20,21],[18,26,18,27],[19,0,19,6],[19,8,19,12],[19,14,19,15],[19,17,19,18],[19,20,19,21],[19,23,19,24],[19,26,19,27],[18,2,18,6],[18,8,18,12],[18,14,18,15],[18,17,18,18],[18,20,18,21],[18,23,18,24],[16,26,16,27],[17,2,17,6],[17,8,17,12],[17,14,17,15],[17,17,17,18],[17,20,17,21],[17,23,17,24],[17,26,17,27],[16,2,16,6],[16,8,16,12],[16,14,16,15],[16,17,16,18],[16,20,16,21],[16,23,16,24],[14,26,14,27],[15,2,15,6],[15,8,15,12],[15,14,15,15],[15,17,15,18],[15,20,15,21],[15,23,15,24],[15,26,15,27],[14,2,14,6],[14,8,14,12],[14,14,14,15],[14,17,14,18],[14,20,14,21],[14,23,14,24],[12,23,12,24],[12,26,12,27],[13,0,13,1],[13,8,13,12],[13,14,13,15],[13,17,13,18],[13,20,13,21],[13,23,13,24],[13,26,13,27],[12,0,12,1],[12,2,13,6],[12,8,12,12],[12,14,12,15],[12,17,12,18],[12,20,12,21],[10,13,11,15],[10,16,10,18],[10,19,10,21],[10,22,10,24],[11,16,11,18],[11,19,11,21],[11,22,11,24],[7,26,7,27],[9,0,9,6],[9,8,11,12],[9,13,9,15],[9,16,9,18],[9,19,9,21],[9,22,9,24],[9,25,11,27],[10,0,11,1],[10,2,11,6],[7,4,7,6],[7,11,7,12],[7,14,7,15],[7,17,7,18],[7,20,7,21],[7,23,7,24],[6,20,6,21],[6,23,6,24],[6,26,6,27],[5,4,5,6],[5,11,5,12],[5,14,5,15],[5,17,5,18],[5,20,5,21],[5,23,5,24],[0,7,0,27],[1,8,1,27],[2,0,2,2],[2,8,2,27],[3,0,6,2],[3,4,4,6],[3,8,3,9],[3,10,3,12],[3,13,4,15],[3,16,3,18],[3,19,3,21],[3,22,3,24],[3,25,3,27],[4,8,4,9],[4,10,4,12],[4,16,4,18],[4,19,4,21],[4,22,4,24],[4,25,4,27],[5,26,5,27],[6,4,6,6],[6,11,6,12],[6,14,6,15],[6,17,6,18]]}
[null,null,null,null,null,null,null,"  MORAVSKOSLEZSKÝ KYNOLOGICKÝ SVAZ, z. s."]
[null,null,null,null,null,null,null," ","Člen FCI prostřednictvím Českomoravské kynologické unie"]
["Druh a stupeň",null,null,null,null,null,null," ","POTVRZENÍ O VYKONANÉ ZKOUŠCE NZŘ"]
[{"$f":"IF(Soupiska!W63=\"N\",Soupiska!B63,\"NE\")","v":"NE"},null,null,null,"A - STOPA",null,null,null,"ZM",null,"ZVV1",null,null,"ZPS1",null,null,"ZVV2",null,null,"ZVV3",null,null,"ZPS2",null,null,"ZPS2"]
[null,null,null,null,null,null,null,null,"ZMMP",null,"ZMP1",null,null,null,null,null,"ZMP2",null,null,"ZMP3",null,null,"A",null,null,"B"]
[null,null,null,null,"Vlastní - cizí",null,null,null,40,null,80,null,null,80,null,null,"80",null,null,80,null,null,80,null,null,80]
[null,null,null,null,"Předměty",null,null,null,10,null,20," ",null,20,null,null,20," ",null,20,null,null,20,null,null,20]
[null,null,null,null,"Celkem",null,null,null,50,{"$f":"SUM(J6:J7)","v":0},100,{"$f":"SUM(L6:M7)","v":0},null,100,{"$f":"SUM(O6:O7)","v":0},null,100,{"$f":"SUM(R6:S7)","v":0},null,100,{"$f":"SUM(U6:V7)","v":0},null,100,{"$f":"SUM(X6:Y7)","v":0},null,100,{"$f":"SUM(AA6:AB7)","v":0}]
[]
["Data psa-feny",null,null,null,null,null,null,null,"B - POSLUŠNOST",null,null,null,null,"ZM",null,null,"ZVV1,ZMP1",null,null,"ZVV2",null,null,"ZVV3,ZMP3",null,null,"ZZO"]
["Jméno:",null,{"$f":"Soupiska!C63","v":0},null,null,null,null,null,null,null,null,null,null,"ZMMP",null,null,"ZPS1,ZPO1",null,null,"ZMP2",null,null,"ZPS2,ZPO2"]
[null,null,null,null,null,null,null,null,null,null,null,null,null,null,null,null,"ZMPO,ZZO1",null,null,"ZZO2",null,null,"ZZO3"]
["Chovná",null,{"$f":"Soupiska!E63","v":0},null,null,null,null,null,"Přivolání psa",null,null,null,null,10,null,null,10," ",null,10," ",null,10," ",null,10]
["stanice:",null,null,null,null,null,null,null,"Ovladatelnost na vod.",null,null,null,null,10,"  ",null,10," ",null," X"," X",null," X"," X",null,10]
["Plemeno:",null,{"$f":"Soupiska!I63","v":0},null,null,null,null,null,"Ovladatelnost bez vod.",null,null,null,null," X"," X",null," X"," X",null,10," ",null,10,null,null," X"," X"]
["Pohlaví:",null,{"$f":"Soupiska!K63","v":0},null,null,null,null,null,"Polohy (S - L - V)",null,null,null,null,10,"  ",null,10," ",null,10,null," ","10"," ",null,10]
["Narozen",null,{"$f":"Soupiska!L63","v":"00:00:00"},null,null,null,null,null,"Odložení za pochodu",null,null,null,null," X"," X",null,10,null,null,10,null," ",10,null,null,10]
["Č.záp.:",null,{"$f":"Soupiska!N63","v":0},null,null,null,null,null,"Štěkání psa",null,null,null,null," X"," X",null,10," ",null,10,null," ",10," ",null," X"," X"]
["T.č./čip:",null,{"$f":"Soupiska!P63","v":0},null,null,null,null,null,"Aport volný",null,null,null,null,10," ",null,10," ",null,"X",null," X"," X"," X",null,10]
["Data psovoda",null,null,null,null,null,null,null,"Skok vysoký  (aport)",null,null,null,null," X"," X",null,10," ",null,10,null," "," X"," X",null," X"," X"]
["Jméno:",null,{"$f":"Soupiska!C64","v":0},null,null,null,null,null,"Skok šplhem  (aport)",null,null,null,null," X"," X",null,10," ",null," X","X",null,10," ",null," X"," X"]
["Příjmení:",null,{"$f":"Soupiska!E64","v":0},null,null,null,null,null,"Plížení",null,null,null,null," X"," X",null," X"," X",null,10,null," ",10," ",null," X"," X"]
["Bydliště:",null,{"$f":"Soupiska!I64","v":0},null,null,null,null,null,"Kladina (nízká/vysoká)",null,null,null,null," X"," X",null,10," ",null,10,null," ",10," ",null," X"," X"]
[null,null,null,null,null,null,null,null,"Vysílání",null,null,null,null," X"," X",null," X"," X",null,10,null,"  ",10,null,null," X"," X"]
["Narozen:",null,{"$f":"DATE(IF(MID(Soupiska!C65,1,2)*1 > YEAR(TODAY())-2000, 1900, 2000) + MID(Soupiska!C65,1,2), MOD(MID(Soupiska!C65,3,2),50), MID(Soupiska!C65,5,2))","v":{"$error":"#VALUE!"}},null,null,null,null,null,"Odložení psa",null,null,null,null,10," ",null,10," ",null,10,null," ",10," ",null,10]
["Člen ZO:",null,{"$f":"Soupiska!I65","v":0},null,null,null,null,null,"Celkem",null,null,null,null,50,{"$f":"SUM(O13:P25)","v":0},null,100,{"$f":"SUM(R13:S25)","v":0},null,100,{"$f":"SUM(U13:V25)","v":0},null,100,{"$f":"SUM(X13:Y25)","v":0},null,60,{"$f":"SUM(AA13:AB25)","v":0}]
[]
["Data akce",null,null,null,null,null,"C - OBRANA",null,null,null,"ZM",null,null,"ZVV1 ",null,null,"ZVV2",null,null,"ZVV3",null,null,"ZPO1",null,null,"ZPO2"]
["Datum:",null,{"$f":"Soupiska!T6","v":"00:00:00"},null,null,null,"Průzkum terénu",null,null,null,10," ",null,10," ",null,10,null,null,10,null,null,10,null,null,20," "]
[null,null,null,null,null,null,"Vyštěkání",null,null,null,10," ",null,10,null,null,10,null,null,10,null,null,10,null,null,20]
["Místo:",null,{"$f":"Soupiska!P5","v":0},null,null,null,"Prohl., výsl., dopr.",null,null,null," X"," X",null,"10/10",null," ","10/10",null," ",10,null," ",10," ",null,20]
[null,null,null,null,null,null,"Ochrana psovoda",null,null,null,"15",null,null," 15/5",null,null," 15/5",null,null,"20/5",null,null,"20/5",null,null,"40/10",null," "]
["Vedoucí zkoušek:",null,{"$f":"Soupiska!D6","v":0},null,null,null,"Hlídání pomocníka 2+1",null,null,null," X"," X",null," X"," X",null," X"," X",null,20,null,null,20,null,null,40,null," "]
[null,null,null,null,null,null,"Samost. činnost psa (zadržení pomocníka)",null,null,null,"15",null,null," 15/5",null," "," 15/5",null," ","20/5",null,null,"20/5",null,null,"40/10",null," "]
["Rozhodčí:",null,{"$f":"Soupiska!P6","v":0},null,null,null,"Odolnost psa",null,null,null,"X","X",null," 15/5",null," "," 15/5",null," ","X","X",null,"X","X",null,"X","X"]
[null,null,null,null,null,null,"Celkem",null,null,null,50,{"$f":"SUM(L29:M35)","v":0},null,100,{"$f":"SUM(O29:P35)","v":0},null,100,{"$f":"SUM(R29:S35)","v":0},null,100,{"$f":"SUM(U29:V35)","v":0},null,100,{"$f":"SUM(X29:Y35)","v":0},null,200,{"$f":"SUM(AA29:AB35)","v":0}]
[" ",null,null,null,null,null,null,null," ",null,null,null,null,null,null," ",null,null," "," ",null," "," ",null," "," ",null," "]
["Výsledek zkoušky",null,null,null,null,null,"D - SPEC .CVIKY",null,null,null,"ZMMP",null,null,"ZMMP1",null,null,"ZMMP2",null,null,"ZMMP3",null,null,"ZPMO",null,null,"ZZO"]
["A   stopa",null,null,{"$f":"J8+L8+O8+R8+U8+X8+AA8","v":0},null,null,"Přivol.psa za ztíž.p.",null,null,null," X"," X",null," X"," X",null," X"," X",null," X"," X",null," X"," X",null,"PV-P-N"," "]
[null,null,null,null,null,null,"Chov.psa ve sk.osob",null,null,null," X"," X",null," X"," X",null," X"," X",null," X"," X",null," X"," X",null,"PV-P-N"," "]
["B  poslušnost",null,null,{"$f":"O26+R26+U26+X26+AA26","v":0},null,null,"Chov.přiváz. psa",null,null,null," X"," X",null," X"," X",null," X"," X",null," X"," X",null," X"," X",null,"PV-P-N"," "]
[null,null,null,null,null,null,"Rozlišování předm.",null,null,null,"10/10",null,null,"15/15",null,null,"15/15",null,null," X"," X",null," X"," X",null," X"," X"]
["C   obrana ",null,null,{"$f":"L36+O36+R36+U36+X36+AA36","v":0},null,null,"Rozlišování osoby",null,null,null," X"," X",null," X"," X",null," X"," X",null," 15/5",null,null," X"," X",null," X"," X"]
[null,null,null,null,null,null,"Vyhledání předm.",null,null,null," 15/5",null,null," 24/6",null," "," 24/6",null,null," 24/6",null," "," X"," X",null," X"," X"]
["D    spec. cviky",null,null,{"$f":"IF(AA51=\" \",L51+O51+R51+U51+X51,AA51)","v":0},null,null,"Ztracený předmět",null,null,null,10,null,null,20," ",null,20,null,null,20,null,null," X"," X",null," X"," X"]
[null,null,null,null,null,null,"Průzk.terénu/vyšť.",null,null,null," X"," X",null,"10/10",null," ","10/10",null,null,"10/10",null,null,"10/10",null,null," X"," X"]
["CELKEM",null,{"$f":"VLOOKUP(A4,TYPY!A$1:D$65536,4,FALSE)","v":{"$error":"#N/A"}},{"$f":"IF(AA51=\" \",D39+D41+D43+D45,D39+D41+D43)","v":0},null,null,"Zajištění figuranta",null,null,null," X"," X",null," X"," X",null," X"," X",null," X"," X",null,10,null,null," X"," X"]
[null,null,null,null,null,null,"Doprovod figuranta",null,null,null," X"," X",null," X"," X",null," X"," X",null," X","X"," X",10,null,null," X"," X"]
["ZNÁMKA",null,null,null,null,null,"Napadení psovoda",null,null,null," X"," X",null," X"," X",null," X"," X",null," X","X"," X",30,null,null," X"," X"]
[{"$f":"IF(D47>0,IFERROR(IF(C47=300,VLOOKUP(D47,TYPY!$B$44:$C$135,2,FALSE),IF(C47=200,VLOOKUP(D47,TYPY!$N$44:$O$105,2,FALSE),IF(C47=150,VLOOKUP(D47,TYPY!$L$44:$M$90,2,FALSE),IF(C47=100,VLOOKUP(D47,TYPY!$F$44:$G$75,2,FALSE),IF(C47=60,IF(D45=\"N\",\"N\",VLOOKUP(D47,TYPY!$J$44:$K$63,2,FALSE)),\"N\"))))),\"N\"),\" \")","v":" "},null,null,null,null,null,"Hlídání  předm.",null,null,null," X"," X",null," X"," X",null," X"," X",null," X","X"," X",30,null,null," X"," X"]
[null,null,null,null,null,null,"Celkem",null,null,null,50,{"$f":"SUM(L42:M45)","v":0},null,100,{"$f":"SUM(P39:P50)","v":0},null,100,{"$f":"SUM(R42:S46)","v":0},null,100,{"$f":"SUM(U43:V46)","v":0},null,100,{"$f":"SUM(X46:Y50)","v":0},null,"PV-P-N"]
[]
[" ",null,null,null,null,null,null,null,null,null," ",null,null,null,null,null," "]
[]
[]
[]
["Razítko organizace",null,null,null,null,null,null,null,null,null,"Podpis ved.  zkoušek",null,null,null,null,null,"Podpis a razítko rozhočího"]

{"sheet":"NZR19","index":48,"n_rows":57,"n_cols":28,"rows_kept":57,"cut":false,"hidden":true,"merged":[[52,0,55,8],[52,10,55,13],[52,16,55,27],[56,0,56,8],[56,10,56,13],[56,16,56,25],[49,23,49,24],[49,26,49,27],[50,6,50,9],[50,11,50,12],[50,14,50,15],[50,17,50,18],[50,20,50,21],[50,23,50,24],[50,26,50,27],[49,0,50,4],[49,6,49,9],[49,11,49,12],[49,14,49,15],[49,17,49,18],[49,20,49,21],[48,0,48,4],[48,6,48,9],[48,11,48,12],[48,14,48,15],[48,17,48,18],[48,20,48,21],[48,23,48,24],[48,26,48,27],[46,0,47,1],[46,2,47,2],[46,3,47,4],[46,17,46,18],[46,20,46,21],[46,23,46,24],[46,26,46,27],[47,6,47,9],[47,11,47,12],[47,14,47,15],[47,17,47,18],[47,20,47,21],[47,23,47,24],[46,6,46,9],[46,11,46,12],[46,14,46,15],[47,26,47,27],[44,17,44,18],[44,20,44,21],[44,23,44,24],[44,26,44,27],[45,6,45,9],[45,11,45,12],[45,26,45,27],[42,23,42,24],[42,26,42,27],[43,6,43,9],[43,23,43,24],[43,26,43,27],[42,17,42,18],[44,0,45,2],[44,3,45,4],[44,6,44,9],[44,11,44,12],[44,14,44,15],[42,0,43,2],[42,3,43,4],[42,6,42,9],[42,11,42,12],[42,14,42,15],[40,20,40,21],[40,23,40,24],[40,26,40,27],[41,6,41,9],[41,20,41,21],[41,23,41,24],[41,26,41,27],[40,0,41,2],[40,3,41,4],[40,6,40,9],[40,11,40,12],[40,14,40,15],[40,17,40,18],[38,26,38,27],[39,6,39,9],[39,11,39,12],[39,14,39,15],[39,17,39,18],[39,20,39,21],[39,23,39,24],[39,26,39,27],[37,22,37,24],[37,25,37,27],[38,0,39,2],[38,3,39,4],[38,6,38,9],[38,11,38,12],[38,14,38,15],[38,17,38,18],[38,20,38,21],[38,23,38,24],[37,0,37,4],[37,6,37,9],[37,10,37,12],[37,13,37,15],[37,16,37,18],[37,19,37,21],[35,11,35,12],[35,14,35,15],[35,17,35,18],[35,20,35,21],[35,23,35,24],[35,26,35,27],[32,23,32,24],[33,6,33,9],[33,11,33,12],[34,0,35,1],[34,2,35,4],[34,6,34,9],[34,11,34,12],[34,20,34,21],[34,23,34,24],[30,26,30,27],[31,6,31,9],[31,11,31,12],[32,0,33,1],[32,2,33,4],[32,6,32,9],[32,11,32,12],[32,14,32,15],[32,17,32,18],[32,20,32,21],[30,0,31,1],[30,2,31,4],[30,6,30,9],[30,11,30,12],[30,20,30,21],[30,23,30,24],[34,26,34,27],[35,6,35,9],[28,26,28,27],[29,6,29,9],[29,11,29,12],[29,14,29,15],[29,17,29,18],[29,20,29,21],[29,23,29,24],[29,26,29,27],[27,22,27,24],[27,25,27,27],[28,0,29,1],[28,2,29,4],[28,6,28,9],[28,11,28,12],[28,14,28,15],[28,17,28,18],[28,20,28,21],[28,23,28,24],[27,0,27,4],[27,6,27,9],[27,10,27,12],[27,13,27,15],[27,16,27,18],[27,19,27,21],[24,23,24,24],[24,26,24,27],[25,0,25,1],[25,2,25,6],[25,8,25,12],[25,14,25,15],[25,17,25,18],[25,20,25,21],[25,23,25,24],[25,26,25,27],[24,0,24,1],[24,2,24,6],[24,8,24,12],[24,14,24,15],[24,17,24,18],[24,20,24,21],[22,23,22,24],[22,26,22,27],[23,8,23,12],[23,14,23,15],[23,17,23,18],[23,20,23,21],[23,23,23,24],[23,26,23,27],[22,0,23,1],[22,2,23,6],[22,8,22,12],[22,14,22,15],[22,17,22,18],[22,20,22,21],[20,23,20,24],[20,26,20,27],[21,0,21,1],[21,2,21,6],[21,8,21,12],[21,14,21,15],[21,17,21,18],[21,20,21,21],[21,23,21,24],[21,26,21,27],[20,0,20,1],[20,2,20,6],[20,8,20,12],[20,14,20,15],[20,17,20,18],[20,20,20,21],[18,26,18,27],[19,0,19,6],[19,8,19,12],[19,14,19,15],[19,17,19,18],[19,20,19,21],[19,23,19,24],[19,26,19,27],[18,2,18,6],[18,8,18,12],[18,14,18,15],[18,17,18,18],[18,20,18,21],[18,23,18,24],[16,26,16,27],[17,2,17,6],[17,8,17,12],[17,14,17,15],[17,17,17,18],[17,20,17,21],[17,23,17,24],[17,26,17,27],[16,2,16,6],[16,8,16,12],[16,14,16,15],[16,17,16,18],[16,20,16,21],[16,23,16,24],[14,26,14,27],[15,2,15,6],[15,8,15,12],[15,14,15,15],[15,17,15,18],[15,20,15,21],[15,23,15,24],[15,26,15,27],[14,2,14,6],[14,8,14,12],[14,14,14,15],[14,17,14,18],[14,20,14,21],[14,23,14,24],[12,23,12,24],[12,26,12,27],[13,0,13,1],[13,8,13,12],[13,14,13,15],[13,17,13,18],[13,20,13,21],[13,23,13,24],[13,26,13,27],[12,0,12,1],[12,2,13,6],[12,8,12,12],[12,14,12,15],[12,17,12,18],[12,20,12,21],[10,13,11,15],[10,16,10,18],[10,19,10,21],[10,22,10,24],[11,16,11,18],[11,19,11,21],[11,22,11,24],[7,26,7,27],[9,0,9,6],[9,8,11,12],[9,13,9,15],[9,16,9,18],[9,19,9,21],[9,22,9,24],[9,25,11,27],[10,0,11,1],[10,2,11,6],[7,4,7,6],[7,11,7,12],[7,14,7,15],[7,17,7,18],[7,20,7,21],[7,23,7,24],[6,20,6,21],[6,23,6,24],[6,26,6,27],[5,4,5,6],[5,11,5,12],[5,14,5,15],[5,17,5,18],[5,20,5,21],[5,23,5,24],[0,7,0,27],[1,8,1,27],[2,0,2,2],[2,8,2,27],[3,0,6,2],[3,4,4,6],[3,8,3,9],[3,10,3,12],[3,13,4,15],[3,16,3,18],[3,19,3,21],[3,22,3,24],[3,25,3,27],[4,8,4,9],[4,10,4,12],[4,16,4,18],[4,19,4,21],[4,22,4,24],[4,25,4,27],[5,26,5,27],[6,4,6,6],[6,11,6,12],[6,14,6,15],[6,17,6,18]]}
[null,null,null,null,null,null,null,"  MORAVSKOSLEZSKÝ KYNOLOGICKÝ SVAZ, z. s."]
[null,null,null,null,null,null,null," ","Člen FCI prostřednictvím Českomoravské kynologické unie"]
["Druh a stupeň",null,null,null,null,null,null," ","POTVRZENÍ O VYKONANÉ ZKOUŠCE NZŘ"]
[{"$f":"IF(Soupiska!W66=\"N\",Soupiska!B66,\"NE\")","v":"NE"},null,null,null,"A - STOPA",null,null,null,"ZM",null,"ZVV1",null,null,"ZPS1",null,null,"ZVV2",null,null,"ZVV3",null,null,"ZPS2",null,null,"ZPS2"]
[null,null,null,null,null,null,null,null,"ZMMP",null,"ZMP1",null,null,null,null,null,"ZMP2",null,null,"ZMP3",null,null,"A",null,null,"B"]
[null,null,null,null,"Vlastní - cizí",null,null,null,40,null,80,null,null,80,null,null,"80",null,null,80,null,null,80,null,null,80]
[null,null,null,null,"Předměty",null,null,null,10,null,20," ",null,20,null,null,20," ",null,20,null,null,20,null,null,20]
[null,null,null,null,"Celkem",null,null,null,50,{"$f":"SUM(J6:J7)","v":0},100,{"$f":"SUM(L6:M7)","v":0},null,100,{"$f":"SUM(O6:O7)","v":0},null,100,{"$f":"SUM(R6:S7)","v":0},null,100,{"$f":"SUM(U6:V7)","v":0},null,100,{"$f":"SUM(X6:Y7)","v":0},null,100,{"$f":"SUM(AA6:AB7)","v":0}]
[]
["Data psa-feny",null,null,null,null,null,null,null,"B - POSLUŠNOST",null,null,null,null,"ZM",null,null,"ZVV1,ZMP1",null,null,"ZVV2",null,null,"ZVV3,ZMP3",null,null,"ZZO"]
["Jméno:",null,{"$f":"Soupiska!C66","v":0},null,null,null,null,null,null,null,null,null,null,"ZMMP",null,null,"ZPS1,ZPO1",null,null,"ZMP2",null,null,"ZPS2,ZPO2"]
[null,null,null,null,null,null,null,null,null,null,null,null,null,null,null,null,"ZMPO,ZZO1",null,null,"ZZO2",null,null,"ZZO3"]
["Chovná",null,{"$f":"Soupiska!E66","v":0},null,null,null,null,null,"Přivolání psa",null,null,null,null,10,null,null,10," ",null,10," ",null,10," ",null,10]
["stanice:",null,null,null,null,null,null,null,"Ovladatelnost na vod.",null,null,null,null,10,"  ",null,10," ",null," X"," X",null," X"," X",null,10]
["Plemeno:",null,{"$f":"Soupiska!I66","v":0},null,null,null,null,null,"Ovladatelnost bez vod.",null,null,null,null," X"," X",null," X"," X",null,10," ",null,10,null,null," X"," X"]
["Pohlaví:",null,{"$f":"Soupiska!K66","v":0},null,null,null,null,null,"Polohy (S - L - V)",null,null,null,null,10,"  ",null,10," ",null,10,null," ","10"," ",null,10]
["Narozen",null,{"$f":"Soupiska!L66","v":"00:00:00"},null,null,null,null,null,"Odložení za pochodu",null,null,null,null," X"," X",null,10,null,null,10,null," ",10,null,null,10]
["Č.záp.:",null,{"$f":"Soupiska!N66","v":0},null,null,null,null,null,"Štěkání psa",null,null,null,null," X"," X",null,10," ",null,10,null," ",10," ",null," X"," X"]
["T.č./čip:",null,{"$f":"Soupiska!P66","v":0},null,null,null,null,null,"Aport volný",null,null,null,null,10," ",null,10," ",null,"X",null," X"," X"," X",null,10]
["Data psovoda",null,null,null,null,null,null,null,"Skok vysoký  (aport)",null,null,null,null," X"," X",null,10," ",null,10,null," "," X"," X",null," X"," X"]
["Jméno:",null,{"$f":"Soupiska!C67","v":0},null,null,null,null,null,"Skok šplhem  (aport)",null,null,null,null," X"," X",null,10," ",null," X","X",null,10," ",null," X"," X"]
["Příjmení:",null,{"$f":"Soupiska!E67","v":0},null,null,null,null,null,"Plížení",null,null,null,null," X"," X",null," X"," X",null,10,null," ",10," ",null," X"," X"]
["Bydliště:",null,{"$f":"Soupiska!I67","v":0},null,null,null,null,null,"Kladina (nízká/vysoká)",null,null,null,null," X"," X",null,10," ",null,10,null," ",10," ",null," X"," X"]
[null,null,null,null,null,null,null,null,"Vysílání",null,null,null,null," X"," X",null," X"," X",null,10,null,"  ",10,null,null," X"," X"]
["Narozen:",null,{"$f":"DATE(IF(MID(Soupiska!C68,1,2)*1 > YEAR(TODAY())-2000, 1900, 2000) + MID(Soupiska!C68,1,2), MOD(MID(Soupiska!C68,3,2),50), MID(Soupiska!C68,5,2))","v":{"$error":"#VALUE!"}},null,null,null,null,null,"Odložení psa",null,null,null,null,10," ",null,10," ",null,10,null," ",10," ",null,10]
["Člen ZO:",null,{"$f":"Soupiska!I68","v":0},null,null,null,null,null,"Celkem",null,null,null,null,50,{"$f":"SUM(O13:P25)","v":0},null,100,{"$f":"SUM(R13:S25)","v":0},null,100,{"$f":"SUM(U13:V25)","v":0},null,100,{"$f":"SUM(X13:Y25)","v":0},null,60,{"$f":"SUM(AA13:AB25)","v":0}]
[]
["Data akce",null,null,null,null,null,"C - OBRANA",null,null,null,"ZM",null,null,"ZVV1 ",null,null,"ZVV2",null,null,"ZVV3",null,null,"ZPO1",null,null,"ZPO2"]
["Datum:",null,{"$f":"Soupiska!T6","v":"00:00:00"},null,null,null,"Průzkum terénu",null,null,null,10," ",null,10," ",null,10,null,null,10,null,null,10,null,null,20," "]
[null,null,null,null,null,null,"Vyštěkání",null,null,null,10," ",null,10,null,null,10,null,null,10,null,null,10,null,null,20]
["Místo:",null,{"$f":"Soupiska!P5","v":0},null,null,null,"Prohl., výsl., dopr.",null,null,null," X"," X",null,"10/10",null," ","10/10",null," ",10,null," ",10," ",null,20]
[null,null,null,null,null,null,"Ochrana psovoda",null,null,null,"15",null,null," 15/5",null,null," 15/5",null,null,"20/5",null,null,"20/5",null,null,"40/10",null," "]
["Vedoucí zkoušek:",null,{"$f":"Soupiska!D6","v":0},null,null,null,"Hlídání pomocníka 2+1",null,null,null," X"," X",null," X"," X",null," X"," X",null,20,null,null,20,null,null,40,null," "]
[null,null,null,null,null,null,"Samost. činnost psa (zadržení pomocníka)",null,null,null,"15",null,null," 15/5",null," "," 15/5",null," ","20/5",null,null,"20/5",null,null,"40/10",null," "]
["Rozhodčí:",null,{"$f":"Soupiska!P6","v":0},null,null,null,"Odolnost psa",null,null,null,"X","X",null," 15/5",null," "," 15/5",null," ","X","X",null,"X","X",null,"X","X"]
[null,null,null,null,null,null,"Celkem",null,null,null,50,{"$f":"SUM(L29:M35)","v":0},null,100,{"$f":"SUM(O29:P35)","v":0},null,100,{"$f":"SUM(R29:S35)","v":0},null,100,{"$f":"SUM(U29:V35)","v":0},null,100,{"$f":"SUM(X29:Y35)","v":0},null,200,{"$f":"SUM(AA29:AB35)","v":0}]
[" ",null,null,null,null,null,null,null," ",null,null,null,null,null,null," ",null,null," "," ",null," "," ",null," "," ",null," "]
["Výsledek zkoušky",null,null,null,null,null,"D - SPEC .CVIKY",null,null,null,"ZMMP",null,null,"ZMMP1",null,null,"ZMMP2",null,null,"ZMMP3",null,null,"ZPMO",null,null,"ZZO"]
["A   stopa",null,null,{"$f":"J8+L8+O8+R8+U8+X8+AA8","v":0},null,null,"Přivol.psa za ztíž.p.",null,null,null," X"," X",null," X"," X",null," X"," X",null," X"," X",null," X"," X",null,"PV-P-N"," "]
[null,null,null,null,null,null,"Chov.psa ve sk.osob",null,null,null," X"," X",null," X"," X",null," X"," X",null," X"," X",null," X"," X",null,"PV-P-N"," "]
["B  poslušnost",null,null,{"$f":"O26+R26+U26+X26+AA26","v":0},null,null,"Chov.přiváz. psa",null,null,null," X"," X",null," X"," X",null," X"," X",null," X"," X",null," X"," X",null,"PV-P-N"," "]
[null,null,null,null,null,null,"Rozlišování předm.",null,null,null,"10/10",null,null,"15/15",null,null,"15/15",null,null," X"," X",null," X"," X",null," X"," X"]
["C   obrana ",null,null,{"$f":"L36+O36+R36+U36+X36+AA36","v":0},null,null,"Rozlišování osoby",null,null,null," X"," X",null," X"," X",null," X"," X",null," 15/5",null,null," X"," X",null," X"," X"]
[null,null,null,null,null,null,"Vyhledání předm.",null,null,null," 15/5",null,null," 24/6",null," "," 24/6",null,null," 24/6",null," "," X"," X",null," X"," X"]
["D    spec. cviky",null,null,{"$f":"IF(AA51=\" \",L51+O51+R51+U51+X51,AA51)","v":0},null,null,"Ztracený předmět",null,null,null,10,null,null,20," ",null,20,null,null,20,null,null," X"," X",null," X"," X"]
[null,null,null,null,null,null,"Průzk.terénu/vyšť.",null,null,null," X"," X",null,"10/10",null," ","10/10",null,null,"10/10",null,null,"10/10",null,null," X"," X"]
["CELKEM",null,{"$f":"VLOOKUP(A4,TYPY!A$1:D$65536,4,FALSE)","v":{"$error":"#N/A"}},{"$f":"IF(AA51=\" \",D39+D41+D43+D45,D39+D41+D43)","v":0},null,null,"Zajištění figuranta",null,null,null," X"," X",null," X"," X",null," X"," X",null," X"," X",null,10,null,null," X"," X"]
[null,null,null,null,null,null,"Doprovod figuranta",null,null,null," X"," X",null," X"," X",null," X"," X",null," X","X"," X",10,null,null," X"," X"]
["ZNÁMKA",null,null,null,null,null,"Napadení psovoda",null,null,null," X"," X",null," X"," X",null," X"," X",null," X","X"," X",30,null,null," X"," X"]
[{"$f":"IF(D47>0,IFERROR(IF(C47=300,VLOOKUP(D47,TYPY!$B$44:$C$135,2,FALSE),IF(C47=200,VLOOKUP(D47,TYPY!$N$44:$O$105,2,FALSE),IF(C47=150,VLOOKUP(D47,TYPY!$L$44:$M$90,2,FALSE),IF(C47=100,VLOOKUP(D47,TYPY!$F$44:$G$75,2,FALSE),IF(C47=60,IF(D45=\"N\",\"N\",VLOOKUP(D47,TYPY!$J$44:$K$63,2,FALSE)),\"N\"))))),\"N\"),\" \")","v":" "},null,null,null,null,null,"Hlídání  předm.",null,null,null," X"," X",null," X"," X",null," X"," X",null," X","X"," X",30,null,null," X"," X"]
[null,null,null,null,null,null,"Celkem",null,null,null,50,{"$f":"SUM(L42:M45)","v":0},null,100,{"$f":"SUM(P39:P50)","v":0},null,100,{"$f":"SUM(R42:S46)","v":0},null,100,{"$f":"SUM(U43:V46)","v":0},null,100,{"$f":"SUM(X46:Y50)","v":0},null,"PV-P-N"]
[]
[" ",null,null,null,null,null,null,null,null,null," ",null,null,null,null,null," "]
[]
[]
[]
["Razítko organizace",null,null,null,null,null,null,null,null,null,"Podpis ved.  zkoušek",null,null,null,null,null,"Podpis a razítko rozhočího"]

{"sheet":"NZR20","index":49,"n_rows":57,"n_cols":28,"rows_kept":57,"cut":false,"hidden":true,"merged":[[52,0,55,8],[52,10,55,13],[52,16,55,27],[56,0,56,8],[56,10,56,13],[56,16,56,25],[49,23,49,24],[49,26,49,27],[50,6,50,9],[50,11,50,12],[50,14,50,15],[50,17,50,18],[50,20,50,21],[50,23,50,24],[50,26,50,27],[49,0,50,4],[49,6,49,9],[49,11,49,12],[49,14,49,15],[49,17,49,18],[49,20,49,21],[48,0,48,4],[48,6,48,9],[48,11,48,12],[48,14,48,15],[48,17,48,18],[48,20,48,21],[48,23,48,24],[48,26,48,27],[46,0,47,1],[46,2,47,2],[46,3,47,4],[46,17,46,18],[46,20,46,21],[46,23,46,24],[46,26,46,27],[47,6,47,9],[47,11,47,12],[47,14,47,15],[47,17,47,18],[47,20,47,21],[47,23,47,24],[46,6,46,9],[46,11,46,12],[46,14,46,15],[47,26,47,27],[44,17,44,18],[44,20,44,21],[44,23,44,24],[44,26,44,27],[45,6,45,9],[45,11,45,12],[45,26,45,27],[42,23,42,24],[42,26,42,27],[43,6,43,9],[43,23,43,24],[43,26,43,27],[42,17,42,18],[44,0,45,2],[44,3,45,4],[44,6,44,9],[44,11,44,12],[44,14,44,15],[42,0,43,2],[42,3,43,4],[42,6,42,9],[42,11,42,12],[42,14,42,15],[40,20,40,21],[40,23,40,24],[40,26,40,27],[41,6,41,9],[41,20,41,21],[41,23,41,24],[41,26,41,27],[40,0,41,2],[40,3,41,4],[40,6,40,9],[40,11,40,12],[40,14,40,15],[40,17,40,18],[38,26,38,27],[39,6,39,9],[39,11,39,12],[39,14,39,15],[39,17,39,18],[39,20,39,21],[39,23,39,24],[39,26,39,27],[37,22,37,24],[37,25,37,27],[38,0,39,2],[38,3,39,4],[38,6,38,9],[38,11,38,12],[38,14,38,15],[38,17,38,18],[38,20,38,21],[38,23,38,24],[37,0,37,4],[37,6,37,9],[37,10,37,12],[37,13,37,15],[37,16,37,18],[37,19,37,21],[35,11,35,12],[35,14,35,15],[35,17,35,18],[35,20,35,21],[35,23,35,24],[35,26,35,27],[32,23,32,24],[33,6,33,9],[33,11,33,12],[34,0,35,1],[34,2,35,4],[34,6,34,9],[34,11,34,12],[34,20,34,21],[34,23,34,24],[30,26,30,27],[31,6,31,9],[31,11,31,12],[32,0,33,1],[32,2,33,4],[32,6,32,9],[32,11,32,12],[32,14,32,15],[32,17,32,18],[32,20,32,21],[30,0,31,1],[30,2,31,4],[30,6,30,9],[30,11,30,12],[30,20,30,21],[30,23,30,24],[34,26,34,27],[35,6,35,9],[28,26,28,27],[29,6,29,9],[29,11,29,12],[29,14,29,15],[29,17,29,18],[29,20,29,21],[29,23,29,24],[29,26,29,27],[27,22,27,24],[27,25,27,27],[28,0,29,1],[28,2,29,4],[28,6,28,9],[28,11,28,12],[28,14,28,15],[28,17,28,18],[28,20,28,21],[28,23,28,24],[27,0,27,4],[27,6,27,9],[27,10,27,12],[27,13,27,15],[27,16,27,18],[27,19,27,21],[24,23,24,24],[24,26,24,27],[25,0,25,1],[25,2,25,6],[25,8,25,12],[25,14,25,15],[25,17,25,18],[25,20,25,21],[25,23,25,24],[25,26,25,27],[24,0,24,1],[24,2,24,6],[24,8,24,12],[24,14,24,15],[24,17,24,18],[24,20,24,21],[22,23,22,24],[22,26,22,27],[23,8,23,12],[23,14,23,15],[23,17,23,18],[23,20,23,21],[23,23,23,24],[23,26,23,27],[22,0,23,1],[22,2,23,6],[22,8,22,12],[22,14,22,15],[22,17,22,18],[22,20,22,21],[20,23,20,24],[20,26,20,27],[21,0,21,1],[21,2,21,6],[21,8,21,12],[21,14,21,15],[21,17,21,18],[21,20,21,21],[21,23,21,24],[21,26,21,27],[20,0,20,1],[20,2,20,6],[20,8,20,12],[20,14,20,15],[20,17,20,18],[20,20,20,21],[18,26,18,27],[19,0,19,6],[19,8,19,12],[19,14,19,15],[19,17,19,18],[19,20,19,21],[19,23,19,24],[19,26,19,27],[18,2,18,6],[18,8,18,12],[18,14,18,15],[18,17,18,18],[18,20,18,21],[18,23,18,24],[16,26,16,27],[17,2,17,6],[17,8,17,12],[17,14,17,15],[17,17,17,18],[17,20,17,21],[17,23,17,24],[17,26,17,27],[16,2,16,6],[16,8,16,12],[16,14,16,15],[16,17,16,18],[16,20,16,21],[16,23,16,24],[14,26,14,27],[15,2,15,6],[15,8,15,12],[15,14,15,15],[15,17,15,18],[15,20,15,21],[15,23,15,24],[15,26,15,27],[14,2,14,6],[14,8,14,12],[14,14,14,15],[14,17,14,18],[14,20,14,21],[14,23,14,24],[12,23,12,24],[12,26,12,27],[13,0,13,1],[13,8,13,12],[13,14,13,15],[13,17,13,18],[13,20,13,21],[13,23,13,24],[13,26,13,27],[12,0,12,1],[12,2,13,6],[12,8,12,12],[12,14,12,15],[12,17,12,18],[12,20,12,21],[10,13,11,15],[10,16,10,18],[10,19,10,21],[10,22,10,24],[11,16,11,18],[11,19,11,21],[11,22,11,24],[7,26,7,27],[9,0,9,6],[9,8,11,12],[9,13,9,15],[9,16,9,18],[9,19,9,21],[9,22,9,24],[9,25,11,27],[10,0,11,1],[10,2,11,6],[7,4,7,6],[7,11,7,12],[7,14,7,15],[7,17,7,18],[7,20,7,21],[7,23,7,24],[6,20,6,21],[6,23,6,24],[6,26,6,27],[5,4,5,6],[5,11,5,12],[5,14,5,15],[5,17,5,18],[5,20,5,21],[5,23,5,24],[0,7,0,27],[1,8,1,27],[2,0,2,2],[2,8,2,27],[3,0,6,2],[3,4,4,6],[3,8,3,9],[3,10,3,12],[3,13,4,15],[3,16,3,18],[3,19,3,21],[3,22,3,24],[3,25,3,27],[4,8,4,9],[4,10,4,12],[4,16,4,18],[4,19,4,21],[4,22,4,24],[4,25,4,27],[5,26,5,27],[6,4,6,6],[6,11,6,12],[6,14,6,15],[6,17,6,18]]}
[null,null,null,null,null,null,null,"  MORAVSKOSLEZSKÝ KYNOLOGICKÝ SVAZ, z. s."]
[null,null,null,null,null,null,null," ","Člen FCI prostřednictvím Českomoravské kynologické unie"]
["Druh a stupeň",null,null,null,null,null,null," ","POTVRZENÍ O VYKONANÉ ZKOUŠCE NZŘ"]
[{"$f":"IF(Soupiska!W69=\"N\",Soupiska!B69,\"NE\")","v":"NE"},null,null,null,"A - STOPA",null,null,null,"ZM",null,"ZVV1",null,null,"ZPS1",null,null,"ZVV2",null,null,"ZVV3",null,null,"ZPS2",null,null,"ZPS2"]
[null,null,null,null,null,null,null,null,"ZMMP",null,"ZMP1",null,null,null,null,null,"ZMP2",null,null,"ZMP3",null,null,"A",null,null,"B"]
[null,null,null,null,"Vlastní - cizí",null,null,null,40,null,80,null,null,80,null,null,"80",null,null,80,null,null,80,null,null,80]
[null,null,null,null,"Předměty",null,null,null,10,null,20," ",null,20,null,null,20," ",null,20,null,null,20,null,null,20]
[null,null,null,null,"Celkem",null,null,null,50,{"$f":"SUM(J6:J7)","v":0},100,{"$f":"SUM(L6:M7)","v":0},null,100,{"$f":"SUM(O6:O7)","v":0},null,100,{"$f":"SUM(R6:S7)","v":0},null,100,{"$f":"SUM(U6:V7)","v":0},null,100,{"$f":"SUM(X6:Y7)","v":0},null,100,{"$f":"SUM(AA6:AB7)","v":0}]
[]
["Data psa-feny",null,null,null,null,null,null,null,"B - POSLUŠNOST",null,null,null,null,"ZM",null,null,"ZVV1,ZMP1",null,null,"ZVV2",null,null,"ZVV3,ZMP3",null,null,"ZZO"]
["Jméno:",null,{"$f":"Soupiska!C69","v":0},null,null,null,null,null,null,null,null,null,null,"ZMMP",null,null,"ZPS1,ZPO1",null,null,"ZMP2",null,null,"ZPS2,ZPO2"]
[null,null,null,null,null,null,null,null,null,null,null,null,null,null,null,null,"ZMPO,ZZO1",null,null,"ZZO2",null,null,"ZZO3"]
["Chovná",null,{"$f":"Soupiska!E69","v":0},null,null,null,null,null,"Přivolání psa",null,null,null,null,10,null,null,10," ",null,10," ",null,10," ",null,10]
["stanice:",null,null,null,null,null,null,null,"Ovladatelnost na vod.",null,null,null,null,10,"  ",null,10," ",null," X"," X",null," X"," X",null,10]
["Plemeno:",null,{"$f":"Soupiska!I69","v":0},null,null,null,null,null,"Ovladatelnost bez vod.",null,null,null,null," X"," X",null," X"," X",null,10," ",null,10,null,null," X"," X"]
["Pohlaví:",null,{"$f":"Soupiska!K69","v":0},null,null,null,null,null,"Polohy (S - L - V)",null,null,null,null,10,"  ",null,10," ",null,10,null," ","10"," ",null,10]
["Narozen",null,{"$f":"Soupiska!L69","v":"00:00:00"},null,null,null,null,null,"Odložení za pochodu",null,null,null,null," X"," X",null,10,null,null,10,null," ",10,null,null,10]
["Č.záp.:",null,{"$f":"Soupiska!N69","v":0},null,null,null,null,null,"Štěkání psa",null,null,null,null," X"," X",null,10," ",null,10,null," ",10," ",null," X"," X"]
["T.č./čip:",null,{"$f":"Soupiska!P69","v":0},null,null,null,null,null,"Aport volný",null,null,null,null,10," ",null,10," ",null,"X",null," X"," X"," X",null,10]
["Data psovoda",null,null,null,null,null,null,null,"Skok vysoký  (aport)",null,null,null,null," X"," X",null,10," ",null,10,null," "," X"," X",null," X"," X"]
["Jméno:",null,{"$f":"Soupiska!C70","v":0},null,null,null,null,null,"Skok šplhem  (aport)",null,null,null,null," X"," X",null,10," ",null," X","X",null,10," ",null," X"," X"]
["Příjmení:",null,{"$f":"Soupiska!E70","v":0},null,null,null,null,null,"Plížení",null,null,null,null," X"," X",null," X"," X",null,10,null," ",10," ",null," X"," X"]
["Bydliště:",null,{"$f":"Soupiska!I70","v":0},null,null,null,null,null,"Kladina (nízká/vysoká)",null,null,null,null," X"," X",null,10," ",null,10,null," ",10," ",null," X"," X"]
[null,null,null,null,null,null,null,null,"Vysílání",null,null,null,null," X"," X",null," X"," X",null,10,null,"  ",10,null,null," X"," X"]
["Narozen:",null,{"$f":"DATE(IF(MID(Soupiska!C71,1,2)*1 > YEAR(TODAY())-2000, 1900, 2000) + MID(Soupiska!C71,1,2), MOD(MID(Soupiska!C71,3,2),50), MID(Soupiska!C71,5,2))","v":{"$error":"#VALUE!"}},null,null,null,null,null,"Odložení psa",null,null,null,null,10," ",null,10," ",null,10,null," ",10," ",null,10]
["Člen ZO:",null,{"$f":"Soupiska!I71","v":0},null,null,null,null,null,"Celkem",null,null,null,null,50,{"$f":"SUM(O13:P25)","v":0},null,100,{"$f":"SUM(R13:S25)","v":0},null,100,{"$f":"SUM(U13:V25)","v":0},null,100,{"$f":"SUM(X13:Y25)","v":0},null,60,{"$f":"SUM(AA13:AB25)","v":0}]
[]
["Data akce",null,null,null,null,null,"C - OBRANA",null,null,null,"ZM",null,null,"ZVV1 ",null,null,"ZVV2",null,null,"ZVV3",null,null,"ZPO1",null,null,"ZPO2"]
["Datum:",null,{"$f":"Soupiska!T6","v":"00:00:00"},null,null,null,"Průzkum terénu",null,null,null,10," ",null,10," ",null,10,null,null,10,null,null,10,null,null,20," "]
[null,null,null,null,null,null,"Vyštěkání",null,null,null,10," ",null,10,null,null,10,null,null,10,null,null,10,null,null,20]
["Místo:",null,{"$f":"Soupiska!P5","v":0},null,null,null,"Prohl., výsl., dopr.",null,null,null," X"," X",null,"10/10",null," ","10/10",null," ",10,null," ",10," ",null,20]
[null,null,null,null,null,null,"Ochrana psovoda",null,null,null,"15",null,null," 15/5",null,null," 15/5",null,null,"20/5",null,null,"20/5",null,null,"40/10",null," "]
["Vedoucí zkoušek:",null,{"$f":"Soupiska!D6","v":0},null,null,null,"Hlídání pomocníka 2+1",null,null,null," X"," X",null," X"," X",null," X"," X",null,20,null,null,20,null,null,40,null," "]
[null,null,null,null,null,null,"Samost. činnost psa (zadržení pomocníka)",null,null,null,"15",null,null," 15/5",null," "," 15/5",null," ","20/5",null,null,"20/5",null,null,"40/10",null," "]
["Rozhodčí:",null,{"$f":"Soupiska!P6","v":0},null,null,null,"Odolnost psa",null,null,null,"X","X",null," 15/5",null," "," 15/5",null," ","X","X",null,"X","X",null,"X","X"]
[null,null,null,null,null,null,"Celkem",null,null,null,50,{"$f":"SUM(L29:M35)","v":0},null,100,{"$f":"SUM(O29:P35)","v":0},null,100,{"$f":"SUM(R29:S35)","v":0},null,100,{"$f":"SUM(U29:V35)","v":0},null,100,{"$f":"SUM(X29:Y35)","v":0},null,200,{"$f":"SUM(AA29:AB35)","v":0}]
[" ",null,null,null,null,null,null,null," ",null,null,null,null,null,null," ",null,null," "," ",null," "," ",null," "," ",null," "]
["Výsledek zkoušky",null,null,null,null,null,"D - SPEC .CVIKY",null,null,null,"ZMMP",null,null,"ZMMP1",null,null,"ZMMP2",null,null,"ZMMP3",null,null,"ZPMO",null,null,"ZZO"]
["A   stopa",null,null,{"$f":"J8+L8+O8+R8+U8+X8+AA8","v":0},null,null,"Přivol.psa za ztíž.p.",null,null,null," X"," X",null," X"," X",null," X"," X",null," X"," X",null," X"," X",null,"PV-P-N"," "]
[null,null,null,null,null,null,"Chov.psa ve sk.osob",null,null,null," X"," X",null," X"," X",null," X"," X",null," X"," X",null," X"," X",null,"PV-P-N"," "]
["B  poslušnost",null,null,{"$f":"O26+R26+U26+X26+AA26","v":0},null,null,"Chov.přiváz. psa",null,null,null," X"," X",null," X"," X",null," X"," X",null," X"," X",null," X"," X",null,"PV-P-N"," "]
[null,null,null,null,null,null,"Rozlišování předm.",null,null,null,"10/10",null,null,"15/15",null,null,"15/15",null,null," X"," X",null," X"," X",null," X"," X"]
["C   obrana ",null,null,{"$f":"L36+O36+R36+U36+X36+AA36","v":0},null,null,"Rozlišování osoby",null,null,null," X"," X",null," X"," X",null," X"," X",null," 15/5",null,null," X"," X",null," X"," X"]
[null,null,null,null,null,null,"Vyhledání předm.",null,null,null," 15/5",null,null," 24/6",null," "," 24/6",null,null," 24/6",null," "," X"," X",null," X"," X"]
["D    spec. cviky",null,null,{"$f":"IF(AA51=\" \",L51+O51+R51+U51+X51,AA51)","v":0},null,null,"Ztracený předmět",null,null,null,10,null,null,20," ",null,20,null,null,20,null,null," X"," X",null," X"," X"]
[null,null,null,null,null,null,"Průzk.terénu/vyšť.",null,null,null," X"," X",null,"10/10",null," ","10/10",null,null,"10/10",null,null,"10/10",null,null," X"," X"]
["CELKEM",null,{"$f":"VLOOKUP(A4,TYPY!A$1:D$65536,4,FALSE)","v":{"$error":"#N/A"}},{"$f":"IF(AA51=\" \",D39+D41+D43+D45,D39+D41+D43)","v":0},null,null,"Zajištění figuranta",null,null,null," X"," X",null," X"," X",null," X"," X",null," X"," X",null,10,null,null," X"," X"]
[null,null,null,null,null,null,"Doprovod figuranta",null,null,null," X"," X",null," X"," X",null," X"," X",null," X","X"," X",10,null,null," X"," X"]
["ZNÁMKA",null,null,null,null,null,"Napadení psovoda",null,null,null," X"," X",null," X"," X",null," X"," X",null," X","X"," X",30,null,null," X"," X"]
[{"$f":"IF(D47>0,IFERROR(IF(C47=300,VLOOKUP(D47,TYPY!$B$44:$C$135,2,FALSE),IF(C47=200,VLOOKUP(D47,TYPY!$N$44:$O$105,2,FALSE),IF(C47=150,VLOOKUP(D47,TYPY!$L$44:$M$90,2,FALSE),IF(C47=100,VLOOKUP(D47,TYPY!$F$44:$G$75,2,FALSE),IF(C47=60,IF(D45=\"N\",\"N\",VLOOKUP(D47,TYPY!$J$44:$K$63,2,FALSE)),\"N\"))))),\"N\"),\" \")","v":" "},null,null,null,null,null,"Hlídání  předm.",null,null,null," X"," X",null," X"," X",null," X"," X",null," X","X"," X",30,null,null," X"," X"]
[null,null,null,null,null,null,"Celkem",null,null,null,50,{"$f":"SUM(L42:M45)","v":0},null,100,{"$f":"SUM(P39:P50)","v":0},null,100,{"$f":"SUM(R42:S46)","v":0},null,100,{"$f":"SUM(U43:V46)","v":0},null,100,{"$f":"SUM(X46:Y50)","v":0},null,"PV-P-N"]
[]
[" ",null,null,null,null,null,null,null,null,null," ",null,null,null,null,null," "]
[]
[]
[]
["Razítko organizace",null,null,null,null,null,null,null,null,null,"Podpis ved.  zkoušek",null,null,null,null,null,"Podpis a razítko rozhočího"]

{"sheet":"NZR21","index":50,"n_rows":57,"n_cols":28,"rows_kept":57,"cut":false,"hidden":true,"merged":[[52,0,55,8],[52,10,55,13],[52,16,55,27],[56,0,56,8],[56,10,56,13],[56,16,56,25],[49,23,49,24],[49,26,49,27],[50,6,50,9],[50,11,50,12],[50,14,50,15],[50,17,50,18],[50,20,50,21],[50,23,50,24],[50,26,50,27],[49,0,50,4],[49,6,49,9],[49,11,49,12],[49,14,49,15],[49,17,49,18],[49,20,49,21],[48,0,48,4],[48,6,48,9],[48,11,48,12],[48,14,48,15],[48,17,48,18],[48,20,48,21],[48,23,48,24],[48,26,48,27],[46,0,47,1],[46,2,47,2],[46,3,47,4],[46,17,46,18],[46,20,46,21],[46,23,46,24],[46,26,46,27],[47,6,47,9],[47,11,47,12],[47,14,47,15],[47,17,47,18],[47,20,47,21],[47,23,47,24],[46,6,46,9],[46,11,46,12],[46,14,46,15],[47,26,47,27],[44,17,44,18],[44,20,44,21],[44,23,44,24],[44,26,44,27],[45,6,45,9],[45,11,45,12],[45,26,45,27],[42,23,42,24],[42,26,42,27],[43,6,43,9],[43,23,43,24],[43,26,43,27],[42,17,42,18],[44,0,45,2],[44,3,45,4],[44,6,44,9],[44,11,44,12],[44,14,44,15],[42,0,43,2],[42,3,43,4],[42,6,42,9],[42,11,42,12],[42,14,42,15],[40,20,40,21],[40,23,40,24],[40,26,40,27],[41,6,41,9],[41,20,41,21],[41,23,41,24],[41,26,41,27],[40,0,41,2],[40,3,41,4],[40,6,40,9],[40,11,40,12],[40,14,40,15],[40,17,40,18],[38,26,38,27],[39,6,39,9],[39,11,39,12],[39,14,39,15],[39,17,39,18],[39,20,39,21],[39,23,39,24],[39,26,39,27],[37,22,37,24],[37,25,37,27],[38,0,39,2],[38,3,39,4],[38,6,38,9],[38,11,38,12],[38,14,38,15],[38,17,38,18],[38,20,38,21],[38,23,38,24],[37,0,37,4],[37,6,37,9],[37,10,37,12],[37,13,37,15],[37,16,37,18],[37,19,37,21],[35,11,35,12],[35,14,35,15],[35,17,35,18],[35,20,35,21],[35,23,35,24],[35,26,35,27],[32,23,32,24],[33,6,33,9],[33,11,33,12],[34,0,35,1],[34,2,35,4],[34,6,34,9],[34,11,34,12],[34,20,34,21],[34,23,34,24],[30,26,30,27],[31,6,31,9],[31,11,31,12],[32,0,33,1],[32,2,33,4],[32,6,32,9],[32,11,32,12],[32,14,32,15],[32,17,32,18],[32,20,32,21],[30,0,31,1],[30,2,31,4],[30,6,30,9],[30,11,30,12],[30,20,30,21],[30,23,30,24],[34,26,34,27],[35,6,35,9],[28,26,28,27],[29,6,29,9],[29,11,29,12],[29,14,29,15],[29,17,29,18],[29,20,29,21],[29,23,29,24],[29,26,29,27],[27,22,27,24],[27,25,27,27],[28,0,29,1],[28,2,29,4],[28,6,28,9],[28,11,28,12],[28,14,28,15],[28,17,28,18],[28,20,28,21],[28,23,28,24],[27,0,27,4],[27,6,27,9],[27,10,27,12],[27,13,27,15],[27,16,27,18],[27,19,27,21],[24,23,24,24],[24,26,24,27],[25,0,25,1],[25,2,25,6],[25,8,25,12],[25,14,25,15],[25,17,25,18],[25,20,25,21],[25,23,25,24],[25,26,25,27],[24,0,24,1],[24,2,24,6],[24,8,24,12],[24,14,24,15],[24,17,24,18],[24,20,24,21],[22,23,22,24],[22,26,22,27],[23,8,23,12],[23,14,23,15],[23,17,23,18],[23,20,23,21],[23,23,23,24],[23,26,23,27],[22,0,23,1],[22,2,23,6],[22,8,22,12],[22,14,22,15],[22,17,22,18],[22,20,22,21],[20,23,20,24],[20,26,20,27],[21,0,21,1],[21,2,21,6],[21,8,21,12],[21,14,21,15],[21,17,21,18],[21,20,21,21],[21,23,21,24],[21,26,21,27],[20,0,20,1],[20,2,20,6],[20,8,20,12],[20,14,20,15],[20,17,20,18],[20,20,20,21],[18,26,18,27],[19,0,19,6],[19,8,19,12],[19,14,19,15],[19,17,19,18],[19,20,19,21],[19,23,19,24],[19,26,19,27],[18,2,18,6],[18,8,18,12],[18,14,18,15],[18,17,18,18],[18,20,18,21],[18,23,18,24],[16,26,16,27],[17,2,17,6],[17,8,17,12],[17,14,17,15],[17,17,17,18],[17,20,17,21],[17,23,17,24],[17,26,17,27],[16,2,16,6],[16,8,16,12],[16,14,16,15],[16,17,16,18],[16,20,16,21],[16,23,16,24],[14,26,14,27],[15,2,15,6],[15,8,15,12],[15,14,15,15],[15,17,15,18],[15,20,15,21],[15,23,15,24],[15,26,15,27],[14,2,14,6],[14,8,14,12],[14,14,14,15],[14,17,14,18],[14,20,14,21],[14,23,14,24],[12,23,12,24],[12,26,12,27],[13,0,13,1],[13,8,13,12],[13,14,13,15],[13,17,13,18],[13,20,13,21],[13,23,13,24],[13,26,13,27],[12,0,12,1],[12,2,13,6],[12,8,12,12],[12,14,12,15],[12,17,12,18],[12,20,12,21],[10,13,11,15],[10,16,10,18],[10,19,10,21],[10,22,10,24],[11,16,11,18],[11,19,11,21],[11,22,11,24],[7,26,7,27],[9,0,9,6],[9,8,11,12],[9,13,9,15],[9,16,9,18],[9,19,9,21],[9,22,9,24],[9,25,11,27],[10,0,11,1],[10,2,11,6],[7,4,7,6],[7,11,7,12],[7,14,7,15],[7,17,7,18],[7,20,7,21],[7,23,7,24],[6,20,6,21],[6,23,6,24],[6,26,6,27],[5,4,5,6],[5,11,5,12],[5,14,5,15],[5,17,5,18],[5,20,5,21],[5,23,5,24],[0,7,0,27],[1,8,1,27],[2,0,2,2],[2,8,2,27],[3,0,6,2],[3,4,4,6],[3,8,3,9],[3,10,3,12],[3,13,4,15],[3,16,3,18],[3,19,3,21],[3,22,3,24],[3,25,3,27],[4,8,4,9],[4,10,4,12],[4,16,4,18],[4,19,4,21],[4,22,4,24],[4,25,4,27],[5,26,5,27],[6,4,6,6],[6,11,6,12],[6,14,6,15],[6,17,6,18]]}
[null,null,null,null,null,null,null,"  MORAVSKOSLEZSKÝ KYNOLOGICKÝ SVAZ, z. s."]
[null,null,null,null,null,null,null," ","Člen FCI prostřednictvím Českomoravské kynologické unie"]
["Druh a stupeň",null,null,null,null,null,null," ","POTVRZENÍ O VYKONANÉ ZKOUŠCE NZŘ"]
[{"$f":"IF(Soupiska!W72=\"N\",Soupiska!B72,\"NE\")","v":"NE"},null,null,null,"A - STOPA",null,null,null,"ZM",null,"ZVV1",null,null,"ZPS1",null,null,"ZVV2",null,null,"ZVV3",null,null,"ZPS2",null,null,"ZPS2"]
[null,null,null,null,null,null,null,null,"ZMMP",null,"ZMP1",null,null,null,null,null,"ZMP2",null,null,"ZMP3",null,null,"A",null,null,"B"]
[null,null,null,null,"Vlastní - cizí",null,null,null,40,null,80,null,null,80,null,null,"80",null,null,80,null,null,80,null,null,80]
[null,null,null,null,"Předměty",null,null,null,10,null,20," ",null,20,null,null,20," ",null,20,null,null,20,null,null,20]
[null,null,null,null,"Celkem",null,null,null,50,{"$f":"SUM(J6:J7)","v":0},100,{"$f":"SUM(L6:M7)","v":0},null,100,{"$f":"SUM(O6:O7)","v":0},null,100,{"$f":"SUM(R6:S7)","v":0},null,100,{"$f":"SUM(U6:V7)","v":0},null,100,{"$f":"SUM(X6:Y7)","v":0},null,100,{"$f":"SUM(AA6:AB7)","v":0}]
[]
["Data psa-feny",null,null,null,null,null,null,null,"B - POSLUŠNOST",null,null,null,null,"ZM",null,null,"ZVV1,ZMP1",null,null,"ZVV2",null,null,"ZVV3,ZMP3",null,null,"ZZO"]
["Jméno:",null,{"$f":"Soupiska!C72","v":0},null,null,null,null,null,null,null,null,null,null,"ZMMP",null,null,"ZPS1,ZPO1",null,null,"ZMP2",null,null,"ZPS2,ZPO2"]
[null,null,null,null,null,null,null,null,null,null,null,null,null,null,null,null,"ZMPO,ZZO1",null,null,"ZZO2",null,null,"ZZO3"]
["Chovná",null,{"$f":"Soupiska!E72","v":0},null,null,null,null,null,"Přivolání psa",null,null,null,null,10,null,null,10," ",null,10," ",null,10," ",null,10]
["stanice:",null,null,null,null,null,null,null,"Ovladatelnost na vod.",null,null,null,null,10,"  ",null,10," ",null," X"," X",null," X"," X",null,10]
["Plemeno:",null,{"$f":"Soupiska!I72","v":0},null,null,null,null,null,"Ovladatelnost bez vod.",null,null,null,null," X"," X",null," X"," X",null,10," ",null,10,null,null," X"," X"]
["Pohlaví:",null,{"$f":"Soupiska!K72","v":0},null,null,null,null,null,"Polohy (S - L - V)",null,null,null,null,10,"  ",null,10," ",null,10,null," ","10"," ",null,10]
["Narozen",null,{"$f":"Soupiska!L72","v":"00:00:00"},null,null,null,null,null,"Odložení za pochodu",null,null,null,null," X"," X",null,10,null,null,10,null," ",10,null,null,10]
["Č.záp.:",null,{"$f":"Soupiska!N72","v":0},null,null,null,null,null,"Štěkání psa",null,null,null,null," X"," X",null,10," ",null,10,null," ",10," ",null," X"," X"]
["T.č./čip:",null,{"$f":"Soupiska!P72","v":0},null,null,null,null,null,"Aport volný",null,null,null,null,10," ",null,10," ",null,"X",null," X"," X"," X",null,10]
["Data psovoda",null,null,null,null,null,null,null,"Skok vysoký  (aport)",null,null,null,null," X"," X",null,10," ",null,10,null," "," X"," X",null," X"," X"]
["Jméno:",null,{"$f":"Soupiska!C73","v":0},null,null,null,null,null,"Skok šplhem  (aport)",null,null,null,null," X"," X",null,10," ",null," X","X",null,10," ",null," X"," X"]
["Příjmení:",null,{"$f":"Soupiska!E73","v":0},null,null,null,null,null,"Plížení",null,null,null,null," X"," X",null," X"," X",null,10,null," ",10," ",null," X"," X"]
["Bydliště:",null,{"$f":"Soupiska!I73","v":0},null,null,null,null,null,"Kladina (nízká/vysoká)",null,null,null,null," X"," X",null,10," ",null,10,null," ",10," ",null," X"," X"]
[null,null,null,null,null,null,null,null,"Vysílání",null,null,null,null," X"," X",null," X"," X",null,10,null,"  ",10,null,null," X"," X"]
["Narozen:",null,{"$f":"DATE(IF(MID(Soupiska!C74,1,2)*1 > YEAR(TODAY())-2000, 1900, 2000) + MID(Soupiska!C74,1,2), MOD(MID(Soupiska!C74,3,2),50), MID(Soupiska!C74,5,2))","v":{"$error":"#VALUE!"}},null,null,null,null,null,"Odložení psa",null,null,null,null,10," ",null,10," ",null,10,null," ",10," ",null,10]
["Člen ZO:",null,{"$f":"Soupiska!I74","v":0},null,null,null,null,null,"Celkem",null,null,null,null,50,{"$f":"SUM(O13:P25)","v":0},null,100,{"$f":"SUM(R13:S25)","v":0},null,100,{"$f":"SUM(U13:V25)","v":0},null,100,{"$f":"SUM(X13:Y25)","v":0},null,60,{"$f":"SUM(AA13:AB25)","v":0}]
[]
["Data akce",null,null,null,null,null,"C - OBRANA",null,null,null,"ZM",null,null,"ZVV1 ",null,null,"ZVV2",null,null,"ZVV3",null,null,"ZPO1",null,null,"ZPO2"]
["Datum:",null,{"$f":"Soupiska!T6","v":"00:00:00"},null,null,null,"Průzkum terénu",null,null,null,10," ",null,10," ",null,10,null,null,10,null,null,10,null,null,20," "]
[null,null,null,null,null,null,"Vyštěkání",null,null,null,10," ",null,10,null,null,10,null,null,10,null,null,10,null,null,20]
["Místo:",null,{"$f":"Soupiska!P5","v":0},null,null,null,"Prohl., výsl., dopr.",null,null,null," X"," X",null,"10/10",null," ","10/10",null," ",10,null," ",10," ",null,20]
[null,null,null,null,null,null,"Ochrana psovoda",null,null,null,"15",null,null," 15/5",null,null," 15/5",null,null,"20/5",null,null,"20/5",null,null,"40/10",null," "]
["Vedoucí zkoušek:",null,{"$f":"Soupiska!D6","v":0},null,null,null,"Hlídání pomocníka 2+1",null,null,null," X"," X",null," X"," X",null," X"," X",null,20,null,null,20,null,null,40,null," "]
[null,null,null,null,null,null,"Samost. činnost psa (zadržení pomocníka)",null,null,null,"15",null,null," 15/5",null," "," 15/5",null," ","20/5",null,null,"20/5",null,null,"40/10",null," "]
["Rozhodčí:",null,{"$f":"Soupiska!P6","v":0},null,null,null,"Odolnost psa",null,null,null,"X","X",null," 15/5",null," "," 15/5",null," ","X","X",null,"X","X",null,"X","X"]
[null,null,null,null,null,null,"Celkem",null,null,null,50,{"$f":"SUM(L29:M35)","v":0},null,100,{"$f":"SUM(O29:P35)","v":0},null,100,{"$f":"SUM(R29:S35)","v":0},null,100,{"$f":"SUM(U29:V35)","v":0},null,100,{"$f":"SUM(X29:Y35)","v":0},null,200,{"$f":"SUM(AA29:AB35)","v":0}]
[" ",null,null,null,null,null,null,null," ",null,null,null,null,null,null," ",null,null," "," ",null," "," ",null," "," ",null," "]
["Výsledek zkoušky",null,null,null,null,null,"D - SPEC .CVIKY",null,null,null,"ZMMP",null,null,"ZMMP1",null,null,"ZMMP2",null,null,"ZMMP3",null,null,"ZPMO",null,null,"ZZO"]
["A   stopa",null,null,{"$f":"J8+L8+O8+R8+U8+X8+AA8","v":0},null,null,"Přivol.psa za ztíž.p.",null,null,null," X"," X",null," X"," X",null," X"," X",null," X"," X",null," X"," X",null,"PV-P-N"," "]
[null,null,null,null,null,null,"Chov.psa ve sk.osob",null,null,null," X"," X",null," X"," X",null," X"," X",null," X"," X",null," X"," X",null,"PV-P-N"," "]
["B  poslušnost",null,null,{"$f":"O26+R26+U26+X26+AA26","v":0},null,null,"Chov.přiváz. psa",null,null,null," X"," X",null," X"," X",null," X"," X",null," X"," X",null," X"," X",null,"PV-P-N"," "]
[null,null,null,null,null,null,"Rozlišování předm.",null,null,null,"10/10",null,null,"15/15",null,null,"15/15",null,null," X"," X",null," X"," X",null," X"," X"]
["C   obrana ",null,null,{"$f":"L36+O36+R36+U36+X36+AA36","v":0},null,null,"Rozlišování osoby",null,null,null," X"," X",null," X"," X",null," X"," X",null," 15/5",null,null," X"," X",null," X"," X"]
[null,null,null,null,null,null,"Vyhledání předm.",null,null,null," 15/5",null,null," 24/6",null," "," 24/6",null,null," 24/6",null," "," X"," X",null," X"," X"]
["D    spec. cviky",null,null,{"$f":"IF(AA51=\" \",L51+O51+R51+U51+X51,AA51)","v":0},null,null,"Ztracený předmět",null,null,null,10,null,null,20," ",null,20,null,null,20,null,null," X"," X",null," X"," X"]
[null,null,null,null,null,null,"Průzk.terénu/vyšť.",null,null,null," X"," X",null,"10/10",null," ","10/10",null,null,"10/10",null,null,"10/10",null,null," X"," X"]
["CELKEM",null,{"$f":"VLOOKUP(A4,TYPY!A$1:D$65536,4,FALSE)","v":{"$error":"#N/A"}},{"$f":"IF(AA51=\" \",D39+D41+D43+D45,D39+D41+D43)","v":0},null,null,"Zajištění figuranta",null,null,null," X"," X",null," X"," X",null," X"," X",null," X"," X",null,10,null,null," X"," X"]
[null,null,null,null,null,null,"Doprovod figuranta",null,null,null," X"," X",null," X"," X",null," X"," X",null," X","X"," X",10,null,null," X"," X"]
["ZNÁMKA",null,null,null,null,null,"Napadení psovoda",null,null,null," X"," X",null," X"," X",null," X"," X",null," X","X"," X",30,null,null," X"," X"]
[{"$f":"IF(D47>0,IFERROR(IF(C47=300,VLOOKUP(D47,TYPY!$B$44:$C$135,2,FALSE),IF(C47=200,VLOOKUP(D47,TYPY!$N$44:$O$105,2,FALSE),IF(C47=150,VLOOKUP(D47,TYPY!$L$44:$M$90,2,FALSE),IF(C47=100,VLOOKUP(D47,TYPY!$F$44:$G$75,2,FALSE),IF(C47=60,IF(D45=\"N\",\"N\",VLOOKUP(D47,TYPY!$J$44:$K$63,2,FALSE)),\"N\"))))),\"N\"),\" \")","v":" "},null,null,null,null,null,"Hlídání  předm.",null,null,null," X"," X",null," X"," X",null," X"," X",null," X","X"," X",30,null,null," X"," X"]
[null,null,null,null,null,null,"Celkem",null,null,null,50,{"$f":"SUM(L42:M45)","v":0},null,100,{"$f":"SUM(P39:P50)","v":0},null,100,{"$f":"SUM(R42:S46)","v":0},null,100,{"$f":"SUM(U43:V46)","v":0},null,100,{"$f":"SUM(X46:Y50)","v":0},null,"PV-P-N"]
[]
[" ",null,null,null,null,null,null,null,null,null," ",null,null,null,null,null," "]
[]
[]
[]
["Razítko organizace",null,null,null,null,null,null,null,null,null,"Podpis ved.  zkoušek",null,null,null,null,null,"Podpis a razítko rozhočího"]

{"sheet":"NZR22","index":51,"n_rows":57,"n_cols":28,"rows_kept":57,"cut":false,"hidden":true,"merged":[[52,0,55,8],[52,10,55,13],[52,16,55,27],[56,0,56,8],[56,10,56,13],[56,16,56,25],[49,23,49,24],[49,26,49,27],[50,6,50,9],[50,11,50,12],[50,14,50,15],[50,17,50,18],[50,20,50,21],[50,23,50,24],[50,26,50,27],[49,0,50,4],[49,6,49,9],[49,11,49,12],[49,14,49,15],[49,17,49,18],[49,20,49,21],[48,0,48,4],[48,6,48,9],[48,11,48,12],[48,14,48,15],[48,17,48,18],[48,20,48,21],[48,23,48,24],[48,26,48,27],[46,0,47,1],[46,2,47,2],[46,3,47,4],[46,17,46,18],[46,20,46,21],[46,23,46,24],[46,26,46,27],[47,6,47,9],[47,11,47,12],[47,14,47,15],[47,17,47,18],[47,20,47,21],[47,23,47,24],[46,6,46,9],[46,11,46,12],[46,14,46,15],[47,26,47,27],[44,17,44,18],[44,20,44,21],[44,23,44,24],[44,26,44,27],[45,6,45,9],[45,11,45,12],[45,26,45,27],[42,23,42,24],[42,26,42,27],[43,6,43,9],[43,23,43,24],[43,26,43,27],[42,17,42,18],[44,0,45,2],[44,3,45,4],[44,6,44,9],[44,11,44,12],[44,14,44,15],[42,0,43,2],[42,3,43,4],[42,6,42,9],[42,11,42,12],[42,14,42,15],[40,20,40,21],[40,23,40,24],[40,26,40,27],[41,6,41,9],[41,20,41,21],[41,23,41,24],[41,26,41,27],[40,0,41,2],[40,3,41,4],[40,6,40,9],[40,11,40,12],[40,14,40,15],[40,17,40,18],[38,26,38,27],[39,6,39,9],[39,11,39,12],[39,14,39,15],[39,17,39,18],[39,20,39,21],[39,23,39,24],[39,26,39,27],[37,22,37,24],[37,25,37,27],[38,0,39,2],[38,3,39,4],[38,6,38,9],[38,11,38,12],[38,14,38,15],[38,17,38,18],[38,20,38,21],[38,23,38,24],[37,0,37,4],[37,6,37,9],[37,10,37,12],[37,13,37,15],[37,16,37,18],[37,19,37,21],[35,11,35,12],[35,14,35,15],[35,17,35,18],[35,20,35,21],[35,23,35,24],[35,26,35,27],[32,23,32,24],[33,6,33,9],[33,11,33,12],[34,0,35,1],[34,2,35,4],[34,6,34,9],[34,11,34,12],[34,20,34,21],[34,23,34,24],[30,26,30,27],[31,6,31,9],[31,11,31,12],[32,0,33,1],[32,2,33,4],[32,6,32,9],[32,11,32,12],[32,14,32,15],[32,17,32,18],[32,20,32,21],[30,0,31,1],[30,2,31,4],[30,6,30,9],[30,11,30,12],[30,20,30,21],[30,23,30,24],[34,26,34,27],[35,6,35,9],[28,26,28,27],[29,6,29,9],[29,11,29,12],[29,14,29,15],[29,17,29,18],[29,20,29,21],[29,23,29,24],[29,26,29,27],[27,22,27,24],[27,25,27,27],[28,0,29,1],[28,2,29,4],[28,6,28,9],[28,11,28,12],[28,14,28,15],[28,17,28,18],[28,20,28,21],[28,23,28,24],[27,0,27,4],[27,6,27,9],[27,10,27,12],[27,13,27,15],[27,16,27,18],[27,19,27,21],[24,23,24,24],[24,26,24,27],[25,0,25,1],[25,2,25,6],[25,8,25,12],[25,14,25,15],[25,17,25,18],[25,20,25,21],[25,23,25,24],[25,26,25,27],[24,0,24,1],[24,2,24,6],[24,8,24,12],[24,14,24,15],[24,17,24,18],[24,20,24,21],[22,23,22,24],[22,26,22,27],[23,8,23,12],[23,14,23,15],[23,17,23,18],[23,20,23,21],[23,23,23,24],[23,26,23,27],[22,0,23,1],[22,2,23,6],[22,8,22,12],[22,14,22,15],[22,17,22,18],[22,20,22,21],[20,23,20,24],[20,26,20,27],[21,0,21,1],[21,2,21,6],[21,8,21,12],[21,14,21,15],[21,17,21,18],[21,20,21,21],[21,23,21,24],[21,26,21,27],[20,0,20,1],[20,2,20,6],[20,8,20,12],[20,14,20,15],[20,17,20,18],[20,20,20,21],[18,26,18,27],[19,0,19,6],[19,8,19,12],[19,14,19,15],[19,17,19,18],[19,20,19,21],[19,23,19,24],[19,26,19,27],[18,2,18,6],[18,8,18,12],[18,14,18,15],[18,17,18,18],[18,20,18,21],[18,23,18,24],[16,26,16,27],[17,2,17,6],[17,8,17,12],[17,14,17,15],[17,17,17,18],[17,20,17,21],[17,23,17,24],[17,26,17,27],[16,2,16,6],[16,8,16,12],[16,14,16,15],[16,17,16,18],[16,20,16,21],[16,23,16,24],[14,26,14,27],[15,2,15,6],[15,8,15,12],[15,14,15,15],[15,17,15,18],[15,20,15,21],[15,23,15,24],[15,26,15,27],[14,2,14,6],[14,8,14,12],[14,14,14,15],[14,17,14,18],[14,20,14,21],[14,23,14,24],[12,23,12,24],[12,26,12,27],[13,0,13,1],[13,8,13,12],[13,14,13,15],[13,17,13,18],[13,20,13,21],[13,23,13,24],[13,26,13,27],[12,0,12,1],[12,2,13,6],[12,8,12,12],[12,14,12,15],[12,17,12,18],[12,20,12,21],[10,13,11,15],[10,16,10,18],[10,19,10,21],[10,22,10,24],[11,16,11,18],[11,19,11,21],[11,22,11,24],[7,26,7,27],[9,0,9,6],[9,8,11,12],[9,13,9,15],[9,16,9,18],[9,19,9,21],[9,22,9,24],[9,25,11,27],[10,0,11,1],[10,2,11,6],[7,4,7,6],[7,11,7,12],[7,14,7,15],[7,17,7,18],[7,20,7,21],[7,23,7,24],[6,20,6,21],[6,23,6,24],[6,26,6,27],[5,4,5,6],[5,11,5,12],[5,14,5,15],[5,17,5,18],[5,20,5,21],[5,23,5,24],[0,7,0,27],[1,8,1,27],[2,0,2,2],[2,8,2,27],[3,0,6,2],[3,4,4,6],[3,8,3,9],[3,10,3,12],[3,13,4,15],[3,16,3,18],[3,19,3,21],[3,22,3,24],[3,25,3,27],[4,8,4,9],[4,10,4,12],[4,16,4,18],[4,19,4,21],[4,22,4,24],[4,25,4,27],[5,26,5,27],[6,4,6,6],[6,11,6,12],[6,14,6,15],[6,17,6,18]]}
[null,null,null,null,null,null,null,"  MORAVSKOSLEZSKÝ KYNOLOGICKÝ SVAZ, z. s."]
[null,null,null,null,null,null,null," ","Člen FCI prostřednictvím Českomoravské kynologické unie"]
["Druh a stupeň",null,null,null,null,null,null," ","POTVRZENÍ O VYKONANÉ ZKOUŠCE NZŘ"]
[{"$f":"IF(Soupiska!W75=\"N\",Soupiska!B75,\"NE\")","v":"NE"},null,null,null,"A - STOPA",null,null,null,"ZM",null,"ZVV1",null,null,"ZPS1",null,null,"ZVV2",null,null,"ZVV3",null,null,"ZPS2",null,null,"ZPS2"]
[null,null,null,null,null,null,null,null,"ZMMP",null,"ZMP1",null,null,null,null,null,"ZMP2",null,null,"ZMP3",null,null,"A",null,null,"B"]
[null,null,null,null,"Vlastní - cizí",null,null,null,40,null,80,null,null,80,null,null,"80",null,null,80,null,null,80,null,null,80]
[null,null,null,null,"Předměty",null,null,null,10,null,20," ",null,20,null,null,20," ",null,20,null,null,20,null,null,20]
[null,null,null,null,"Celkem",null,null,null,50,{"$f":"SUM(J6:J7)","v":0},100,{"$f":"SUM(L6:M7)","v":0},null,100,{"$f":"SUM(O6:O7)","v":0},null,100,{"$f":"SUM(R6:S7)","v":0},null,100,{"$f":"SUM(U6:V7)","v":0},null,100,{"$f":"SUM(X6:Y7)","v":0},null,100,{"$f":"SUM(AA6:AB7)","v":0}]
[]
["Data psa-feny",null,null,null,null,null,null,null,"B - POSLUŠNOST",null,null,null,null,"ZM",null,null,"ZVV1,ZMP1",null,null,"ZVV2",null,null,"ZVV3,ZMP3",null,null,"ZZO"]
["Jméno:",null,{"$f":"Soupiska!C75","v":0},null,null,null,null,null,null,null,null,null,null,"ZMMP",null,null,"ZPS1,ZPO1",null,null,"ZMP2",null,null,"ZPS2,ZPO2"]
[null,null,null,null,null,null,null,null,null,null,null,null,null,null,null,null,"ZMPO,ZZO1",null,null,"ZZO2",null,null,"ZZO3"]
["Chovná",null,{"$f":"Soupiska!E75","v":0},null,null,null,null,null,"Přivolání psa",null,null,null,null,10,null,null,10," ",null,10," ",null,10," ",null,10]
["stanice:",null,null,null,null,null,null,null,"Ovladatelnost na vod.",null,null,null,null,10,"  ",null,10," ",null," X"," X",null," X"," X",null,10]
["Plemeno:",null,{"$f":"Soupiska!I75","v":0},null,null,null,null,null,"Ovladatelnost bez vod.",null,null,null,null," X"," X",null," X"," X",null,10," ",null,10,null,null," X"," X"]
["Pohlaví:",null,{"$f":"Soupiska!K75","v":0},null,null,null,null,null,"Polohy (S - L - V)",null,null,null,null,10,"  ",null,10," ",null,10,null," ","10"," ",null,10]
["Narozen",null,{"$f":"Soupiska!L75","v":"00:00:00"},null,null,null,null,null,"Odložení za pochodu",null,null,null,null," X"," X",null,10,null,null,10,null," ",10,null,null,10]
["Č.záp.:",null,{"$f":"Soupiska!N75","v":0},null,null,null,null,null,"Štěkání psa",null,null,null,null," X"," X",null,10," ",null,10,null," ",10," ",null," X"," X"]
["T.č./čip:",null,{"$f":"Soupiska!P75","v":0},null,null,null,null,null,"Aport volný",null,null,null,null,10," ",null,10," ",null,"X",null," X"," X"," X",null,10]
["Data psovoda",null,null,null,null,null,null,null,"Skok vysoký  (aport)",null,null,null,null," X"," X",null,10," ",null,10,null," "," X"," X",null," X"," X"]
["Jméno:",null,{"$f":"Soupiska!C76","v":0},null,null,null,null,null,"Skok šplhem  (aport)",null,null,null,null," X"," X",null,10," ",null," X","X",null,10," ",null," X"," X"]
["Příjmení:",null,{"$f":"Soupiska!E76","v":0},null,null,null,null,null,"Plížení",null,null,null,null," X"," X",null," X"," X",null,10,null," ",10," ",null," X"," X"]
["Bydliště:",null,{"$f":"Soupiska!I76","v":0},null,null,null,null,null,"Kladina (nízká/vysoká)",null,null,null,null," X"," X",null,10," ",null,10,null," ",10," ",null," X"," X"]
[null,null,null,null,null,null,null,null,"Vysílání",null,null,null,null," X"," X",null," X"," X",null,10,null,"  ",10,null,null," X"," X"]
["Narozen:",null,{"$f":"DATE(IF(MID(Soupiska!C77,1,2)*1 > YEAR(TODAY())-2000, 1900, 2000) + MID(Soupiska!C77,1,2), MOD(MID(Soupiska!C77,3,2),50), MID(Soupiska!C77,5,2))","v":{"$error":"#VALUE!"}},null,null,null,null,null,"Odložení psa",null,null,null,null,10," ",null,10," ",null,10,null," ",10," ",null,10]
["Člen ZO:",null,{"$f":"Soupiska!I77","v":0},null,null,null,null,null,"Celkem",null,null,null,null,50,{"$f":"SUM(O13:P25)","v":0},null,100,{"$f":"SUM(R13:S25)","v":0},null,100,{"$f":"SUM(U13:V25)","v":0},null,100,{"$f":"SUM(X13:Y25)","v":0},null,60,{"$f":"SUM(AA13:AB25)","v":0}]
[]
["Data akce",null,null,null,null,null,"C - OBRANA",null,null,null,"ZM",null,null,"ZVV1 ",null,null,"ZVV2",null,null,"ZVV3",null,null,"ZPO1",null,null,"ZPO2"]
["Datum:",null,{"$f":"Soupiska!T6","v":"00:00:00"},null,null,null,"Průzkum terénu",null,null,null,10," ",null,10," ",null,10,null,null,10,null,null,10,null,null,20," "]
[null,null,null,null,null,null,"Vyštěkání",null,null,null,10," ",null,10,null,null,10,null,null,10,null,null,10,null,null,20]
["Místo:",null,{"$f":"Soupiska!P5","v":0},null,null,null,"Prohl., výsl., dopr.",null,null,null," X"," X",null,"10/10",null," ","10/10",null," ",10,null," ",10," ",null,20]
[null,null,null,null,null,null,"Ochrana psovoda",null,null,null,"15",null,null," 15/5",null,null," 15/5",null,null,"20/5",null,null,"20/5",null,null,"40/10",null," "]
["Vedoucí zkoušek:",null,{"$f":"Soupiska!D6","v":0},null,null,null,"Hlídání pomocníka 2+1",null,null,null," X"," X",null," X"," X",null," X"," X",null,20,null,null,20,null,null,40,null," "]
[null,null,null,null,null,null,"Samost. činnost psa (zadržení pomocníka)",null,null,null,"15",null,null," 15/5",null," "," 15/5",null," ","20/5",null,null,"20/5",null,null,"40/10",null," "]
["Rozhodčí:",null,{"$f":"Soupiska!P6","v":0},null,null,null,"Odolnost psa",null,null,null,"X","X",null," 15/5",null," "," 15/5",null," ","X","X",null,"X","X",null,"X","X"]
[null,null,null,null,null,null,"Celkem",null,null,null,50,{"$f":"SUM(L29:M35)","v":0},null,100,{"$f":"SUM(O29:P35)","v":0},null,100,{"$f":"SUM(R29:S35)","v":0},null,100,{"$f":"SUM(U29:V35)","v":0},null,100,{"$f":"SUM(X29:Y35)","v":0},null,200,{"$f":"SUM(AA29:AB35)","v":0}]
[" ",null,null,null,null,null,null,null," ",null,null,null,null,null,null," ",null,null," "," ",null," "," ",null," "," ",null," "]
["Výsledek zkoušky",null,null,null,null,null,"D - SPEC .CVIKY",null,null,null,"ZMMP",null,null,"ZMMP1",null,null,"ZMMP2",null,null,"ZMMP3",null,null,"ZPMO",null,null,"ZZO"]
["A   stopa",null,null,{"$f":"J8+L8+O8+R8+U8+X8+AA8","v":0},null,null,"Přivol.psa za ztíž.p.",null,null,null," X"," X",null," X"," X",null," X"," X",null," X"," X",null," X"," X",null,"PV-P-N"," "]
[null,null,null,null,null,null,"Chov.psa ve sk.osob",null,null,null," X"," X",null," X"," X",null," X"," X",null," X"," X",null," X"," X",null,"PV-P-N"," "]
["B  poslušnost",null,null,{"$f":"O26+R26+U26+X26+AA26","v":0},null,null,"Chov.přiváz. psa",null,null,null," X"," X",null," X"," X",null," X"," X",null," X"," X",null," X"," X",null,"PV-P-N"," "]
[null,null,null,null,null,null,"Rozlišování předm.",null,null,null,"10/10",null,null,"15/15",null,null,"15/15",null,null," X"," X",null," X"," X",null," X"," X"]
["C   obrana ",null,null,{"$f":"L36+O36+R36+U36+X36+AA36","v":0},null,null,"Rozlišování osoby",null,null,null," X"," X",null," X"," X",null," X"," X",null," 15/5",null,null," X"," X",null," X"," X"]
[null,null,null,null,null,null,"Vyhledání předm.",null,null,null," 15/5",null,null," 24/6",null," "," 24/6",null,null," 24/6",null," "," X"," X",null," X"," X"]
["D    spec. cviky",null,null,{"$f":"IF(AA51=\" \",L51+O51+R51+U51+X51,AA51)","v":0},null,null,"Ztracený předmět",null,null,null,10,null,null,20," ",null,20,null,null,20,null,null," X"," X",null," X"," X"]
[null,null,null,null,null,null,"Průzk.terénu/vyšť.",null,null,null," X"," X",null,"10/10",null," ","10/10",null,null,"10/10",null,null,"10/10",null,null," X"," X"]
["CELKEM",null,{"$f":"VLOOKUP(A4,TYPY!A$1:D$65536,4,FALSE)","v":{"$error":"#N/A"}},{"$f":"IF(AA51=\" \",D39+D41+D43+D45,D39+D41+D43)","v":0},null,null,"Zajištění figuranta",null,null,null," X"," X",null," X"," X",null," X"," X",null," X"," X",null,10,null,null," X"," X"]
[null,null,null,null,null,null,"Doprovod figuranta",null,null,null," X"," X",null," X"," X",null," X"," X",null," X","X"," X",10,null,null," X"," X"]
["ZNÁMKA",null,null,null,null,null,"Napadení psovoda",null,null,null," X"," X",null," X"," X",null," X"," X",null," X","X"," X",30,null,null," X"," X"]
[{"$f":"IF(D47>0,IFERROR(IF(C47=300,VLOOKUP(D47,TYPY!$B$44:$C$135,2,FALSE),IF(C47=200,VLOOKUP(D47,TYPY!$N$44:$O$105,2,FALSE),IF(C47=150,VLOOKUP(D47,TYPY!$L$44:$M$90,2,FALSE),IF(C47=100,VLOOKUP(D47,TYPY!$F$44:$G$75,2,FALSE),IF(C47=60,IF(D45=\"N\",\"N\",VLOOKUP(D47,TYPY!$J$44:$K$63,2,FALSE)),\"N\"))))),\"N\"),\" \")","v":" "},null,null,null,null,null,"Hlídání  předm.",null,null,null," X"," X",null," X"," X",null," X"," X",null," X","X"," X",30,null,null," X"," X"]
[null,null,null,null,null,null,"Celkem",null,null,null,50,{"$f":"SUM(L42:M45)","v":0},null,100,{"$f":"SUM(P39:P50)","v":0},null,100,{"$f":"SUM(R42:S46)","v":0},null,100,{"$f":"SUM(U43:V46)","v":0},null,100,{"$f":"SUM(X46:Y50)","v":0},null,"PV-P-N"]
[]
[" ",null,null,null,null,null,null,null,null,null," ",null,null,null,null,null," "]
[]
[]
[]
["Razítko organizace",null,null,null,null,null,null,null,null,null,"Podpis ved.  zkoušek",null,null,null,null,null,"Podpis a razítko rozhočího"]

{"sheet":"NZR23","index":52,"n_rows":57,"n_cols":28,"rows_kept":57,"cut":false,"hidden":true,"merged":[[52,0,55,8],[52,10,55,13],[52,16,55,27],[56,0,56,8],[56,10,56,13],[56,16,56,25],[49,23,49,24],[49,26,49,27],[50,6,50,9],[50,11,50,12],[50,14,50,15],[50,17,50,18],[50,20,50,21],[50,23,50,24],[50,26,50,27],[49,0,50,4],[49,6,49,9],[49,11,49,12],[49,14,49,15],[49,17,49,18],[49,20,49,21],[48,0,48,4],[48,6,48,9],[48,11,48,12],[48,14,48,15],[48,17,48,18],[48,20,48,21],[48,23,48,24],[48,26,48,27],[46,0,47,1],[46,2,47,2],[46,3,47,4],[46,17,46,18],[46,20,46,21],[46,23,46,24],[46,26,46,27],[47,6,47,9],[47,11,47,12],[47,14,47,15],[47,17,47,18],[47,20,47,21],[47,23,47,24],[46,6,46,9],[46,11,46,12],[46,14,46,15],[47,26,47,27],[44,17,44,18],[44,20,44,21],[44,23,44,24],[44,26,44,27],[45,6,45,9],[45,11,45,12],[45,26,45,27],[42,23,42,24],[42,26,42,27],[43,6,43,9],[43,23,43,24],[43,26,43,27],[42,17,42,18],[44,0,45,2],[44,3,45,4],[44,6,44,9],[44,11,44,12],[44,14,44,15],[42,0,43,2],[42,3,43,4],[42,6,42,9],[42,11,42,12],[42,14,42,15],[40,20,40,21],[40,23,40,24],[40,26,40,27],[41,6,41,9],[41,20,41,21],[41,23,41,24],[41,26,41,27],[40,0,41,2],[40,3,41,4],[40,6,40,9],[40,11,40,12],[40,14,40,15],[40,17,40,18],[38,26,38,27],[39,6,39,9],[39,11,39,12],[39,14,39,15],[39,17,39,18],[39,20,39,21],[39,23,39,24],[39,26,39,27],[37,22,37,24],[37,25,37,27],[38,0,39,2],[38,3,39,4],[38,6,38,9],[38,11,38,12],[38,14,38,15],[38,17,38,18],[38,20,38,21],[38,23,38,24],[37,0,37,4],[37,6,37,9],[37,10,37,12],[37,13,37,15],[37,16,37,18],[37,19,37,21],[35,11,35,12],[35,14,35,15],[35,17,35,18],[35,20,35,21],[35,23,35,24],[35,26,35,27],[32,23,32,24],[33,6,33,9],[33,11,33,12],[34,0,35,1],[34,2,35,4],[34,6,34,9],[34,11,34,12],[34,20,34,21],[34,23,34,24],[30,26,30,27],[31,6,31,9],[31,11,31,12],[32,0,33,1],[32,2,33,4],[32,6,32,9],[32,11,32,12],[32,14,32,15],[32,17,32,18],[32,20,32,21],[30,0,31,1],[30,2,31,4],[30,6,30,9],[30,11,30,12],[30,20,30,21],[30,23,30,24],[34,26,34,27],[35,6,35,9],[28,26,28,27],[29,6,29,9],[29,11,29,12],[29,14,29,15],[29,17,29,18],[29,20,29,21],[29,23,29,24],[29,26,29,27],[27,22,27,24],[27,25,27,27],[28,0,29,1],[28,2,29,4],[28,6,28,9],[28,11,28,12],[28,14,28,15],[28,17,28,18],[28,20,28,21],[28,23,28,24],[27,0,27,4],[27,6,27,9],[27,10,27,12],[27,13,27,15],[27,16,27,18],[27,19,27,21],[24,23,24,24],[24,26,24,27],[25,0,25,1],[25,2,25,6],[25,8,25,12],[25,14,25,15],[25,17,25,18],[25,20,25,21],[25,23,25,24],[25,26,25,27],[24,0,24,1],[24,2,24,6],[24,8,24,12],[24,14,24,15],[24,17,24,18],[24,20,24,21],[22,23,22,24],[22,26,22,27],[23,8,23,12],[23,14,23,15],[23,17,23,18],[23,20,23,21],[23,23,23,24],[23,26,23,27],[22,0,23,1],[22,2,23,6],[22,8,22,12],[22,14,22,15],[22,17,22,18],[22,20,22,21],[20,23,20,24],[20,26,20,27],[21,0,21,1],[21,2,21,6],[21,8,21,12],[21,14,21,15],[21,17,21,18],[21,20,21,21],[21,23,21,24],[21,26,21,27],[20,0,20,1],[20,2,20,6],[20,8,20,12],[20,14,20,15],[20,17,20,18],[20,20,20,21],[18,26,18,27],[19,0,19,6],[19,8,19,12],[19,14,19,15],[19,17,19,18],[19,20,19,21],[19,23,19,24],[19,26,19,27],[18,2,18,6],[18,8,18,12],[18,14,18,15],[18,17,18,18],[18,20,18,21],[18,23,18,24],[16,26,16,27],[17,2,17,6],[17,8,17,12],[17,14,17,15],[17,17,17,18],[17,20,17,21],[17,23,17,24],[17,26,17,27],[16,2,16,6],[16,8,16,12],[16,14,16,15],[16,17,16,18],[16,20,16,21],[16,23,16,24],[14,26,14,27],[15,2,15,6],[15,8,15,12],[15,14,15,15],[15,17,15,18],[15,20,15,21],[15,23,15,24],[15,26,15,27],[14,2,14,6],[14,8,14,12],[14,14,14,15],[14,17,14,18],[14,20,14,21],[14,23,14,24],[12,23,12,24],[12,26,12,27],[13,0,13,1],[13,8,13,12],[13,14,13,15],[13,17,13,18],[13,20,13,21],[13,23,13,24],[13,26,13,27],[12,0,12,1],[12,2,13,6],[12,8,12,12],[12,14,12,15],[12,17,12,18],[12,20,12,21],[10,13,11,15],[10,16,10,18],[10,19,10,21],[10,22,10,24],[11,16,11,18],[11,19,11,21],[11,22,11,24],[7,26,7,27],[9,0,9,6],[9,8,11,12],[9,13,9,15],[9,16,9,18],[9,19,9,21],[9,22,9,24],[9,25,11,27],[10,0,11,1],[10,2,11,6],[7,4,7,6],[7,11,7,12],[7,14,7,15],[7,17,7,18],[7,20,7,21],[7,23,7,24],[6,20,6,21],[6,23,6,24],[6,26,6,27],[5,4,5,6],[5,11,5,12],[5,14,5,15],[5,17,5,18],[5,20,5,21],[5,23,5,24],[0,7,0,27],[1,8,1,27],[2,0,2,2],[2,8,2,27],[3,0,6,2],[3,4,4,6],[3,8,3,9],[3,10,3,12],[3,13,4,15],[3,16,3,18],[3,19,3,21],[3,22,3,24],[3,25,3,27],[4,8,4,9],[4,10,4,12],[4,16,4,18],[4,19,4,21],[4,22,4,24],[4,25,4,27],[5,26,5,27],[6,4,6,6],[6,11,6,12],[6,14,6,15],[6,17,6,18]]}
[null,null,null,null,null,null,null,"  MORAVSKOSLEZSKÝ KYNOLOGICKÝ SVAZ, z. s."]
[null,null,null,null,null,null,null," ","Člen FCI prostřednictvím Českomoravské kynologické unie"]
["Druh a stupeň",null,null,null,null,null,null," ","POTVRZENÍ O VYKONANÉ ZKOUŠCE NZŘ"]
[{"$f":"IF(Soupiska!W78=\"N\",Soupiska!B78,\"NE\")","v":"NE"},null,null,null,"A - STOPA",null,null,null,"ZM",null,"ZVV1",null,null,"ZPS1",null,null,"ZVV2",null,null,"ZVV3",null,null,"ZPS2",null,null,"ZPS2"]
[null,null,null,null,null,null,null,null,"ZMMP",null,"ZMP1",null,null,null,null,null,"ZMP2",null,null,"ZMP3",null,null,"A",null,null,"B"]
[null,null,null,null,"Vlastní - cizí",null,null,null,40,null,80,null,null,80,null,null,"80",null,null,80,null,null,80,null,null,80]
[null,null,null,null,"Předměty",null,null,null,10,null,20," ",null,20,null,null,20," ",null,20,null,null,20,null,null,20]
[null,null,null,null,"Celkem",null,null,null,50,{"$f":"SUM(J6:J7)","v":0},100,{"$f":"SUM(L6:M7)","v":0},null,100,{"$f":"SUM(O6:O7)","v":0},null,100,{"$f":"SUM(R6:S7)","v":0},null,100,{"$f":"SUM(U6:V7)","v":0},null,100,{"$f":"SUM(X6:Y7)","v":0},null,100,{"$f":"SUM(AA6:AB7)","v":0}]
[]
["Data psa-feny",null,null,null,null,null,null,null,"B - POSLUŠNOST",null,null,null,null,"ZM",null,null,"ZVV1,ZMP1",null,null,"ZVV2",null,null,"ZVV3,ZMP3",null,null,"ZZO"]
["Jméno:",null,{"$f":"Soupiska!C78","v":0},null,null,null,null,null,null,null,null,null,null,"ZMMP",null,null,"ZPS1,ZPO1",null,null,"ZMP2",null,null,"ZPS2,ZPO2"]
[null,null,null,null,null,null,null,null,null,null,null,null,null,null,null,null,"ZMPO,ZZO1",null,null,"ZZO2",null,null,"ZZO3"]
["Chovná",null,{"$f":"Soupiska!E78","v":0},null,null,null,null,null,"Přivolání psa",null,null,null,null,10,null,null,10," ",null,10," ",null,10," ",null,10]
["stanice:",null,null,null,null,null,null,null,"Ovladatelnost na vod.",null,null,null,null,10,"  ",null,10," ",null," X"," X",null," X"," X",null,10]
["Plemeno:",null,{"$f":"Soupiska!I78","v":0},null,null,null,null,null,"Ovladatelnost bez vod.",null,null,null,null," X"," X",null," X"," X",null,10," ",null,10,null,null," X"," X"]
["Pohlaví:",null,{"$f":"Soupiska!K78","v":0},null,null,null,null,null,"Polohy (S - L - V)",null,null,null,null,10,"  ",null,10," ",null,10,null," ","10"," ",null,10]
["Narozen",null,{"$f":"Soupiska!L78","v":"00:00:00"},null,null,null,null,null,"Odložení za pochodu",null,null,null,null," X"," X",null,10,null,null,10,null," ",10,null,null,10]
["Č.záp.:",null,{"$f":"Soupiska!N78","v":0},null,null,null,null,null,"Štěkání psa",null,null,null,null," X"," X",null,10," ",null,10,null," ",10," ",null," X"," X"]
["T.č./čip:",null,{"$f":"Soupiska!P78","v":0},null,null,null,null,null,"Aport volný",null,null,null,null,10," ",null,10," ",null,"X",null," X"," X"," X",null,10]
["Data psovoda",null,null,null,null,null,null,null,"Skok vysoký  (aport)",null,null,null,null," X"," X",null,10," ",null,10,null," "," X"," X",null," X"," X"]
["Jméno:",null,{"$f":"Soupiska!C79","v":0},null,null,null,null,null,"Skok šplhem  (aport)",null,null,null,null," X"," X",null,10," ",null," X","X",null,10," ",null," X"," X"]
["Příjmení:",null,{"$f":"Soupiska!E79","v":0},null,null,null,null,null,"Plížení",null,null,null,null," X"," X",null," X"," X",null,10,null," ",10," ",null," X"," X"]
["Bydliště:",null,{"$f":"Soupiska!I79","v":0},null,null,null,null,null,"Kladina (nízká/vysoká)",null,null,null,null," X"," X",null,10," ",null,10,null," ",10," ",null," X"," X"]
[null,null,null,null,null,null,null,null,"Vysílání",null,null,null,null," X"," X",null," X"," X",null,10,null,"  ",10,null,null," X"," X"]
["Narozen:",null,{"$f":"DATE(IF(MID(Soupiska!C80,1,2)*1 > YEAR(TODAY())-2000, 1900, 2000) + MID(Soupiska!C80,1,2), MOD(MID(Soupiska!C80,3,2),50), MID(Soupiska!C80,5,2))","v":{"$error":"#VALUE!"}},null,null,null,null,null,"Odložení psa",null,null,null,null,10," ",null,10," ",null,10,null," ",10," ",null,10]
["Člen ZO:",null,{"$f":"Soupiska!I80","v":0},null,null,null,null,null,"Celkem",null,null,null,null,50,{"$f":"SUM(O13:P25)","v":0},null,100,{"$f":"SUM(R13:S25)","v":0},null,100,{"$f":"SUM(U13:V25)","v":0},null,100,{"$f":"SUM(X13:Y25)","v":0},null,60,{"$f":"SUM(AA13:AB25)","v":0}]
[]
["Data akce",null,null,null,null,null,"C - OBRANA",null,null,null,"ZM",null,null,"ZVV1 ",null,null,"ZVV2",null,null,"ZVV3",null,null,"ZPO1",null,null,"ZPO2"]
["Datum:",null,{"$f":"Soupiska!T6","v":"00:00:00"},null,null,null,"Průzkum terénu",null,null,null,10," ",null,10," ",null,10,null,null,10,null,null,10,null,null,20," "]
[null,null,null,null,null,null,"Vyštěkání",null,null,null,10," ",null,10,null,null,10,null,null,10,null,null,10,null,null,20]
["Místo:",null,{"$f":"Soupiska!P5","v":0},null,null,null,"Prohl., výsl., dopr.",null,null,null," X"," X",null,"10/10",null," ","10/10",null," ",10,null," ",10," ",null,20]
[null,null,null,null,null,null,"Ochrana psovoda",null,null,null,"15",null,null," 15/5",null,null," 15/5",null,null,"20/5",null,null,"20/5",null,null,"40/10",null," "]
["Vedoucí zkoušek:",null,{"$f":"Soupiska!D6","v":0},null,null,null,"Hlídání pomocníka 2+1",null,null,null," X"," X",null," X"," X",null," X"," X",null,20,null,null,20,null,null,40,null," "]
[null,null,null,null,null,null,"Samost. činnost psa (zadržení pomocníka)",null,null,null,"15",null,null," 15/5",null," "," 15/5",null," ","20/5",null,null,"20/5",null,null,"40/10",null," "]
["Rozhodčí:",null,{"$f":"Soupiska!P6","v":0},null,null,null,"Odolnost psa",null,null,null,"X","X",null," 15/5",null," "," 15/5",null," ","X","X",null,"X","X",null,"X","X"]
[null,null,null,null,null,null,"Celkem",null,null,null,50,{"$f":"SUM(L29:M35)","v":0},null,100,{"$f":"SUM(O29:P35)","v":0},null,100,{"$f":"SUM(R29:S35)","v":0},null,100,{"$f":"SUM(U29:V35)","v":0},null,100,{"$f":"SUM(X29:Y35)","v":0},null,200,{"$f":"SUM(AA29:AB35)","v":0}]
[" ",null,null,null,null,null,null,null," ",null,null,null,null,null,null," ",null,null," "," ",null," "," ",null," "," ",null," "]
["Výsledek zkoušky",null,null,null,null,null,"D - SPEC .CVIKY",null,null,null,"ZMMP",null,null,"ZMMP1",null,null,"ZMMP2",null,null,"ZMMP3",null,null,"ZPMO",null,null,"ZZO"]
["A   stopa",null,null,{"$f":"J8+L8+O8+R8+U8+X8+AA8","v":0},null,null,"Přivol.psa za ztíž.p.",null,null,null," X"," X",null," X"," X",null," X"," X",null," X"," X",null," X"," X",null,"PV-P-N"," "]
[null,null,null,null,null,null,"Chov.psa ve sk.osob",null,null,null," X"," X",null," X"," X",null," X"," X",null," X"," X",null," X"," X",null,"PV-P-N"," "]
["B  poslušnost",null,null,{"$f":"O26+R26+U26+X26+AA26","v":0},null,null,"Chov.přiváz. psa",null,null,null," X"," X",null," X"," X",null," X"," X",null," X"," X",null," X"," X",null,"PV-P-N"," "]
[null,null,null,null,null,null,"Rozlišování předm.",null,null,null,"10/10",null,null,"15/15",null,null,"15/15",null,null," X"," X",null," X"," X",null," X"," X"]
["C   obrana ",null,null,{"$f":"L36+O36+R36+U36+X36+AA36","v":0},null,null,"Rozlišování osoby",null,null,null," X"," X",null," X"," X",null," X"," X",null," 15/5",null,null," X"," X",null," X"," X"]
[null,null,null,null,null,null,"Vyhledání předm.",null,null,null," 15/5",null,null," 24/6",null," "," 24/6",null,null," 24/6",null," "," X"," X",null," X"," X"]
["D    spec. cviky",null,null,{"$f":"IF(AA51=\" \",L51+O51+R51+U51+X51,AA51)","v":0},null,null,"Ztracený předmět",null,null,null,10,null,null,20," ",null,20,null,null,20,null,null," X"," X",null," X"," X"]
[null,null,null,null,null,null,"Průzk.terénu/vyšť.",null,null,null," X"," X",null,"10/10",null," ","10/10",null,null,"10/10",null,null,"10/10",null,null," X"," X"]
["CELKEM",null,{"$f":"VLOOKUP(A4,TYPY!A$1:D$65536,4,FALSE)","v":{"$error":"#N/A"}},{"$f":"IF(AA51=\" \",D39+D41+D43+D45,D39+D41+D43)","v":0},null,null,"Zajištění figuranta",null,null,null," X"," X",null," X"," X",null," X"," X",null," X"," X",null,10,null,null," X"," X"]
[null,null,null,null,null,null,"Doprovod figuranta",null,null,null," X"," X",null," X"," X",null," X"," X",null," X","X"," X",10,null,null," X"," X"]
["ZNÁMKA",null,null,null,null,null,"Napadení psovoda",null,null,null," X"," X",null," X"," X",null," X"," X",null," X","X"," X",30,null,null," X"," X"]
[{"$f":"IF(D47>0,IFERROR(IF(C47=300,VLOOKUP(D47,TYPY!$B$44:$C$135,2,FALSE),IF(C47=200,VLOOKUP(D47,TYPY!$N$44:$O$105,2,FALSE),IF(C47=150,VLOOKUP(D47,TYPY!$L$44:$M$90,2,FALSE),IF(C47=100,VLOOKUP(D47,TYPY!$F$44:$G$75,2,FALSE),IF(C47=60,IF(D45=\"N\",\"N\",VLOOKUP(D47,TYPY!$J$44:$K$63,2,FALSE)),\"N\"))))),\"N\"),\" \")","v":" "},null,null,null,null,null,"Hlídání  předm.",null,null,null," X"," X",null," X"," X",null," X"," X",null," X","X"," X",30,null,null," X"," X"]
[null,null,null,null,null,null,"Celkem",null,null,null,50,{"$f":"SUM(L42:M45)","v":0},null,100,{"$f":"SUM(P39:P50)","v":0},null,100,{"$f":"SUM(R42:S46)","v":0},null,100,{"$f":"SUM(U43:V46)","v":0},null,100,{"$f":"SUM(X46:Y50)","v":0},null,"PV-P-N"]
[]
[" ",null,null,null,null,null,null,null,null,null," ",null,null,null,null,null," "]
[]
[]
[]
["Razítko organizace",null,null,null,null,null,null,null,null,null,"Podpis ved.  zkoušek",null,null,null,null,null,"Podpis a razítko rozhočího"]

{"sheet":"NZR24","index":53,"n_rows":57,"n_cols":28,"rows_kept":57,"cut":false,"hidden":true,"merged":[[52,0,55,8],[52,10,55,13],[52,16,55,27],[56,0,56,8],[56,10,56,13],[56,16,56,25],[49,23,49,24],[49,26,49,27],[50,6,50,9],[50,11,50,12],[50,14,50,15],[50,17,50,18],[50,20,50,21],[50,23,50,24],[50,26,50,27],[49,0,50,4],[49,6,49,9],[49,11,49,12],[49,14,49,15],[49,17,49,18],[49,20,49,21],[48,0,48,4],[48,6,48,9],[48,11,48,12],[48,14,48,15],[48,17,48,18],[48,20,48,21],[48,23,48,24],[48,26,48,27],[46,0,47,1],[46,2,47,2],[46,3,47,4],[46,17,46,18],[46,20,46,21],[46,23,46,24],[46,26,46,27],[47,6,47,9],[47,11,47,12],[47,14,47,15],[47,17,47,18],[47,20,47,21],[47,23,47,24],[46,6,46,9],[46,11,46,12],[46,14,46,15],[47,26,47,27],[44,17,44,18],[44,20,44,21],[44,23,44,24],[44,26,44,27],[45,6,45,9],[45,11,45,12],[45,26,45,27],[42,23,42,24],[42,26,42,27],[43,6,43,9],[43,23,43,24],[43,26,43,27],[42,17,42,18],[44,0,45,2],[44,3,45,4],[44,6,44,9],[44,11,44,12],[44,14,44,15],[42,0,43,2],[42,3,43,4],[42,6,42,9],[42,11,42,12],[42,14,42,15],[40,20,40,21],[40,23,40,24],[40,26,40,27],[41,6,41,9],[41,20,41,21],[41,23,41,24],[41,26,41,27],[40,0,41,2],[40,3,41,4],[40,6,40,9],[40,11,40,12],[40,14,40,15],[40,17,40,18],[38,26,38,27],[39,6,39,9],[39,11,39,12],[39,14,39,15],[39,17,39,18],[39,20,39,21],[39,23,39,24],[39,26,39,27],[37,22,37,24],[37,25,37,27],[38,0,39,2],[38,3,39,4],[38,6,38,9],[38,11,38,12],[38,14,38,15],[38,17,38,18],[38,20,38,21],[38,23,38,24],[37,0,37,4],[37,6,37,9],[37,10,37,12],[37,13,37,15],[37,16,37,18],[37,19,37,21],[35,11,35,12],[35,14,35,15],[35,17,35,18],[35,20,35,21],[35,23,35,24],[35,26,35,27],[32,23,32,24],[33,6,33,9],[33,11,33,12],[34,0,35,1],[34,2,35,4],[34,6,34,9],[34,11,34,12],[34,20,34,21],[34,23,34,24],[30,26,30,27],[31,6,31,9],[31,11,31,12],[32,0,33,1],[32,2,33,4],[32,6,32,9],[32,11,32,12],[32,14,32,15],[32,17,32,18],[32,20,32,21],[30,0,31,1],[30,2,31,4],[30,6,30,9],[30,11,30,12],[30,20,30,21],[30,23,30,24],[34,26,34,27],[35,6,35,9],[28,26,28,27],[29,6,29,9],[29,11,29,12],[29,14,29,15],[29,17,29,18],[29,20,29,21],[29,23,29,24],[29,26,29,27],[27,22,27,24],[27,25,27,27],[28,0,29,1],[28,2,29,4],[28,6,28,9],[28,11,28,12],[28,14,28,15],[28,17,28,18],[28,20,28,21],[28,23,28,24],[27,0,27,4],[27,6,27,9],[27,10,27,12],[27,13,27,15],[27,16,27,18],[27,19,27,21],[24,23,24,24],[24,26,24,27],[25,0,25,1],[25,2,25,6],[25,8,25,12],[25,14,25,15],[25,17,25,18],[25,20,25,21],[25,23,25,24],[25,26,25,27],[24,0,24,1],[24,2,24,6],[24,8,24,12],[24,14,24,15],[24,17,24,18],[24,20,24,21],[22,23,22,24],[22,26,22,27],[23,8,23,12],[23,14,23,15],[23,17,23,18],[23,20,23,21],[23,23,23,24],[23,26,23,27],[22,0,23,1],[22,2,23,6],[22,8,22,12],[22,14,22,15],[22,17,22,18],[22,20,22,21],[20,23,20,24],[20,26,20,27],[21,0,21,1],[21,2,21,6],[21,8,21,12],[21,14,21,15],[21,17,21,18],[21,20,21,21],[21,23,21,24],[21,26,21,27],[20,0,20,1],[20,2,20,6],[20,8,20,12],[20,14,20,15],[20,17,20,18],[20,20,20,21],[18,26,18,27],[19,0,19,6],[19,8,19,12],[19,14,19,15],[19,17,19,18],[19,20,19,21],[19,23,19,24],[19,26,19,27],[18,2,18,6],[18,8,18,12],[18,14,18,15],[18,17,18,18],[18,20,18,21],[18,23,18,24],[16,26,16,27],[17,2,17,6],[17,8,17,12],[17,14,17,15],[17,17,17,18],[17,20,17,21],[17,23,17,24],[17,26,17,27],[16,2,16,6],[16,8,16,12],[16,14,16,15],[16,17,16,18],[16,20,16,21],[16,23,16,24],[14,26,14,27],[15,2,15,6],[15,8,15,12],[15,14,15,15],[15,17,15,18],[15,20,15,21],[15,23,15,24],[15,26,15,27],[14,2,14,6],[14,8,14,12],[14,14,14,15],[14,17,14,18],[14,20,14,21],[14,23,14,24],[12,23,12,24],[12,26,12,27],[13,0,13,1],[13,8,13,12],[13,14,13,15],[13,17,13,18],[13,20,13,21],[13,23,13,24],[13,26,13,27],[12,0,12,1],[12,2,13,6],[12,8,12,12],[12,14,12,15],[12,17,12,18],[12,20,12,21],[10,13,11,15],[10,16,10,18],[10,19,10,21],[10,22,10,24],[11,16,11,18],[11,19,11,21],[11,22,11,24],[7,26,7,27],[9,0,9,6],[9,8,11,12],[9,13,9,15],[9,16,9,18],[9,19,9,21],[9,22,9,24],[9,25,11,27],[10,0,11,1],[10,2,11,6],[7,4,7,6],[7,11,7,12],[7,14,7,15],[7,17,7,18],[7,20,7,21],[7,23,7,24],[6,20,6,21],[6,23,6,24],[6,26,6,27],[5,4,5,6],[5,11,5,12],[5,14,5,15],[5,17,5,18],[5,20,5,21],[5,23,5,24],[0,7,0,27],[1,8,1,27],[2,0,2,2],[2,8,2,27],[3,0,6,2],[3,4,4,6],[3,8,3,9],[3,10,3,12],[3,13,4,15],[3,16,3,18],[3,19,3,21],[3,22,3,24],[3,25,3,27],[4,8,4,9],[4,10,4,12],[4,16,4,18],[4,19,4,21],[4,22,4,24],[4,25,4,27],[5,26,5,27],[6,4,6,6],[6,11,6,12],[6,14,6,15],[6,17,6,18]]}
[null,null,null,null,null,null,null,"  MORAVSKOSLEZSKÝ KYNOLOGICKÝ SVAZ, z. s."]
[null,null,null,null,null,null,null," ","Člen FCI prostřednictvím Českomoravské kynologické unie"]
["Druh a stupeň",null,null,null,null,null,null," ","POTVRZENÍ O VYKONANÉ ZKOUŠCE NZŘ"]
[{"$f":"IF(Soupiska!W81=\"N\",Soupiska!B81,\"NE\")","v":"NE"},null,null,null,"A - STOPA",null,null,null,"ZM",null,"ZVV1",null,null,"ZPS1",null,null,"ZVV2",null,null,"ZVV3",null,null,"ZPS2",null,null,"ZPS2"]
[null,null,null,null,null,null,null,null,"ZMMP",null,"ZMP1",null,null,null,null,null,"ZMP2",null,null,"ZMP3",null,null,"A",null,null,"B"]
[null,null,null,null,"Vlastní - cizí",null,null,null,40,null,80,null,null,80,null,null,"80",null,null,80,null,null,80,null,null,80]
[null,null,null,null,"Předměty",null,null,null,10,null,20," ",null,20,null,null,20," ",null,20,null,null,20,null,null,20]
[null,null,null,null,"Celkem",null,null,null,50,{"$f":"SUM(J6:J7)","v":0},100,{"$f":"SUM(L6:M7)","v":0},null,100,{"$f":"SUM(O6:O7)","v":0},null,100,{"$f":"SUM(R6:S7)","v":0},null,100,{"$f":"SUM(U6:V7)","v":0},null,100,{"$f":"SUM(X6:Y7)","v":0},null,100,{"$f":"SUM(AA6:AB7)","v":0}]
[]
["Data psa-feny",null,null,null,null,null,null,null,"B - POSLUŠNOST",null,null,null,null,"ZM",null,null,"ZVV1,ZMP1",null,null,"ZVV2",null,null,"ZVV3,ZMP3",null,null,"ZZO"]
["Jméno:",null,{"$f":"Soupiska!C81","v":0},null,null,null,null,null,null,null,null,null,null,"ZMMP",null,null,"ZPS1,ZPO1",null,null,"ZMP2",null,null,"ZPS2,ZPO2"]
[null,null,null,null,null,null,null,null,null,null,null,null,null,null,null,null,"ZMPO,ZZO1",null,null,"ZZO2",null,null,"ZZO3"]
["Chovná",null,{"$f":"Soupiska!E81","v":0},null,null,null,null,null,"Přivolání psa",null,null,null,null,10,null,null,10," ",null,10," ",null,10," ",null,10]
["stanice:",null,null,null,null,null,null,null,"Ovladatelnost na vod.",null,null,null,null,10,"  ",null,10," ",null," X"," X",null," X"," X",null,10]
["Plemeno:",null,{"$f":"Soupiska!I81","v":0},null,null,null,null,null,"Ovladatelnost bez vod.",null,null,null,null," X"," X",null," X"," X",null,10," ",null,10,null,null," X"," X"]
["Pohlaví:",null,{"$f":"Soupiska!K81","v":0},null,null,null,null,null,"Polohy (S - L - V)",null,null,null,null,10,"  ",null,10," ",null,10,null," ","10"," ",null,10]
["Narozen",null,{"$f":"Soupiska!L81","v":"00:00:00"},null,null,null,null,null,"Odložení za pochodu",null,null,null,null," X"," X",null,10,null,null,10,null," ",10,null,null,10]
["Č.záp.:",null,{"$f":"Soupiska!N81","v":0},null,null,null,null,null,"Štěkání psa",null,null,null,null," X"," X",null,10," ",null,10,null," ",10," ",null," X"," X"]
["T.č./čip:",null,{"$f":"Soupiska!P81","v":0},null,null,null,null,null,"Aport volný",null,null,null,null,10," ",null,10," ",null,"X",null," X"," X"," X",null,10]
["Data psovoda",null,null,null,null,null,null,null,"Skok vysoký  (aport)",null,null,null,null," X"," X",null,10," ",null,10,null," "," X"," X",null," X"," X"]
["Jméno:",null,{"$f":"Soupiska!C82","v":0},null,null,null,null,null,"Skok šplhem  (aport)",null,null,null,null," X"," X",null,10," ",null," X","X",null,10," ",null," X"," X"]
["Příjmení:",null,{"$f":"Soupiska!E82","v":0},null,null,null,null,null,"Plížení",null,null,null,null," X"," X",null," X"," X",null,10,null," ",10," ",null," X"," X"]
["Bydliště:",null,{"$f":"Soupiska!I82","v":0},null,null,null,null,null,"Kladina (nízká/vysoká)",null,null,null,null," X"," X",null,10," ",null,10,null," ",10," ",null," X"," X"]
[null,null,null,null,null,null,null,null,"Vysílání",null,null,null,null," X"," X",null," X"," X",null,10,null,"  ",10,null,null," X"," X"]
["Narozen:",null,{"$f":"DATE(IF(MID(Soupiska!C83,1,2)*1 > YEAR(TODAY())-2000, 1900, 2000) + MID(Soupiska!C83,1,2), MOD(MID(Soupiska!C83,3,2),50), MID(Soupiska!C83,5,2))","v":{"$error":"#VALUE!"}},null,null,null,null,null,"Odložení psa",null,null,null,null,10," ",null,10," ",null,10,null," ",10," ",null,10]
["Člen ZO:",null,{"$f":"Soupiska!I83","v":0},null,null,null,null,null,"Celkem",null,null,null,null,50,{"$f":"SUM(O13:P25)","v":0},null,100,{"$f":"SUM(R13:S25)","v":0},null,100,{"$f":"SUM(U13:V25)","v":0},null,100,{"$f":"SUM(X13:Y25)","v":0},null,60,{"$f":"SUM(AA13:AB25)","v":0}]
[]
["Data akce",null,null,null,null,null,"C - OBRANA",null,null,null,"ZM",null,null,"ZVV1 ",null,null,"ZVV2",null,null,"ZVV3",null,null,"ZPO1",null,null,"ZPO2"]
["Datum:",null,{"$f":"Soupiska!T6","v":"00:00:00"},null,null,null,"Průzkum terénu",null,null,null,10," ",null,10," ",null,10,null,null,10,null,null,10,null,null,20," "]
[null,null,null,null,null,null,"Vyštěkání",null,null,null,10," ",null,10,null,null,10,null,null,10,null,null,10,null,null,20]
["Místo:",null,{"$f":"Soupiska!P5","v":0},null,null,null,"Prohl., výsl., dopr.",null,null,null," X"," X",null,"10/10",null," ","10/10",null," ",10,null," ",10," ",null,20]
[null,null,null,null,null,null,"Ochrana psovoda",null,null,null,"15",null,null," 15/5",null,null," 15/5",null,null,"20/5",null,null,"20/5",null,null,"40/10",null," "]
["Vedoucí zkoušek:",null,{"$f":"Soupiska!D6","v":0},null,null,null,"Hlídání pomocníka 2+1",null,null,null," X"," X",null," X"," X",null," X"," X",null,20,null,null,20,null,null,40,null," "]
[null,null,null,null,null,null,"Samost. činnost psa (zadržení pomocníka)",null,null,null,"15",null,null," 15/5",null," "," 15/5",null," ","20/5",null,null,"20/5",null,null,"40/10",null," "]
["Rozhodčí:",null,{"$f":"Soupiska!P6","v":0},null,null,null,"Odolnost psa",null,null,null,"X","X",null," 15/5",null," "," 15/5",null," ","X","X",null,"X","X",null,"X","X"]
[null,null,null,null,null,null,"Celkem",null,null,null,50,{"$f":"SUM(L29:M35)","v":0},null,100,{"$f":"SUM(O29:P35)","v":0},null,100,{"$f":"SUM(R29:S35)","v":0},null,100,{"$f":"SUM(U29:V35)","v":0},null,100,{"$f":"SUM(X29:Y35)","v":0},null,200,{"$f":"SUM(AA29:AB35)","v":0}]
[" ",null,null,null,null,null,null,null," ",null,null,null,null,null,null," ",null,null," "," ",null," "," ",null," "," ",null," "]
["Výsledek zkoušky",null,null,null,null,null,"D - SPEC .CVIKY",null,null,null,"ZMMP",null,null,"ZMMP1",null,null,"ZMMP2",null,null,"ZMMP3",null,null,"ZPMO",null,null,"ZZO"]
["A   stopa",null,null,{"$f":"J8+L8+O8+R8+U8+X8+AA8","v":0},null,null,"Přivol.psa za ztíž.p.",null,null,null," X"," X",null," X"," X",null," X"," X",null," X"," X",null," X"," X",null,"PV-P-N"," "]
[null,null,null,null,null,null,"Chov.psa ve sk.osob",null,null,null," X"," X",null," X"," X",null," X"," X",null," X"," X",null," X"," X",null,"PV-P-N"," "]
["B  poslušnost",null,null,{"$f":"O26+R26+U26+X26+AA26","v":0},null,null,"Chov.přiváz. psa",null,null,null," X"," X",null," X"," X",null," X"," X",null," X"," X",null," X"," X",null,"PV-P-N"," "]
[null,null,null,null,null,null,"Rozlišování předm.",null,null,null,"10/10",null,null,"15/15",null,null,"15/15",null,null," X"," X",null," X"," X",null," X"," X"]
["C   obrana ",null,null,{"$f":"L36+O36+R36+U36+X36+AA36","v":0},null,null,"Rozlišování osoby",null,null,null," X"," X",null," X"," X",null," X"," X",null," 15/5",null,null," X"," X",null," X"," X"]
[null,null,null,null,null,null,"Vyhledání předm.",null,null,null," 15/5",null,null," 24/6",null," "," 24/6",null,null," 24/6",null," "," X"," X",null," X"," X"]
["D    spec. cviky",null,null,{"$f":"IF(AA51=\" \",L51+O51+R51+U51+X51,AA51)","v":0},null,null,"Ztracený předmět",null,null,null,10,null,null,20," ",null,20,null,null,20,null,null," X"," X",null," X"," X"]
[null,null,null,null,null,null,"Průzk.terénu/vyšť.",null,null,null," X"," X",null,"10/10",null," ","10/10",null,null,"10/10",null,null,"10/10",null,null," X"," X"]
["CELKEM",null,{"$f":"VLOOKUP(A4,TYPY!A$1:D$65536,4,FALSE)","v":{"$error":"#N/A"}},{"$f":"IF(AA51=\" \",D39+D41+D43+D45,D39+D41+D43)","v":0},null,null,"Zajištění figuranta",null,null,null," X"," X",null," X"," X",null," X"," X",null," X"," X",null,10,null,null," X"," X"]
[null,null,null,null,null,null,"Doprovod figuranta",null,null,null," X"," X",null," X"," X",null," X"," X",null," X","X"," X",10,null,null," X"," X"]
["ZNÁMKA",null,null,null,null,null,"Napadení psovoda",null,null,null," X"," X",null," X"," X",null," X"," X",null," X","X"," X",30,null,null," X"," X"]
[{"$f":"IF(D47>0,IFERROR(IF(C47=300,VLOOKUP(D47,TYPY!$B$44:$C$135,2,FALSE),IF(C47=200,VLOOKUP(D47,TYPY!$N$44:$O$105,2,FALSE),IF(C47=150,VLOOKUP(D47,TYPY!$L$44:$M$90,2,FALSE),IF(C47=100,VLOOKUP(D47,TYPY!$F$44:$G$75,2,FALSE),IF(C47=60,IF(D45=\"N\",\"N\",VLOOKUP(D47,TYPY!$J$44:$K$63,2,FALSE)),\"N\"))))),\"N\"),\" \")","v":" "},null,null,null,null,null,"Hlídání  předm.",null,null,null," X"," X",null," X"," X",null," X"," X",null," X","X"," X",30,null,null," X"," X"]
[null,null,null,null,null,null,"Celkem",null,null,null,50,{"$f":"SUM(L42:M45)","v":0},null,100,{"$f":"SUM(P39:P50)","v":0},null,100,{"$f":"SUM(R42:S46)","v":0},null,100,{"$f":"SUM(U43:V46)","v":0},null,100,{"$f":"SUM(X46:Y50)","v":0},null,"PV-P-N"]
[]
[" ",null,null,null,null,null,null,null,null,null," ",null,null,null,null,null," "]
[]
[]
[]
["Razítko organizace",null,null,null,null,null,null,null,null,null,"Podpis ved.  zkoušek",null,null,null,null,null,"Podpis a razítko rozhočího"]

{"sheet":"NZR25","index":54,"n_rows":57,"n_cols":28,"rows_kept":57,"cut":false,"hidden":true,"merged":[[52,0,55,8],[52,10,55,13],[52,16,55,27],[56,0,56,8],[56,10,56,13],[56,16,56,25],[49,23,49,24],[49,26,49,27],[50,6,50,9],[50,11,50,12],[50,14,50,15],[50,17,50,18],[50,20,50,21],[50,23,50,24],[50,26,50,27],[49,0,50,4],[49,6,49,9],[49,11,49,12],[49,14,49,15],[49,17,49,18],[49,20,49,21],[48,0,48,4],[48,6,48,9],[48,11,48,12],[48,14,48,15],[48,17,48,18],[48,20,48,21],[48,23,48,24],[48,26,48,27],[46,0,47,1],[46,2,47,2],[46,3,47,4],[46,17,46,18],[46,20,46,21],[46,23,46,24],[46,26,46,27],[47,6,47,9],[47,11,47,12],[47,14,47,15],[47,17,47,18],[47,20,47,21],[47,23,47,24],[46,6,46,9],[46,11,46,12],[46,14,46,15],[47,26,47,27],[44,17,44,18],[44,20,44,21],[44,23,44,24],[44,26,44,27],[45,6,45,9],[45,11,45,12],[45,26,45,27],[42,23,42,24],[42,26,42,27],[43,6,43,9],[43,23,43,24],[43,26,43,27],[42,17,42,18],[44,0,45,2],[44,3,45,4],[44,6,44,9],[44,11,44,12],[44,14,44,15],[42,0,43,2],[42,3,43,4],[42,6,42,9],[42,11,42,12],[42,14,42,15],[40,20,40,21],[40,23,40,24],[40,26,40,27],[41,6,41,9],[41,20,41,21],[41,23,41,24],[41,26,41,27],[40,0,41,2],[40,3,41,4],[40,6,40,9],[40,11,40,12],[40,14,40,15],[40,17,40,18],[38,26,38,27],[39,6,39,9],[39,11,39,12],[39,14,39,15],[39,17,39,18],[39,20,39,21],[39,23,39,24],[39,26,39,27],[37,22,37,24],[37,25,37,27],[38,0,39,2],[38,3,39,4],[38,6,38,9],[38,11,38,12],[38,14,38,15],[38,17,38,18],[38,20,38,21],[38,23,38,24],[37,0,37,4],[37,6,37,9],[37,10,37,12],[37,13,37,15],[37,16,37,18],[37,19,37,21],[35,11,35,12],[35,14,35,15],[35,17,35,18],[35,20,35,21],[35,23,35,24],[35,26,35,27],[32,23,32,24],[33,6,33,9],[33,11,33,12],[34,0,35,1],[34,2,35,4],[34,6,34,9],[34,11,34,12],[34,20,34,21],[34,23,34,24],[30,26,30,27],[31,6,31,9],[31,11,31,12],[32,0,33,1],[32,2,33,4],[32,6,32,9],[32,11,32,12],[32,14,32,15],[32,17,32,18],[32,20,32,21],[30,0,31,1],[30,2,31,4],[30,6,30,9],[30,11,30,12],[30,20,30,21],[30,23,30,24],[34,26,34,27],[35,6,35,9],[28,26,28,27],[29,6,29,9],[29,11,29,12],[29,14,29,15],[29,17,29,18],[29,20,29,21],[29,23,29,24],[29,26,29,27],[27,22,27,24],[27,25,27,27],[28,0,29,1],[28,2,29,4],[28,6,28,9],[28,11,28,12],[28,14,28,15],[28,17,28,18],[28,20,28,21],[28,23,28,24],[27,0,27,4],[27,6,27,9],[27,10,27,12],[27,13,27,15],[27,16,27,18],[27,19,27,21],[24,23,24,24],[24,26,24,27],[25,0,25,1],[25,2,25,6],[25,8,25,12],[25,14,25,15],[25,17,25,18],[25,20,25,21],[25,23,25,24],[25,26,25,27],[24,0,24,1],[24,2,24,6],[24,8,24,12],[24,14,24,15],[24,17,24,18],[24,20,24,21],[22,23,22,24],[22,26,22,27],[23,8,23,12],[23,14,23,15],[23,17,23,18],[23,20,23,21],[23,23,23,24],[23,26,23,27],[22,0,23,1],[22,2,23,6],[22,8,22,12],[22,14,22,15],[22,17,22,18],[22,20,22,21],[20,23,20,24],[20,26,20,27],[21,0,21,1],[21,2,21,6],[21,8,21,12],[21,14,21,15],[21,17,21,18],[21,20,21,21],[21,23,21,24],[21,26,21,27],[20,0,20,1],[20,2,20,6],[20,8,20,12],[20,14,20,15],[20,17,20,18],[20,20,20,21],[18,26,18,27],[19,0,19,6],[19,8,19,12],[19,14,19,15],[19,17,19,18],[19,20,19,21],[19,23,19,24],[19,26,19,27],[18,2,18,6],[18,8,18,12],[18,14,18,15],[18,17,18,18],[18,20,18,21],[18,23,18,24],[16,26,16,27],[17,2,17,6],[17,8,17,12],[17,14,17,15],[17,17,17,18],[17,20,17,21],[17,23,17,24],[17,26,17,27],[16,2,16,6],[16,8,16,12],[16,14,16,15],[16,17,16,18],[16,20,16,21],[16,23,16,24],[14,26,14,27],[15,2,15,6],[15,8,15,12],[15,14,15,15],[15,17,15,18],[15,20,15,21],[15,23,15,24],[15,26,15,27],[14,2,14,6],[14,8,14,12],[14,14,14,15],[14,17,14,18],[14,20,14,21],[14,23,14,24],[12,23,12,24],[12,26,12,27],[13,0,13,1],[13,8,13,12],[13,14,13,15],[13,17,13,18],[13,20,13,21],[13,23,13,24],[13,26,13,27],[12,0,12,1],[12,2,13,6],[12,8,12,12],[12,14,12,15],[12,17,12,18],[12,20,12,21],[10,13,11,15],[10,16,10,18],[10,19,10,21],[10,22,10,24],[11,16,11,18],[11,19,11,21],[11,22,11,24],[7,26,7,27],[9,0,9,6],[9,8,11,12],[9,13,9,15],[9,16,9,18],[9,19,9,21],[9,22,9,24],[9,25,11,27],[10,0,11,1],[10,2,11,6],[7,4,7,6],[7,11,7,12],[7,14,7,15],[7,17,7,18],[7,20,7,21],[7,23,7,24],[6,20,6,21],[6,23,6,24],[6,26,6,27],[5,4,5,6],[5,11,5,12],[5,14,5,15],[5,17,5,18],[5,20,5,21],[5,23,5,24],[0,7,0,27],[1,8,1,27],[2,0,2,2],[2,8,2,27],[3,0,6,2],[3,4,4,6],[3,8,3,9],[3,10,3,12],[3,13,4,15],[3,16,3,18],[3,19,3,21],[3,22,3,24],[3,25,3,27],[4,8,4,9],[4,10,4,12],[4,16,4,18],[4,19,4,21],[4,22,4,24],[4,25,4,27],[5,26,5,27],[6,4,6,6],[6,11,6,12],[6,14,6,15],[6,17,6,18]]}
[null,null,null,null,null,null,null,"  MORAVSKOSLEZSKÝ KYNOLOGICKÝ SVAZ, z. s."]
[null,null,null,null,null,null,null," ","Člen FCI prostřednictvím Českomoravské kynologické unie"]
["Druh a stupeň",null,null,null,null,null,null," ","POTVRZENÍ O VYKONANÉ ZKOUŠCE NZŘ"]
[{"$f":"IF(Soupiska!W84=\"N\",Soupiska!B84,\"NE\")","v":"NE"},null,null,null,"A - STOPA",null,null,null,"ZM",null,"ZVV1",null,null,"ZPS1",null,null,"ZVV2",null,null,"ZVV3",null,null,"ZPS2",null,null,"ZPS2"]
[null,null,null,null,null,null,null,null,"ZMMP",null,"ZMP1",null,null,null,null,null,"ZMP2",null,null,"ZMP3",null,null,"A",null,null,"B"]
[null,null,null,null,"Vlastní - cizí",null,null,null,40,null,80,null,null,80,null,null,"80",null,null,80,null,null,80,null,null,80]
[null,null,null,null,"Předměty",null,null,null,10,null,20," ",null,20,null,null,20," ",null,20,null,null,20,null,null,20]
[null,null,null,null,"Celkem",null,null,null,50,{"$f":"SUM(J6:J7)","v":0},100,{"$f":"SUM(L6:M7)","v":0},null,100,{"$f":"SUM(O6:O7)","v":0},null,100,{"$f":"SUM(R6:S7)","v":0},null,100,{"$f":"SUM(U6:V7)","v":0},null,100,{"$f":"SUM(X6:Y7)","v":0},null,100,{"$f":"SUM(AA6:AB7)","v":0}]
[]
["Data psa-feny",null,null,null,null,null,null,null,"B - POSLUŠNOST",null,null,null,null,"ZM",null,null,"ZVV1,ZMP1",null,null,"ZVV2",null,null,"ZVV3,ZMP3",null,null,"ZZO"]
["Jméno:",null,{"$f":"Soupiska!C84","v":0},null,null,null,null,null,null,null,null,null,null,"ZMMP",null,null,"ZPS1,ZPO1",null,null,"ZMP2",null,null,"ZPS2,ZPO2"]
[null,null,null,null,null,null,null,null,null,null,null,null,null,null,null,null,"ZMPO,ZZO1",null,null,"ZZO2",null,null,"ZZO3"]
["Chovná",null,{"$f":"Soupiska!E84","v":0},null,null,null,null,null,"Přivolání psa",null,null,null,null,10,null,null,10," ",null,10," ",null,10," ",null,10]
["stanice:",null,null,null,null,null,null,null,"Ovladatelnost na vod.",null,null,null,null,10,"  ",null,10," ",null," X"," X",null," X"," X",null,10]
["Plemeno:",null,{"$f":"Soupiska!I84","v":0},null,null,null,null,null,"Ovladatelnost bez vod.",null,null,null,null," X"," X",null," X"," X",null,10," ",null,10,null,null," X"," X"]
["Pohlaví:",null,{"$f":"Soupiska!K84","v":0},null,null,null,null,null,"Polohy (S - L - V)",null,null,null,null,10,"  ",null,10," ",null,10,null," ","10"," ",null,10]
["Narozen",null,{"$f":"Soupiska!L84","v":"00:00:00"},null,null,null,null,null,"Odložení za pochodu",null,null,null,null," X"," X",null,10,null,null,10,null," ",10,null,null,10]
["Č.záp.:",null,{"$f":"Soupiska!N84","v":0},null,null,null,null,null,"Štěkání psa",null,null,null,null," X"," X",null,10," ",null,10,null," ",10," ",null," X"," X"]
["T.č./čip:",null,{"$f":"Soupiska!P84","v":0},null,null,null,null,null,"Aport volný",null,null,null,null,10," ",null,10," ",null,"X",null," X"," X"," X",null,10]
["Data psovoda",null,null,null,null,null,null,null,"Skok vysoký  (aport)",null,null,null,null," X"," X",null,10," ",null,10,null," "," X"," X",null," X"," X"]
["Jméno:",null,{"$f":"Soupiska!C85","v":0},null,null,null,null,null,"Skok šplhem  (aport)",null,null,null,null," X"," X",null,10," ",null," X","X",null,10," ",null," X"," X"]
["Příjmení:",null,{"$f":"Soupiska!E85","v":0},null,null,null,null,null,"Plížení",null,null,null,null," X"," X",null," X"," X",null,10,null," ",10," ",null," X"," X"]
["Bydliště:",null,{"$f":"Soupiska!I85","v":0},null,null,null,null,null,"Kladina (nízká/vysoká)",null,null,null,null," X"," X",null,10," ",null,10,null," ",10," ",null," X"," X"]
[null,null,null,null,null,null,null,null,"Vysílání",null,null,null,null," X"," X",null," X"," X",null,10,null,"  ",10,null,null," X"," X"]
["Narozen:",null,{"$f":"DATE(IF(MID(Soupiska!C86,1,2)*1 > YEAR(TODAY())-2000, 1900, 2000) + MID(Soupiska!C86,1,2), MOD(MID(Soupiska!C86,3,2),50), MID(Soupiska!C86,5,2))","v":{"$error":"#VALUE!"}},null,null,null,null,null,"Odložení psa",null,null,null,null,10," ",null,10," ",null,10,null," ",10," ",null,10]
["Člen ZO:",null,{"$f":"Soupiska!I86","v":0},null,null,null,null,null,"Celkem",null,null,null,null,50,{"$f":"SUM(O13:P25)","v":0},null,100,{"$f":"SUM(R13:S25)","v":0},null,100,{"$f":"SUM(U13:V25)","v":0},null,100,{"$f":"SUM(X13:Y25)","v":0},null,60,{"$f":"SUM(AA13:AB25)","v":0}]
[]
["Data akce",null,null,null,null,null,"C - OBRANA",null,null,null,"ZM",null,null,"ZVV1 ",null,null,"ZVV2",null,null,"ZVV3",null,null,"ZPO1",null,null,"ZPO2"]
["Datum:",null,{"$f":"Soupiska!T6","v":"00:00:00"},null,null,null,"Průzkum terénu",null,null,null,10," ",null,10," ",null,10,null,null,10,null,null,10,null,null,20," "]
[null,null,null,null,null,null,"Vyštěkání",null,null,null,10," ",null,10,null,null,10,null,null,10,null,null,10,null,null,20]
["Místo:",null,{"$f":"Soupiska!P5","v":0},null,null,null,"Prohl., výsl., dopr.",null,null,null," X"," X",null,"10/10",null," ","10/10",null," ",10,null," ",10," ",null,20]
[null,null,null,null,null,null,"Ochrana psovoda",null,null,null,"15",null,null," 15/5",null,null," 15/5",null,null,"20/5",null,null,"20/5",null,null,"40/10",null," "]
["Vedoucí zkoušek:",null,{"$f":"Soupiska!D6","v":0},null,null,null,"Hlídání pomocníka 2+1",null,null,null," X"," X",null," X"," X",null," X"," X",null,20,null,null,20,null,null,40,null," "]
[null,null,null,null,null,null,"Samost. činnost psa (zadržení pomocníka)",null,null,null,"15",null,null," 15/5",null," "," 15/5",null," ","20/5",null,null,"20/5",null,null,"40/10",null," "]
["Rozhodčí:",null,{"$f":"Soupiska!P6","v":0},null,null,null,"Odolnost psa",null,null,null,"X","X",null," 15/5",null," "," 15/5",null," ","X","X",null,"X","X",null,"X","X"]
[null,null,null,null,null,null,"Celkem",null,null,null,50,{"$f":"SUM(L29:M35)","v":0},null,100,{"$f":"SUM(O29:P35)","v":0},null,100,{"$f":"SUM(R29:S35)","v":0},null,100,{"$f":"SUM(U29:V35)","v":0},null,100,{"$f":"SUM(X29:Y35)","v":0},null,200,{"$f":"SUM(AA29:AB35)","v":0}]
[" ",null,null,null,null,null,null,null," ",null,null,null,null,null,null," ",null,null," "," ",null," "," ",null," "," ",null," "]
["Výsledek zkoušky",null,null,null,null,null,"D - SPEC .CVIKY",null,null,null,"ZMMP",null,null,"ZMMP1",null,null,"ZMMP2",null,null,"ZMMP3",null,null,"ZPMO",null,null,"ZZO"]
["A   stopa",null,null,{"$f":"J8+L8+O8+R8+U8+X8+AA8","v":0},null,null,"Přivol.psa za ztíž.p.",null,null,null," X"," X",null," X"," X",null," X"," X",null," X"," X",null," X"," X",null,"PV-P-N"," "]
[null,null,null,null,null,null,"Chov.psa ve sk.osob",null,null,null," X"," X",null," X"," X",null," X"," X",null," X"," X",null," X"," X",null,"PV-P-N"," "]
["B  poslušnost",null,null,{"$f":"O26+R26+U26+X26+AA26","v":0},null,null,"Chov.přiváz. psa",null,null,null," X"," X",null," X"," X",null," X"," X",null," X"," X",null," X"," X",null,"PV-P-N"," "]
[null,null,null,null,null,null,"Rozlišování předm.",null,null,null,"10/10",null,null,"15/15",null,null,"15/15",null,null," X"," X",null," X"," X",null," X"," X"]
["C   obrana ",null,null,{"$f":"L36+O36+R36+U36+X36+AA36","v":0},null,null,"Rozlišování osoby",null,null,null," X"," X",null," X"," X",null," X"," X",null," 15/5",null,null," X"," X",null," X"," X"]
[null,null,null,null,null,null,"Vyhledání předm.",null,null,null," 15/5",null,null," 24/6",null," "," 24/6",null,null," 24/6",null," "," X"," X",null," X"," X"]
["D    spec. cviky",null,null,{"$f":"IF(AA51=\" \",L51+O51+R51+U51+X51,AA51)","v":0},null,null,"Ztracený předmět",null,null,null,10,null,null,20," ",null,20,null,null,20,null,null," X"," X",null," X"," X"]
[null,null,null,null,null,null,"Průzk.terénu/vyšť.",null,null,null," X"," X",null,"10/10",null," ","10/10",null,null,"10/10",null,null,"10/10",null,null," X"," X"]
["CELKEM",null,{"$f":"VLOOKUP(A4,TYPY!A$1:D$65536,4,FALSE)","v":{"$error":"#N/A"}},{"$f":"IF(AA51=\" \",D39+D41+D43+D45,D39+D41+D43)","v":0},null,null,"Zajištění figuranta",null,null,null," X"," X",null," X"," X",null," X"," X",null," X"," X",null,10,null,null," X"," X"]
[null,null,null,null,null,null,"Doprovod figuranta",null,null,null," X"," X",null," X"," X",null," X"," X",null," X","X"," X",10,null,null," X"," X"]
["ZNÁMKA",null,null,null,null,null,"Napadení psovoda",null,null,null," X"," X",null," X"," X",null," X"," X",null," X","X"," X",30,null,null," X"," X"]
[{"$f":"IF(D47>0,IFERROR(IF(C47=300,VLOOKUP(D47,TYPY!$B$44:$C$135,2,FALSE),IF(C47=200,VLOOKUP(D47,TYPY!$N$44:$O$105,2,FALSE),IF(C47=150,VLOOKUP(D47,TYPY!$L$44:$M$90,2,FALSE),IF(C47=100,VLOOKUP(D47,TYPY!$F$44:$G$75,2,FALSE),IF(C47=60,IF(D45=\"N\",\"N\",VLOOKUP(D47,TYPY!$J$44:$K$63,2,FALSE)),\"N\"))))),\"N\"),\" \")","v":" "},null,null,null,null,null,"Hlídání  předm.",null,null,null," X"," X",null," X"," X",null," X"," X",null," X","X"," X",30,null,null," X"," X"]
[null,null,null,null,null,null,"Celkem",null,null,null,50,{"$f":"SUM(L42:M45)","v":0},null,100,{"$f":"SUM(P39:P50)","v":0},null,100,{"$f":"SUM(R42:S46)","v":0},null,100,{"$f":"SUM(U43:V46)","v":0},null,100,{"$f":"SUM(X46:Y50)","v":0},null,"PV-P-N"]
[]
[" ",null,null,null,null,null,null,null,null,null," ",null,null,null,null,null," "]
[]
[]
[]
["Razítko organizace",null,null,null,null,null,null,null,null,null,"Podpis ved.  zkoušek",null,null,null,null,null,"Podpis a razítko rozhočího"]

{"sheet":"NZR26","index":55,"n_rows":57,"n_cols":28,"rows_kept":57,"cut":false,"hidden":true,"merged":[[52,0,55,8],[52,10,55,13],[52,16,55,27],[56,0,56,8],[56,10,56,13],[56,16,56,25],[49,23,49,24],[49,26,49,27],[50,6,50,9],[50,11,50,12],[50,14,50,15],[50,17,50,18],[50,20,50,21],[50,23,50,24],[50,26,50,27],[49,0,50,4],[49,6,49,9],[49,11,49,12],[49,14,49,15],[49,17,49,18],[49,20,49,21],[48,0,48,4],[48,6,48,9],[48,11,48,12],[48,14,48,15],[48,17,48,18],[48,20,48,21],[48,23,48,24],[48,26,48,27],[46,0,47,1],[46,2,47,2],[46,3,47,4],[46,17,46,18],[46,20,46,21],[46,23,46,24],[46,26,46,27],[47,6,47,9],[47,11,47,12],[47,14,47,15],[47,17,47,18],[47,20,47,21],[47,23,47,24],[46,6,46,9],[46,11,46,12],[46,14,46,15],[47,26,47,27],[44,17,44,18],[44,20,44,21],[44,23,44,24],[44,26,44,27],[45,6,45,9],[45,11,45,12],[45,26,45,27],[42,23,42,24],[42,26,42,27],[43,6,43,9],[43,23,43,24],[43,26,43,27],[42,17,42,18],[44,0,45,2],[44,3,45,4],[44,6,44,9],[44,11,44,12],[44,14,44,15],[42,0,43,2],[42,3,43,4],[42,6,42,9],[42,11,42,12],[42,14,42,15],[40,20,40,21],[40,23,40,24],[40,26,40,27],[41,6,41,9],[41,20,41,21],[41,23,41,24],[41,26,41,27],[40,0,41,2],[40,3,41,4],[40,6,40,9],[40,11,40,12],[40,14,40,15],[40,17,40,18],[38,26,38,27],[39,6,39,9],[39,11,39,12],[39,14,39,15],[39,17,39,18],[39,20,39,21],[39,23,39,24],[39,26,39,27],[37,22,37,24],[37,25,37,27],[38,0,39,2],[38,3,39,4],[38,6,38,9],[38,11,38,12],[38,14,38,15],[38,17,38,18],[38,20,38,21],[38,23,38,24],[37,0,37,4],[37,6,37,9],[37,10,37,12],[37,13,37,15],[37,16,37,18],[37,19,37,21],[35,11,35,12],[35,14,35,15],[35,17,35,18],[35,20,35,21],[35,23,35,24],[35,26,35,27],[32,23,32,24],[33,6,33,9],[33,11,33,12],[34,0,35,1],[34,2,35,4],[34,6,34,9],[34,11,34,12],[34,20,34,21],[34,23,34,24],[30,26,30,27],[31,6,31,9],[31,11,31,12],[32,0,33,1],[32,2,33,4],[32,6,32,9],[32,11,32,12],[32,14,32,15],[32,17,32,18],[32,20,32,21],[30,0,31,1],[30,2,31,4],[30,6,30,9],[30,11,30,12],[30,20,30,21],[30,23,30,24],[34,26,34,27],[35,6,35,9],[28,26,28,27],[29,6,29,9],[29,11,29,12],[29,14,29,15],[29,17,29,18],[29,20,29,21],[29,23,29,24],[29,26,29,27],[27,22,27,24],[27,25,27,27],[28,0,29,1],[28,2,29,4],[28,6,28,9],[28,11,28,12],[28,14,28,15],[28,17,28,18],[28,20,28,21],[28,23,28,24],[27,0,27,4],[27,6,27,9],[27,10,27,12],[27,13,27,15],[27,16,27,18],[27,19,27,21],[24,23,24,24],[24,26,24,27],[25,0,25,1],[25,2,25,6],[25,8,25,12],[25,14,25,15],[25,17,25,18],[25,20,25,21],[25,23,25,24],[25,26,25,27],[24,0,24,1],[24,2,24,6],[24,8,24,12],[24,14,24,15],[24,17,24,18],[24,20,24,21],[22,23,22,24],[22,26,22,27],[23,8,23,12],[23,14,23,15],[23,17,23,18],[23,20,23,21],[23,23,23,24],[23,26,23,27],[22,0,23,1],[22,2,23,6],[22,8,22,12],[22,14,22,15],[22,17,22,18],[22,20,22,21],[20,23,20,24],[20,26,20,27],[21,0,21,1],[21,2,21,6],[21,8,21,12],[21,14,21,15],[21,17,21,18],[21,20,21,21],[21,23,21,24],[21,26,21,27],[20,0,20,1],[20,2,20,6],[20,8,20,12],[20,14,20,15],[20,17,20,18],[20,20,20,21],[18,26,18,27],[19,0,19,6],[19,8,19,12],[19,14,19,15],[19,17,19,18],[19,20,19,21],[19,23,19,24],[19,26,19,27],[18,2,18,6],[18,8,18,12],[18,14,18,15],[18,17,18,18],[18,20,18,21],[18,23,18,24],[16,26,16,27],[17,2,17,6],[17,8,17,12],[17,14,17,15],[17,17,17,18],[17,20,17,21],[17,23,17,24],[17,26,17,27],[16,2,16,6],[16,8,16,12],[16,14,16,15],[16,17,16,18],[16,20,16,21],[16,23,16,24],[14,26,14,27],[15,2,15,6],[15,8,15,12],[15,14,15,15],[15,17,15,18],[15,20,15,21],[15,23,15,24],[15,26,15,27],[14,2,14,6],[14,8,14,12],[14,14,14,15],[14,17,14,18],[14,20,14,21],[14,23,14,24],[12,23,12,24],[12,26,12,27],[13,0,13,1],[13,8,13,12],[13,14,13,15],[13,17,13,18],[13,20,13,21],[13,23,13,24],[13,26,13,27],[12,0,12,1],[12,2,13,6],[12,8,12,12],[12,14,12,15],[12,17,12,18],[12,20,12,21],[10,13,11,15],[10,16,10,18],[10,19,10,21],[10,22,10,24],[11,16,11,18],[11,19,11,21],[11,22,11,24],[7,26,7,27],[9,0,9,6],[9,8,11,12],[9,13,9,15],[9,16,9,18],[9,19,9,21],[9,22,9,24],[9,25,11,27],[10,0,11,1],[10,2,11,6],[7,4,7,6],[7,11,7,12],[7,14,7,15],[7,17,7,18],[7,20,7,21],[7,23,7,24],[6,20,6,21],[6,23,6,24],[6,26,6,27],[5,4,5,6],[5,11,5,12],[5,14,5,15],[5,17,5,18],[5,20,5,21],[5,23,5,24],[0,7,0,27],[1,8,1,27],[2,0,2,2],[2,8,2,27],[3,0,6,2],[3,4,4,6],[3,8,3,9],[3,10,3,12],[3,13,4,15],[3,16,3,18],[3,19,3,21],[3,22,3,24],[3,25,3,27],[4,8,4,9],[4,10,4,12],[4,16,4,18],[4,19,4,21],[4,22,4,24],[4,25,4,27],[5,26,5,27],[6,4,6,6],[6,11,6,12],[6,14,6,15],[6,17,6,18]]}
[null,null,null,null,null,null,null,"  MORAVSKOSLEZSKÝ KYNOLOGICKÝ SVAZ, z. s."]
[null,null,null,null,null,null,null," ","Člen FCI prostřednictvím Českomoravské kynologické unie"]
["Druh a stupeň",null,null,null,null,null,null," ","POTVRZENÍ O VYKONANÉ ZKOUŠCE NZŘ"]
[{"$f":"IF(Soupiska!W87=\"N\",Soupiska!B87,\"NE\")","v":"NE"},null,null,null,"A - STOPA",null,null,null,"ZM",null,"ZVV1",null,null,"ZPS1",null,null,"ZVV2",null,null,"ZVV3",null,null,"ZPS2",null,null,"ZPS2"]
[null,null,null,null,null,null,null,null,"ZMMP",null,"ZMP1",null,null,null,null,null,"ZMP2",null,null,"ZMP3",null,null,"A",null,null,"B"]
[null,null,null,null,"Vlastní - cizí",null,null,null,40,null,80,null,null,80,null,null,"80",null,null,80,null,null,80,null,null,80]
[null,null,null,null,"Předměty",null,null,null,10,null,20," ",null,20,null,null,20," ",null,20,null,null,20,null,null,20]
[null,null,null,null,"Celkem",null,null,null,50,{"$f":"SUM(J6:J7)","v":0},100,{"$f":"SUM(L6:M7)","v":0},null,100,{"$f":"SUM(O6:O7)","v":0},null,100,{"$f":"SUM(R6:S7)","v":0},null,100,{"$f":"SUM(U6:V7)","v":0},null,100,{"$f":"SUM(X6:Y7)","v":0},null,100,{"$f":"SUM(AA6:AB7)","v":0}]
[]
["Data psa-feny",null,null,null,null,null,null,null,"B - POSLUŠNOST",null,null,null,null,"ZM",null,null,"ZVV1,ZMP1",null,null,"ZVV2",null,null,"ZVV3,ZMP3",null,null,"ZZO"]
["Jméno:",null,{"$f":"Soupiska!C87","v":0},null,null,null,null,null,null,null,null,null,null,"ZMMP",null,null,"ZPS1,ZPO1",null,null,"ZMP2",null,null,"ZPS2,ZPO2"]
[null,null,null,null,null,null,null,null,null,null,null,null,null,null,null,null,"ZMPO,ZZO1",null,null,"ZZO2",null,null,"ZZO3"]
["Chovná",null,{"$f":"Soupiska!E87","v":0},null,null,null,null,null,"Přivolání psa",null,null,null,null,10,null,null,10," ",null,10," ",null,10," ",null,10]
["stanice:",null,null,null,null,null,null,null,"Ovladatelnost na vod.",null,null,null,null,10,"  ",null,10," ",null," X"," X",null," X"," X",null,10]
["Plemeno:",null,{"$f":"Soupiska!I87","v":0},null,null,null,null,null,"Ovladatelnost bez vod.",null,null,null,null," X"," X",null," X"," X",null,10," ",null,10,null,null," X"," X"]
["Pohlaví:",null,{"$f":"Soupiska!K87","v":0},null,null,null,null,null,"Polohy (S - L - V)",null,null,null,null,10,"  ",null,10," ",null,10,null," ","10"," ",null,10]
["Narozen",null,{"$f":"Soupiska!L87","v":"00:00:00"},null,null,null,null,null,"Odložení za pochodu",null,null,null,null," X"," X",null,10,null,null,10,null," ",10,null,null,10]
["Č.záp.:",null,{"$f":"Soupiska!N87","v":0},null,null,null,null,null,"Štěkání psa",null,null,null,null," X"," X",null,10," ",null,10,null," ",10," ",null," X"," X"]
["T.č./čip:",null,{"$f":"Soupiska!P87","v":0},null,null,null,null,null,"Aport volný",null,null,null,null,10," ",null,10," ",null,"X",null," X"," X"," X",null,10]
["Data psovoda",null,null,null,null,null,null,null,"Skok vysoký  (aport)",null,null,null,null," X"," X",null,10," ",null,10,null," "," X"," X",null," X"," X"]
["Jméno:",null,{"$f":"Soupiska!C88","v":0},null,null,null,null,null,"Skok šplhem  (aport)",null,null,null,null," X"," X",null,10," ",null," X","X",null,10," ",null," X"," X"]
["Příjmení:",null,{"$f":"Soupiska!E88","v":0},null,null,null,null,null,"Plížení",null,null,null,null," X"," X",null," X"," X",null,10,null," ",10," ",null," X"," X"]
["Bydliště:",null,{"$f":"Soupiska!I88","v":0},null,null,null,null,null,"Kladina (nízká/vysoká)",null,null,null,null," X"," X",null,10," ",null,10,null," ",10," ",null," X"," X"]
[null,null,null,null,null,null,null,null,"Vysílání",null,null,null,null," X"," X",null," X"," X",null,10,null,"  ",10,null,null," X"," X"]
["Narozen:",null,{"$f":"DATE(IF(MID(Soupiska!C89,1,2)*1 > YEAR(TODAY())-2000, 1900, 2000) + MID(Soupiska!C89,1,2), MOD(MID(Soupiska!C89,3,2),50), MID(Soupiska!C89,5,2))","v":{"$error":"#VALUE!"}},null,null,null,null,null,"Odložení psa",null,null,null,null,10," ",null,10," ",null,10,null," ",10," ",null,10]
["Člen ZO:",null,{"$f":"Soupiska!I89","v":0},null,null,null,null,null,"Celkem",null,null,null,null,50,{"$f":"SUM(O13:P25)","v":0},null,100,{"$f":"SUM(R13:S25)","v":0},null,100,{"$f":"SUM(U13:V25)","v":0},null,100,{"$f":"SUM(X13:Y25)","v":0},null,60,{"$f":"SUM(AA13:AB25)","v":0}]
[]
["Data akce",null,null,null,null,null,"C - OBRANA",null,null,null,"ZM",null,null,"ZVV1 ",null,null,"ZVV2",null,null,"ZVV3",null,null,"ZPO1",null,null,"ZPO2"]
["Datum:",null,{"$f":"Soupiska!T6","v":"00:00:00"},null,null,null,"Průzkum terénu",null,null,null,10," ",null,10," ",null,10,null,null,10,null,null,10,null,null,20," "]
[null,null,null,null,null,null,"Vyštěkání",null,null,null,10," ",null,10,null,null,10,null,null,10,null,null,10,null,null,20]
["Místo:",null,{"$f":"Soupiska!P5","v":0},null,null,null,"Prohl., výsl., dopr.",null,null,null," X"," X",null,"10/10",null," ","10/10",null," ",10,null," ",10," ",null,20]
[null,null,null,null,null,null,"Ochrana psovoda",null,null,null,"15",null,null," 15/5",null,null," 15/5",null,null,"20/5",null,null,"20/5",null,null,"40/10",null," "]
["Vedoucí zkoušek:",null,{"$f":"Soupiska!D6","v":0},null,null,null,"Hlídání pomocníka 2+1",null,null,null," X"," X",null," X"," X",null," X"," X",null,20,null,null,20,null,null,40,null," "]
[null,null,null,null,null,null,"Samost. činnost psa (zadržení pomocníka)",null,null,null,"15",null,null," 15/5",null," "," 15/5",null," ","20/5",null,null,"20/5",null,null,"40/10",null," "]
["Rozhodčí:",null,{"$f":"Soupiska!P6","v":0},null,null,null,"Odolnost psa",null,null,null,"X","X",null," 15/5",null," "," 15/5",null," ","X","X",null,"X","X",null,"X","X"]
[null,null,null,null,null,null,"Celkem",null,null,null,50,{"$f":"SUM(L29:M35)","v":0},null,100,{"$f":"SUM(O29:P35)","v":0},null,100,{"$f":"SUM(R29:S35)","v":0},null,100,{"$f":"SUM(U29:V35)","v":0},null,100,{"$f":"SUM(X29:Y35)","v":0},null,200,{"$f":"SUM(AA29:AB35)","v":0}]
[" ",null,null,null,null,null,null,null," ",null,null,null,null,null,null," ",null,null," "," ",null," "," ",null," "," ",null," "]
["Výsledek zkoušky",null,null,null,null,null,"D - SPEC .CVIKY",null,null,null,"ZMMP",null,null,"ZMMP1",null,null,"ZMMP2",null,null,"ZMMP3",null,null,"ZPMO",null,null,"ZZO"]
["A   stopa",null,null,{"$f":"J8+L8+O8+R8+U8+X8+AA8","v":0},null,null,"Přivol.psa za ztíž.p.",null,null,null," X"," X",null," X"," X",null," X"," X",null," X"," X",null," X"," X",null,"PV-P-N"," "]
[null,null,null,null,null,null,"Chov.psa ve sk.osob",null,null,null," X"," X",null," X"," X",null," X"," X",null," X"," X",null," X"," X",null,"PV-P-N"," "]
["B  poslušnost",null,null,{"$f":"O26+R26+U26+X26+AA26","v":0},null,null,"Chov.přiváz. psa",null,null,null," X"," X",null," X"," X",null," X"," X",null," X"," X",null," X"," X",null,"PV-P-N"," "]
[null,null,null,null,null,null,"Rozlišování předm.",null,null,null,"10/10",null,null,"15/15",null,null,"15/15",null,null," X"," X",null," X"," X",null," X"," X"]
["C   obrana ",null,null,{"$f":"L36+O36+R36+U36+X36+AA36","v":0},null,null,"Rozlišování osoby",null,null,null," X"," X",null," X"," X",null," X"," X",null," 15/5",null,null," X"," X",null," X"," X"]
[null,null,null,null,null,null,"Vyhledání předm.",null,null,null," 15/5",null,null," 24/6",null," "," 24/6",null,null," 24/6",null," "," X"," X",null," X"," X"]
["D    spec. cviky",null,null,{"$f":"IF(AA51=\" \",L51+O51+R51+U51+X51,AA51)","v":0},null,null,"Ztracený předmět",null,null,null,10,null,null,20," ",null,20,null,null,20,null,null," X"," X",null," X"," X"]
[null,null,null,null,null,null,"Průzk.terénu/vyšť.",null,null,null," X"," X",null,"10/10",null," ","10/10",null,null,"10/10",null,null,"10/10",null,null," X"," X"]
["CELKEM",null,{"$f":"VLOOKUP(A4,TYPY!A$1:D$65536,4,FALSE)","v":{"$error":"#N/A"}},{"$f":"IF(AA51=\" \",D39+D41+D43+D45,D39+D41+D43)","v":0},null,null,"Zajištění figuranta",null,null,null," X"," X",null," X"," X",null," X"," X",null," X"," X",null,10,null,null," X"," X"]
[null,null,null,null,null,null,"Doprovod figuranta",null,null,null," X"," X",null," X"," X",null," X"," X",null," X","X"," X",10,null,null," X"," X"]
["ZNÁMKA",null,null,null,null,null,"Napadení psovoda",null,null,null," X"," X",null," X"," X",null," X"," X",null," X","X"," X",30,null,null," X"," X"]
[{"$f":"IF(D47>0,IFERROR(IF(C47=300,VLOOKUP(D47,TYPY!$B$44:$C$135,2,FALSE),IF(C47=200,VLOOKUP(D47,TYPY!$N$44:$O$105,2,FALSE),IF(C47=150,VLOOKUP(D47,TYPY!$L$44:$M$90,2,FALSE),IF(C47=100,VLOOKUP(D47,TYPY!$F$44:$G$75,2,FALSE),IF(C47=60,IF(D45=\"N\",\"N\",VLOOKUP(D47,TYPY!$J$44:$K$63,2,FALSE)),\"N\"))))),\"N\"),\" \")","v":" "},null,null,null,null,null,"Hlídání  předm.",null,null,null," X"," X",null," X"," X",null," X"," X",null," X","X"," X",30,null,null," X"," X"]
[null,null,null,null,null,null,"Celkem",null,null,null,50,{"$f":"SUM(L42:M45)","v":0},null,100,{"$f":"SUM(P39:P50)","v":0},null,100,{"$f":"SUM(R42:S46)","v":0},null,100,{"$f":"SUM(U43:V46)","v":0},null,100,{"$f":"SUM(X46:Y50)","v":0},null,"PV-P-N"]
[]
[" ",null,null,null,null,null,null,null,null,null," ",null,null,null,null,null," "]
[]
[]
[]
["Razítko organizace",null,null,null,null,null,null,null,null,null,"Podpis ved.  zkoušek",null,null,null,null,null,"Podpis a razítko rozhočího"]

{"sheet":"NZR27","index":56,"n_rows":57,"n_cols":28,"rows_kept":57,"cut":false,"hidden":true,"merged":[[52,0,55,8],[52,10,55,13],[52,16,55,27],[56,0,56,8],[56,10,56,13],[56,16,56,25],[49,23,49,24],[49,26,49,27],[50,6,50,9],[50,11,50,12],[50,14,50,15],[50,17,50,18],[50,20,50,21],[50,23,50,24],[50,26,50,27],[49,0,50,4],[49,6,49,9],[49,11,49,12],[49,14,49,15],[49,17,49,18],[49,20,49,21],[48,0,48,4],[48,6,48,9],[48,11,48,12],[48,14,48,15],[48,17,48,18],[48,20,48,21],[48,23,48,24],[48,26,48,27],[46,0,47,1],[46,2,47,2],[46,3,47,4],[46,17,46,18],[46,20,46,21],[46,23,46,24],[46,26,46,27],[47,6,47,9],[47,11,47,12],[47,14,47,15],[47,17,47,18],[47,20,47,21],[47,23,47,24],[46,6,46,9],[46,11,46,12],[46,14,46,15],[47,26,47,27],[44,17,44,18],[44,20,44,21],[44,23,44,24],[44,26,44,27],[45,6,45,9],[45,11,45,12],[45,26,45,27],[42,23,42,24],[42,26,42,27],[43,6,43,9],[43,23,43,24],[43,26,43,27],[42,17,42,18],[44,0,45,2],[44,3,45,4],[44,6,44,9],[44,11,44,12],[44,14,44,15],[42,0,43,2],[42,3,43,4],[42,6,42,9],[42,11,42,12],[42,14,42,15],[40,20,40,21],[40,23,40,24],[40,26,40,27],[41,6,41,9],[41,20,41,21],[41,23,41,24],[41,26,41,27],[40,0,41,2],[40,3,41,4],[40,6,40,9],[40,11,40,12],[40,14,40,15],[40,17,40,18],[38,26,38,27],[39,6,39,9],[39,11,39,12],[39,14,39,15],[39,17,39,18],[39,20,39,21],[39,23,39,24],[39,26,39,27],[37,22,37,24],[37,25,37,27],[38,0,39,2],[38,3,39,4],[38,6,38,9],[38,11,38,12],[38,14,38,15],[38,17,38,18],[38,20,38,21],[38,23,38,24],[37,0,37,4],[37,6,37,9],[37,10,37,12],[37,13,37,15],[37,16,37,18],[37,19,37,21],[35,11,35,12],[35,14,35,15],[35,17,35,18],[35,20,35,21],[35,23,35,24],[35,26,35,27],[32,23,32,24],[33,6,33,9],[33,11,33,12],[34,0,35,1],[34,2,35,4],[34,6,34,9],[34,11,34,12],[34,20,34,21],[34,23,34,24],[30,26,30,27],[31,6,31,9],[31,11,31,12],[32,0,33,1],[32,2,33,4],[32,6,32,9],[32,11,32,12],[32,14,32,15],[32,17,32,18],[32,20,32,21],[30,0,31,1],[30,2,31,4],[30,6,30,9],[30,11,30,12],[30,20,30,21],[30,23,30,24],[34,26,34,27],[35,6,35,9],[28,26,28,27],[29,6,29,9],[29,11,29,12],[29,14,29,15],[29,17,29,18],[29,20,29,21],[29,23,29,24],[29,26,29,27],[27,22,27,24],[27,25,27,27],[28,0,29,1],[28,2,29,4],[28,6,28,9],[28,11,28,12],[28,14,28,15],[28,17,28,18],[28,20,28,21],[28,23,28,24],[27,0,27,4],[27,6,27,9],[27,10,27,12],[27,13,27,15],[27,16,27,18],[27,19,27,21],[24,23,24,24],[24,26,24,27],[25,0,25,1],[25,2,25,6],[25,8,25,12],[25,14,25,15],[25,17,25,18],[25,20,25,21],[25,23,25,24],[25,26,25,27],[24,0,24,1],[24,2,24,6],[24,8,24,12],[24,14,24,15],[24,17,24,18],[24,20,24,21],[22,23,22,24],[22,26,22,27],[23,8,23,12],[23,14,23,15],[23,17,23,18],[23,20,23,21],[23,23,23,24],[23,26,23,27],[22,0,23,1],[22,2,23,6],[22,8,22,12],[22,14,22,15],[22,17,22,18],[22,20,22,21],[20,23,20,24],[20,26,20,27],[21,0,21,1],[21,2,21,6],[21,8,21,12],[21,14,21,15],[21,17,21,18],[21,20,21,21],[21,23,21,24],[21,26,21,27],[20,0,20,1],[20,2,20,6],[20,8,20,12],[20,14,20,15],[20,17,20,18],[20,20,20,21],[18,26,18,27],[19,0,19,6],[19,8,19,12],[19,14,19,15],[19,17,19,18],[19,20,19,21],[19,23,19,24],[19,26,19,27],[18,2,18,6],[18,8,18,12],[18,14,18,15],[18,17,18,18],[18,20,18,21],[18,23,18,24],[16,26,16,27],[17,2,17,6],[17,8,17,12],[17,14,17,15],[17,17,17,18],[17,20,17,21],[17,23,17,24],[17,26,17,27],[16,2,16,6],[16,8,16,12],[16,14,16,15],[16,17,16,18],[16,20,16,21],[16,23,16,24],[14,26,14,27],[15,2,15,6],[15,8,15,12],[15,14,15,15],[15,17,15,18],[15,20,15,21],[15,23,15,24],[15,26,15,27],[14,2,14,6],[14,8,14,12],[14,14,14,15],[14,17,14,18],[14,20,14,21],[14,23,14,24],[12,23,12,24],[12,26,12,27],[13,0,13,1],[13,8,13,12],[13,14,13,15],[13,17,13,18],[13,20,13,21],[13,23,13,24],[13,26,13,27],[12,0,12,1],[12,2,13,6],[12,8,12,12],[12,14,12,15],[12,17,12,18],[12,20,12,21],[10,13,11,15],[10,16,10,18],[10,19,10,21],[10,22,10,24],[11,16,11,18],[11,19,11,21],[11,22,11,24],[7,26,7,27],[9,0,9,6],[9,8,11,12],[9,13,9,15],[9,16,9,18],[9,19,9,21],[9,22,9,24],[9,25,11,27],[10,0,11,1],[10,2,11,6],[7,4,7,6],[7,11,7,12],[7,14,7,15],[7,17,7,18],[7,20,7,21],[7,23,7,24],[6,20,6,21],[6,23,6,24],[6,26,6,27],[5,4,5,6],[5,11,5,12],[5,14,5,15],[5,17,5,18],[5,20,5,21],[5,23,5,24],[0,7,0,27],[1,8,1,27],[2,0,2,2],[2,8,2,27],[3,0,6,2],[3,4,4,6],[3,8,3,9],[3,10,3,12],[3,13,4,15],[3,16,3,18],[3,19,3,21],[3,22,3,24],[3,25,3,27],[4,8,4,9],[4,10,4,12],[4,16,4,18],[4,19,4,21],[4,22,4,24],[4,25,4,27],[5,26,5,27],[6,4,6,6],[6,11,6,12],[6,14,6,15],[6,17,6,18]]}
[null,null,null,null,null,null,null,"  MORAVSKOSLEZSKÝ KYNOLOGICKÝ SVAZ, z. s."]
[null,null,null,null,null,null,null," ","Člen FCI prostřednictvím Českomoravské kynologické unie"]
["Druh a stupeň",null,null,null,null,null,null," ","POTVRZENÍ O VYKONANÉ ZKOUŠCE NZŘ"]
[{"$f":"IF(Soupiska!W90=\"N\",Soupiska!B90,\"NE\")","v":"NE"},null,null,null,"A - STOPA",null,null,null,"ZM",null,"ZVV1",null,null,"ZPS1",null,null,"ZVV2",null,null,"ZVV3",null,null,"ZPS2",null,null,"ZPS2"]
[null,null,null,null,null,null,null,null,"ZMMP",null,"ZMP1",null,null,null,null,null,"ZMP2",null,null,"ZMP3",null,null,"A",null,null,"B"]
[null,null,null,null,"Vlastní - cizí",null,null,null,40,null,80,null,null,80,null,null,"80",null,null,80,null,null,80,null,null,80]
[null,null,null,null,"Předměty",null,null,null,10,null,20," ",null,20,null,null,20," ",null,20,null,null,20,null,null,20]
[null,null,null,null,"Celkem",null,null,null,50,{"$f":"SUM(J6:J7)","v":0},100,{"$f":"SUM(L6:M7)","v":0},null,100,{"$f":"SUM(O6:O7)","v":0},null,100,{"$f":"SUM(R6:S7)","v":0},null,100,{"$f":"SUM(U6:V7)","v":0},null,100,{"$f":"SUM(X6:Y7)","v":0},null,100,{"$f":"SUM(AA6:AB7)","v":0}]
[]
["Data psa-feny",null,null,null,null,null,null,null,"B - POSLUŠNOST",null,null,null,null,"ZM",null,null,"ZVV1,ZMP1",null,null,"ZVV2",null,null,"ZVV3,ZMP3",null,null,"ZZO"]
["Jméno:",null,{"$f":"Soupiska!C90","v":0},null,null,null,null,null,null,null,null,null,null,"ZMMP",null,null,"ZPS1,ZPO1",null,null,"ZMP2",null,null,"ZPS2,ZPO2"]
[null,null,null,null,null,null,null,null,null,null,null,null,null,null,null,null,"ZMPO,ZZO1",null,null,"ZZO2",null,null,"ZZO3"]
["Chovná",null,{"$f":"Soupiska!E90","v":0},null,null,null,null,null,"Přivolání psa",null,null,null,null,10,null,null,10," ",null,10," ",null,10," ",null,10]
["stanice:",null,null,null,null,null,null,null,"Ovladatelnost na vod.",null,null,null,null,10,"  ",null,10," ",null," X"," X",null," X"," X",null,10]
["Plemeno:",null,{"$f":"Soupiska!I90","v":0},null,null,null,null,null,"Ovladatelnost bez vod.",null,null,null,null," X"," X",null," X"," X",null,10," ",null,10,null,null," X"," X"]
["Pohlaví:",null,{"$f":"Soupiska!K90","v":0},null,null,null,null,null,"Polohy (S - L - V)",null,null,null,null,10,"  ",null,10," ",null,10,null," ","10"," ",null,10]
["Narozen",null,{"$f":"Soupiska!L90","v":"00:00:00"},null,null,null,null,null,"Odložení za pochodu",null,null,null,null," X"," X",null,10,null,null,10,null," ",10,null,null,10]
["Č.záp.:",null,{"$f":"Soupiska!N90","v":0},null,null,null,null,null,"Štěkání psa",null,null,null,null," X"," X",null,10," ",null,10,null," ",10," ",null," X"," X"]
["T.č./čip:",null,{"$f":"Soupiska!P90","v":0},null,null,null,null,null,"Aport volný",null,null,null,null,10," ",null,10," ",null,"X",null," X"," X"," X",null,10]
["Data psovoda",null,null,null,null,null,null,null,"Skok vysoký  (aport)",null,null,null,null," X"," X",null,10," ",null,10,null," "," X"," X",null," X"," X"]
["Jméno:",null,{"$f":"Soupiska!C91","v":0},null,null,null,null,null,"Skok šplhem  (aport)",null,null,null,null," X"," X",null,10," ",null," X","X",null,10," ",null," X"," X"]
["Příjmení:",null,{"$f":"Soupiska!E91","v":0},null,null,null,null,null,"Plížení",null,null,null,null," X"," X",null," X"," X",null,10,null," ",10," ",null," X"," X"]
["Bydliště:",null,{"$f":"Soupiska!I91","v":0},null,null,null,null,null,"Kladina (nízká/vysoká)",null,null,null,null," X"," X",null,10," ",null,10,null," ",10," ",null," X"," X"]
[null,null,null,null,null,null,null,null,"Vysílání",null,null,null,null," X"," X",null," X"," X",null,10,null,"  ",10,null,null," X"," X"]
["Narozen:",null,{"$f":"DATE(IF(MID(Soupiska!C92,1,2)*1 > YEAR(TODAY())-2000, 1900, 2000) + MID(Soupiska!C92,1,2), MOD(MID(Soupiska!C92,3,2),50), MID(Soupiska!C92,5,2))","v":{"$error":"#VALUE!"}},null,null,null,null,null,"Odložení psa",null,null,null,null,10," ",null,10," ",null,10,null," ",10," ",null,10]
["Člen ZO:",null,{"$f":"Soupiska!I92","v":0},null,null,null,null,null,"Celkem",null,null,null,null,50,{"$f":"SUM(O13:P25)","v":0},null,100,{"$f":"SUM(R13:S25)","v":0},null,100,{"$f":"SUM(U13:V25)","v":0},null,100,{"$f":"SUM(X13:Y25)","v":0},null,60,{"$f":"SUM(AA13:AB25)","v":0}]
[]
["Data akce",null,null,null,null,null,"C - OBRANA",null,null,null,"ZM",null,null,"ZVV1 ",null,null,"ZVV2",null,null,"ZVV3",null,null,"ZPO1",null,null,"ZPO2"]
["Datum:",null,{"$f":"Soupiska!T6","v":"00:00:00"},null,null,null,"Průzkum terénu",null,null,null,10," ",null,10," ",null,10,null,null,10,null,null,10,null,null,20," "]
[null,null,null,null,null,null,"Vyštěkání",null,null,null,10," ",null,10,null,null,10,null,null,10,null,null,10,null,null,20]
["Místo:",null,{"$f":"Soupiska!P5","v":0},null,null,null,"Prohl., výsl., dopr.",null,null,null," X"," X",null,"10/10",null," ","10/10",null," ",10,null," ",10," ",null,20]
[null,null,null,null,null,null,"Ochrana psovoda",null,null,null,"15",null,null," 15/5",null,null," 15/5",null,null,"20/5",null,null,"20/5",null,null,"40/10",null," "]
["Vedoucí zkoušek:",null,{"$f":"Soupiska!D6","v":0},null,null,null,"Hlídání pomocníka 2+1",null,null,null," X"," X",null," X"," X",null," X"," X",null,20,null,null,20,null,null,40,null," "]
[null,null,null,null,null,null,"Samost. činnost psa (zadržení pomocníka)",null,null,null,"15",null,null," 15/5",null," "," 15/5",null," ","20/5",null,null,"20/5",null,null,"40/10",null," "]
["Rozhodčí:",null,{"$f":"Soupiska!P6","v":0},null,null,null,"Odolnost psa",null,null,null,"X","X",null," 15/5",null," "," 15/5",null," ","X","X",null,"X","X",null,"X","X"]
[null,null,null,null,null,null,"Celkem",null,null,null,50,{"$f":"SUM(L29:M35)","v":0},null,100,{"$f":"SUM(O29:P35)","v":0},null,100,{"$f":"SUM(R29:S35)","v":0},null,100,{"$f":"SUM(U29:V35)","v":0},null,100,{"$f":"SUM(X29:Y35)","v":0},null,200,{"$f":"SUM(AA29:AB35)","v":0}]
[" ",null,null,null,null,null,null,null," ",null,null,null,null,null,null," ",null,null," "," ",null," "," ",null," "," ",null," "]
["Výsledek zkoušky",null,null,null,null,null,"D - SPEC .CVIKY",null,null,null,"ZMMP",null,null,"ZMMP1",null,null,"ZMMP2",null,null,"ZMMP3",null,null,"ZPMO",null,null,"ZZO"]
["A   stopa",null,null,{"$f":"J8+L8+O8+R8+U8+X8+AA8","v":0},null,null,"Přivol.psa za ztíž.p.",null,null,null," X"," X",null," X"," X",null," X"," X",null," X"," X",null," X"," X",null,"PV-P-N"," "]
[null,null,null,null,null,null,"Chov.psa ve sk.osob",null,null,null," X"," X",null," X"," X",null," X"," X",null," X"," X",null," X"," X",null,"PV-P-N"," "]
["B  poslušnost",null,null,{"$f":"O26+R26+U26+X26+AA26","v":0},null,null,"Chov.přiváz. psa",null,null,null," X"," X",null," X"," X",null," X"," X",null," X"," X",null," X"," X",null,"PV-P-N"," "]
[null,null,null,null,null,null,"Rozlišování předm.",null,null,null,"10/10",null,null,"15/15",null,null,"15/15",null,null," X"," X",null," X"," X",null," X"," X"]
["C   obrana ",null,null,{"$f":"L36+O36+R36+U36+X36+AA36","v":0},null,null,"Rozlišování osoby",null,null,null," X"," X",null," X"," X",null," X"," X",null," 15/5",null,null," X"," X",null," X"," X"]
[null,null,null,null,null,null,"Vyhledání předm.",null,null,null," 15/5",null,null," 24/6",null," "," 24/6",null,null," 24/6",null," "," X"," X",null," X"," X"]
["D    spec. cviky",null,null,{"$f":"IF(AA51=\" \",L51+O51+R51+U51+X51,AA51)","v":0},null,null,"Ztracený předmět",null,null,null,10,null,null,20," ",null,20,null,null,20,null,null," X"," X",null," X"," X"]
[null,null,null,null,null,null,"Průzk.terénu/vyšť.",null,null,null," X"," X",null,"10/10",null," ","10/10",null,null,"10/10",null,null,"10/10",null,null," X"," X"]
["CELKEM",null,{"$f":"VLOOKUP(A4,TYPY!A$1:D$65536,4,FALSE)","v":{"$error":"#N/A"}},{"$f":"IF(AA51=\" \",D39+D41+D43+D45,D39+D41+D43)","v":0},null,null,"Zajištění figuranta",null,null,null," X"," X",null," X"," X",null," X"," X",null," X"," X",null,10,null,null," X"," X"]
[null,null,null,null,null,null,"Doprovod figuranta",null,null,null," X"," X",null," X"," X",null," X"," X",null," X","X"," X",10,null,null," X"," X"]
["ZNÁMKA",null,null,null,null,null,"Napadení psovoda",null,null,null," X"," X",null," X"," X",null," X"," X",null," X","X"," X",30,null,null," X"," X"]
[{"$f":"IF(D47>0,IFERROR(IF(C47=300,VLOOKUP(D47,TYPY!$B$44:$C$135,2,FALSE),IF(C47=200,VLOOKUP(D47,TYPY!$N$44:$O$105,2,FALSE),IF(C47=150,VLOOKUP(D47,TYPY!$L$44:$M$90,2,FALSE),IF(C47=100,VLOOKUP(D47,TYPY!$F$44:$G$75,2,FALSE),IF(C47=60,IF(D45=\"N\",\"N\",VLOOKUP(D47,TYPY!$J$44:$K$63,2,FALSE)),\"N\"))))),\"N\"),\" \")","v":" "},null,null,null,null,null,"Hlídání  předm.",null,null,null," X"," X",null," X"," X",null," X"," X",null," X","X"," X",30,null,null," X"," X"]
[null,null,null,null,null,null,"Celkem",null,null,null,50,{"$f":"SUM(L42:M45)","v":0},null,100,{"$f":"SUM(P39:P50)","v":0},null,100,{"$f":"SUM(R42:S46)","v":0},null,100,{"$f":"SUM(U43:V46)","v":0},null,100,{"$f":"SUM(X46:Y50)","v":0},null,"PV-P-N"]
[]
[" ",null,null,null,null,null,null,null,null,null," ",null,null,null,null,null," "]
[]
[]
[]
["Razítko organizace",null,null,null,null,null,null,null,null,null,"Podpis ved.  zkoušek",null,null,null,null,null,"Podpis a razítko rozhočího"]

{"sheet":"NZR28","index":57,"n_rows":57,"n_cols":28,"rows_kept":57,"cut":false,"hidden":true,"merged":[[52,0,55,8],[52,10,55,13],[52,16,55,27],[56,0,56,8],[56,10,56,13],[56,16,56,25],[49,23,49,24],[49,26,49,27],[50,6,50,9],[50,11,50,12],[50,14,50,15],[50,17,50,18],[50,20,50,21],[50,23,50,24],[50,26,50,27],[49,0,50,4],[49,6,49,9],[49,11,49,12],[49,14,49,15],[49,17,49,18],[49,20,49,21],[48,0,48,4],[48,6,48,9],[48,11,48,12],[48,14,48,15],[48,17,48,18],[48,20,48,21],[48,23,48,24],[48,26,48,27],[46,0,47,1],[46,2,47,2],[46,3,47,4],[46,17,46,18],[46,20,46,21],[46,23,46,24],[46,26,46,27],[47,6,47,9],[47,11,47,12],[47,14,47,15],[47,17,47,18],[47,20,47,21],[47,23,47,24],[46,6,46,9],[46,11,46,12],[46,14,46,15],[47,26,47,27],[44,17,44,18],[44,20,44,21],[44,23,44,24],[44,26,44,27],[45,6,45,9],[45,11,45,12],[45,26,45,27],[42,23,42,24],[42,26,42,27],[43,6,43,9],[43,23,43,24],[43,26,43,27],[42,17,42,18],[44,0,45,2],[44,3,45,4],[44,6,44,9],[44,11,44,12],[44,14,44,15],[42,0,43,2],[42,3,43,4],[42,6,42,9],[42,11,42,12],[42,14,42,15],[40,20,40,21],[40,23,40,24],[40,26,40,27],[41,6,41,9],[41,20,41,21],[41,23,41,24],[41,26,41,27],[40,0,41,2],[40,3,41,4],[40,6,40,9],[40,11,40,12],[40,14,40,15],[40,17,40,18],[38,26,38,27],[39,6,39,9],[39,11,39,12],[39,14,39,15],[39,17,39,18],[39,20,39,21],[39,23,39,24],[39,26,39,27],[37,22,37,24],[37,25,37,27],[38,0,39,2],[38,3,39,4],[38,6,38,9],[38,11,38,12],[38,14,38,15],[38,17,38,18],[38,20,38,21],[38,23,38,24],[37,0,37,4],[37,6,37,9],[37,10,37,12],[37,13,37,15],[37,16,37,18],[37,19,37,21],[35,11,35,12],[35,14,35,15],[35,17,35,18],[35,20,35,21],[35,23,35,24],[35,26,35,27],[32,23,32,24],[33,6,33,9],[33,11,33,12],[34,0,35,1],[34,2,35,4],[34,6,34,9],[34,11,34,12],[34,20,34,21],[34,23,34,24],[30,26,30,27],[31,6,31,9],[31,11,31,12],[32,0,33,1],[32,2,33,4],[32,6,32,9],[32,11,32,12],[32,14,32,15],[32,17,32,18],[32,20,32,21],[30,0,31,1],[30,2,31,4],[30,6,30,9],[30,11,30,12],[30,20,30,21],[30,23,30,24],[34,26,34,27],[35,6,35,9],[28,26,28,27],[29,6,29,9],[29,11,29,12],[29,14,29,15],[29,17,29,18],[29,20,29,21],[29,23,29,24],[29,26,29,27],[27,22,27,24],[27,25,27,27],[28,0,29,1],[28,2,29,4],[28,6,28,9],[28,11,28,12],[28,14,28,15],[28,17,28,18],[28,20,28,21],[28,23,28,24],[27,0,27,4],[27,6,27,9],[27,10,27,12],[27,13,27,15],[27,16,27,18],[27,19,27,21],[24,23,24,24],[24,26,24,27],[25,0,25,1],[25,2,25,6],[25,8,25,12],[25,14,25,15],[25,17,25,18],[25,20,25,21],[25,23,25,24],[25,26,25,27],[24,0,24,1],[24,2,24,6],[24,8,24,12],[24,14,24,15],[24,17,24,18],[24,20,24,21],[22,23,22,24],[22,26,22,27],[23,8,23,12],[23,14,23,15],[23,17,23,18],[23,20,23,21],[23,23,23,24],[23,26,23,27],[22,0,23,1],[22,2,23,6],[22,8,22,12],[22,14,22,15],[22,17,22,18],[22,20,22,21],[20,23,20,24],[20,26,20,27],[21,0,21,1],[21,2,21,6],[21,8,21,12],[21,14,21,15],[21,17,21,18],[21,20,21,21],[21,23,21,24],[21,26,21,27],[20,0,20,1],[20,2,20,6],[20,8,20,12],[20,14,20,15],[20,17,20,18],[20,20,20,21],[18,26,18,27],[19,0,19,6],[19,8,19,12],[19,14,19,15],[19,17,19,18],[19,20,19,21],[19,23,19,24],[19,26,19,27],[18,2,18,6],[18,8,18,12],[18,14,18,15],[18,17,18,18],[18,20,18,21],[18,23,18,24],[16,26,16,27],[17,2,17,6],[17,8,17,12],[17,14,17,15],[17,17,17,18],[17,20,17,21],[17,23,17,24],[17,26,17,27],[16,2,16,6],[16,8,16,12],[16,14,16,15],[16,17,16,18],[16,20,16,21],[16,23,16,24],[14,26,14,27],[15,2,15,6],[15,8,15,12],[15,14,15,15],[15,17,15,18],[15,20,15,21],[15,23,15,24],[15,26,15,27],[14,2,14,6],[14,8,14,12],[14,14,14,15],[14,17,14,18],[14,20,14,21],[14,23,14,24],[12,23,12,24],[12,26,12,27],[13,0,13,1],[13,8,13,12],[13,14,13,15],[13,17,13,18],[13,20,13,21],[13,23,13,24],[13,26,13,27],[12,0,12,1],[12,2,13,6],[12,8,12,12],[12,14,12,15],[12,17,12,18],[12,20,12,21],[10,13,11,15],[10,16,10,18],[10,19,10,21],[10,22,10,24],[11,16,11,18],[11,19,11,21],[11,22,11,24],[7,26,7,27],[9,0,9,6],[9,8,11,12],[9,13,9,15],[9,16,9,18],[9,19,9,21],[9,22,9,24],[9,25,11,27],[10,0,11,1],[10,2,11,6],[7,4,7,6],[7,11,7,12],[7,14,7,15],[7,17,7,18],[7,20,7,21],[7,23,7,24],[6,20,6,21],[6,23,6,24],[6,26,6,27],[5,4,5,6],[5,11,5,12],[5,14,5,15],[5,17,5,18],[5,20,5,21],[5,23,5,24],[0,7,0,27],[1,8,1,27],[2,0,2,2],[2,8,2,27],[3,0,6,2],[3,4,4,6],[3,8,3,9],[3,10,3,12],[3,13,4,15],[3,16,3,18],[3,19,3,21],[3,22,3,24],[3,25,3,27],[4,8,4,9],[4,10,4,12],[4,16,4,18],[4,19,4,21],[4,22,4,24],[4,25,4,27],[5,26,5,27],[6,4,6,6],[6,11,6,12],[6,14,6,15],[6,17,6,18]]}
[null,null,null,null,null,null,null,"  MORAVSKOSLEZSKÝ KYNOLOGICKÝ SVAZ, z. s."]
[null,null,null,null,null,null,null," ","Člen FCI prostřednictvím Českomoravské kynologické unie"]
["Druh a stupeň",null,null,null,null,null,null," ","POTVRZENÍ O VYKONANÉ ZKOUŠCE NZŘ"]
[{"$f":"IF(Soupiska!W93=\"N\",Soupiska!B93,\"NE\")","v":"NE"},null,null,null,"A - STOPA",null,null,null,"ZM",null,"ZVV1",null,null,"ZPS1",null,null,"ZVV2",null,null,"ZVV3",null,null,"ZPS2",null,null,"ZPS2"]
[null,null,null,null,null,null,null,null,"ZMMP",null,"ZMP1",null,null,null,null,null,"ZMP2",null,null,"ZMP3",null,null,"A",null,null,"B"]
[null,null,null,null,"Vlastní - cizí",null,null,null,40,null,80,null,null,80,null,null,"80",null,null,80,null,null,80,null,null,80]
[null,null,null,null,"Předměty",null,null,null,10,null,20," ",null,20,null,null,20," ",null,20,null,null,20,null,null,20]
[null,null,null,null,"Celkem",null,null,null,50,{"$f":"SUM(J6:J7)","v":0},100,{"$f":"SUM(L6:M7)","v":0},null,100,{"$f":"SUM(O6:O7)","v":0},null,100,{"$f":"SUM(R6:S7)","v":0},null,100,{"$f":"SUM(U6:V7)","v":0},null,100,{"$f":"SUM(X6:Y7)","v":0},null,100,{"$f":"SUM(AA6:AB7)","v":0}]
[]
["Data psa-feny",null,null,null,null,null,null,null,"B - POSLUŠNOST",null,null,null,null,"ZM",null,null,"ZVV1,ZMP1",null,null,"ZVV2",null,null,"ZVV3,ZMP3",null,null,"ZZO"]
["Jméno:",null,{"$f":"Soupiska!C93","v":0},null,null,null,null,null,null,null,null,null,null,"ZMMP",null,null,"ZPS1,ZPO1",null,null,"ZMP2",null,null,"ZPS2,ZPO2"]
[null,null,null,null,null,null,null,null,null,null,null,null,null,null,null,null,"ZMPO,ZZO1",null,null,"ZZO2",null,null,"ZZO3"]
["Chovná",null,{"$f":"Soupiska!E93","v":0},null,null,null,null,null,"Přivolání psa",null,null,null,null,10,null,null,10," ",null,10," ",null,10," ",null,10]
["stanice:",null,null,null,null,null,null,null,"Ovladatelnost na vod.",null,null,null,null,10,"  ",null,10," ",null," X"," X",null," X"," X",null,10]
["Plemeno:",null,{"$f":"Soupiska!I93","v":0},null,null,null,null,null,"Ovladatelnost bez vod.",null,null,null,null," X"," X",null," X"," X",null,10," ",null,10,null,null," X"," X"]
["Pohlaví:",null,{"$f":"Soupiska!K93","v":0},null,null,null,null,null,"Polohy (S - L - V)",null,null,null,null,10,"  ",null,10," ",null,10,null," ","10"," ",null,10]
["Narozen",null,{"$f":"Soupiska!L93","v":"00:00:00"},null,null,null,null,null,"Odložení za pochodu",null,null,null,null," X"," X",null,10,null,null,10,null," ",10,null,null,10]
["Č.záp.:",null,{"$f":"Soupiska!N93","v":0},null,null,null,null,null,"Štěkání psa",null,null,null,null," X"," X",null,10," ",null,10,null," ",10," ",null," X"," X"]
["T.č./čip:",null,{"$f":"Soupiska!P93","v":0},null,null,null,null,null,"Aport volný",null,null,null,null,10," ",null,10," ",null,"X",null," X"," X"," X",null,10]
["Data psovoda",null,null,null,null,null,null,null,"Skok vysoký  (aport)",null,null,null,null," X"," X",null,10," ",null,10,null," "," X"," X",null," X"," X"]
["Jméno:",null,{"$f":"Soupiska!C94","v":0},null,null,null,null,null,"Skok šplhem  (aport)",null,null,null,null," X"," X",null,10," ",null," X","X",null,10," ",null," X"," X"]
["Příjmení:",null,{"$f":"Soupiska!E94","v":0},null,null,null,null,null,"Plížení",null,null,null,null," X"," X",null," X"," X",null,10,null," ",10," ",null," X"," X"]
["Bydliště:",null,{"$f":"Soupiska!I94","v":0},null,null,null,null,null,"Kladina (nízká/vysoká)",null,null,null,null," X"," X",null,10," ",null,10,null," ",10," ",null," X"," X"]
[null,null,null,null,null,null,null,null,"Vysílání",null,null,null,null," X"," X",null," X"," X",null,10,null,"  ",10,null,null," X"," X"]
["Narozen:",null,{"$f":"DATE(IF(MID(Soupiska!C95,1,2)*1 > YEAR(TODAY())-2000, 1900, 2000) + MID(Soupiska!C95,1,2), MOD(MID(Soupiska!C95,3,2),50), MID(Soupiska!C95,5,2))","v":{"$error":"#VALUE!"}},null,null,null,null,null,"Odložení psa",null,null,null,null,10," ",null,10," ",null,10,null," ",10," ",null,10]
["Člen ZO:",null,{"$f":"Soupiska!I95","v":0},null,null,null,null,null,"Celkem",null,null,null,null,50,{"$f":"SUM(O13:P25)","v":0},null,100,{"$f":"SUM(R13:S25)","v":0},null,100,{"$f":"SUM(U13:V25)","v":0},null,100,{"$f":"SUM(X13:Y25)","v":0},null,60,{"$f":"SUM(AA13:AB25)","v":0}]
[]
["Data akce",null,null,null,null,null,"C - OBRANA",null,null,null,"ZM",null,null,"ZVV1 ",null,null,"ZVV2",null,null,"ZVV3",null,null,"ZPO1",null,null,"ZPO2"]
["Datum:",null,{"$f":"Soupiska!T6","v":"00:00:00"},null,null,null,"Průzkum terénu",null,null,null,10," ",null,10," ",null,10,null,null,10,null,null,10,null,null,20," "]
[null,null,null,null,null,null,"Vyštěkání",null,null,null,10," ",null,10,null,null,10,null,null,10,null,null,10,null,null,20]
["Místo:",null,{"$f":"Soupiska!P5","v":0},null,null,null,"Prohl., výsl., dopr.",null,null,null," X"," X",null,"10/10",null," ","10/10",null," ",10,null," ",10," ",null,20]
[null,null,null,null,null,null,"Ochrana psovoda",null,null,null,"15",null,null," 15/5",null,null," 15/5",null,null,"20/5",null,null,"20/5",null,null,"40/10",null," "]
["Vedoucí zkoušek:",null,{"$f":"Soupiska!D6","v":0},null,null,null,"Hlídání pomocníka 2+1",null,null,null," X"," X",null," X"," X",null," X"," X",null,20,null,null,20,null,null,40,null," "]
[null,null,null,null,null,null,"Samost. činnost psa (zadržení pomocníka)",null,null,null,"15",null,null," 15/5",null," "," 15/5",null," ","20/5",null,null,"20/5",null,null,"40/10",null," "]
["Rozhodčí:",null,{"$f":"Soupiska!P6","v":0},null,null,null,"Odolnost psa",null,null,null,"X","X",null," 15/5",null," "," 15/5",null," ","X","X",null,"X","X",null,"X","X"]
[null,null,null,null,null,null,"Celkem",null,null,null,50,{"$f":"SUM(L29:M35)","v":0},null,100,{"$f":"SUM(O29:P35)","v":0},null,100,{"$f":"SUM(R29:S35)","v":0},null,100,{"$f":"SUM(U29:V35)","v":0},null,100,{"$f":"SUM(X29:Y35)","v":0},null,200,{"$f":"SUM(AA29:AB35)","v":0}]
[" ",null,null,null,null,null,null,null," ",null,null,null,null,null,null," ",null,null," "," ",null," "," ",null," "," ",null," "]
["Výsledek zkoušky",null,null,null,null,null,"D - SPEC .CVIKY",null,null,null,"ZMMP",null,null,"ZMMP1",null,null,"ZMMP2",null,null,"ZMMP3",null,null,"ZPMO",null,null,"ZZO"]
["A   stopa",null,null,{"$f":"J8+L8+O8+R8+U8+X8+AA8","v":0},null,null,"Přivol.psa za ztíž.p.",null,null,null," X"," X",null," X"," X",null," X"," X",null," X"," X",null," X"," X",null,"PV-P-N"," "]
[null,null,null,null,null,null,"Chov.psa ve sk.osob",null,null,null," X"," X",null," X"," X",null," X"," X",null," X"," X",null," X"," X",null,"PV-P-N"," "]
["B  poslušnost",null,null,{"$f":"O26+R26+U26+X26+AA26","v":0},null,null,"Chov.přiváz. psa",null,null,null," X"," X",null," X"," X",null," X"," X",null," X"," X",null," X"," X",null,"PV-P-N"," "]
[null,null,null,null,null,null,"Rozlišování předm.",null,null,null,"10/10",null,null,"15/15",null,null,"15/15",null,null," X"," X",null," X"," X",null," X"," X"]
["C   obrana ",null,null,{"$f":"L36+O36+R36+U36+X36+AA36","v":0},null,null,"Rozlišování osoby",null,null,null," X"," X",null," X"," X",null," X"," X",null," 15/5",null,null," X"," X",null," X"," X"]
[null,null,null,null,null,null,"Vyhledání předm.",null,null,null," 15/5",null,null," 24/6",null," "," 24/6",null,null," 24/6",null," "," X"," X",null," X"," X"]
["D    spec. cviky",null,null,{"$f":"IF(AA51=\" \",L51+O51+R51+U51+X51,AA51)","v":0},null,null,"Ztracený předmět",null,null,null,10,null,null,20," ",null,20,null,null,20,null,null," X"," X",null," X"," X"]
[null,null,null,null,null,null,"Průzk.terénu/vyšť.",null,null,null," X"," X",null,"10/10",null," ","10/10",null,null,"10/10",null,null,"10/10",null,null," X"," X"]
["CELKEM",null,{"$f":"VLOOKUP(A4,TYPY!A$1:D$65536,4,FALSE)","v":{"$error":"#N/A"}},{"$f":"IF(AA51=\" \",D39+D41+D43+D45,D39+D41+D43)","v":0},null,null,"Zajištění figuranta",null,null,null," X"," X",null," X"," X",null," X"," X",null," X"," X",null,10,null,null," X"," X"]
[null,null,null,null,null,null,"Doprovod figuranta",null,null,null," X"," X",null," X"," X",null," X"," X",null," X","X"," X",10,null,null," X"," X"]
["ZNÁMKA",null,null,null,null,null,"Napadení psovoda",null,null,null," X"," X",null," X"," X",null," X"," X",null," X","X"," X",30,null,null," X"," X"]
[{"$f":"IF(D47>0,IFERROR(IF(C47=300,VLOOKUP(D47,TYPY!$B$44:$C$135,2,FALSE),IF(C47=200,VLOOKUP(D47,TYPY!$N$44:$O$105,2,FALSE),IF(C47=150,VLOOKUP(D47,TYPY!$L$44:$M$90,2,FALSE),IF(C47=100,VLOOKUP(D47,TYPY!$F$44:$G$75,2,FALSE),IF(C47=60,IF(D45=\"N\",\"N\",VLOOKUP(D47,TYPY!$J$44:$K$63,2,FALSE)),\"N\"))))),\"N\"),\" \")","v":" "},null,null,null,null,null,"Hlídání  předm.",null,null,null," X"," X",null," X"," X",null," X"," X",null," X","X"," X",30,null,null," X"," X"]
[null,null,null,null,null,null,"Celkem",null,null,null,50,{"$f":"SUM(L42:M45)","v":0},null,100,{"$f":"SUM(P39:P50)","v":0},null,100,{"$f":"SUM(R42:S46)","v":0},null,100,{"$f":"SUM(U43:V46)","v":0},null,100,{"$f":"SUM(X46:Y50)","v":0},null,"PV-P-N"]
[]
[" ",null,null,null,null,null,null,null,null,null," ",null,null,null,null,null," "]
[]
[]
[]
["Razítko organizace",null,null,null,null,null,null,null,null,null,"Podpis ved.  zkoušek",null,null,null,null,null,"Podpis a razítko rozhočího"]

{"sheet":"NZR29","index":58,"n_rows":57,"n_cols":28,"rows_kept":57,"cut":false,"hidden":true,"merged":[[52,0,55,8],[52,10,55,13],[52,16,55,27],[56,0,56,8],[56,10,56,13],[56,16,56,25],[49,23,49,24],[49,26,49,27],[50,6,50,9],[50,11,50,12],[50,14,50,15],[50,17,50,18],[50,20,50,21],[50,23,50,24],[50,26,50,27],[49,0,50,4],[49,6,49,9],[49,11,49,12],[49,14,49,15],[49,17,49,18],[49,20,49,21],[48,0,48,4],[48,6,48,9],[48,11,48,12],[48,14,48,15],[48,17,48,18],[48,20,48,21],[48,23,48,24],[48,26,48,27],[46,0,47,1],[46,2,47,2],[46,3,47,4],[46,17,46,18],[46,20,46,21],[46,23,46,24],[46,26,46,27],[47,6,47,9],[47,11,47,12],[47,14,47,15],[47,17,47,18],[47,20,47,21],[47,23,47,24],[46,6,46,9],[46,11,46,12],[46,14,46,15],[47,26,47,27],[44,17,44,18],[44,20,44,21],[44,23,44,24],[44,26,44,27],[45,6,45,9],[45,11,45,12],[45,26,45,27],[42,23,42,24],[42,26,42,27],[43,6,43,9],[43,23,43,24],[43,26,43,27],[42,17,42,18],[44,0,45,2],[44,3,45,4],[44,6,44,9],[44,11,44,12],[44,14,44,15],[42,0,43,2],[42,3,43,4],[42,6,42,9],[42,11,42,12],[42,14,42,15],[40,20,40,21],[40,23,40,24],[40,26,40,27],[41,6,41,9],[41,20,41,21],[41,23,41,24],[41,26,41,27],[40,0,41,2],[40,3,41,4],[40,6,40,9],[40,11,40,12],[40,14,40,15],[40,17,40,18],[38,26,38,27],[39,6,39,9],[39,11,39,12],[39,14,39,15],[39,17,39,18],[39,20,39,21],[39,23,39,24],[39,26,39,27],[37,22,37,24],[37,25,37,27],[38,0,39,2],[38,3,39,4],[38,6,38,9],[38,11,38,12],[38,14,38,15],[38,17,38,18],[38,20,38,21],[38,23,38,24],[37,0,37,4],[37,6,37,9],[37,10,37,12],[37,13,37,15],[37,16,37,18],[37,19,37,21],[35,11,35,12],[35,14,35,15],[35,17,35,18],[35,20,35,21],[35,23,35,24],[35,26,35,27],[32,23,32,24],[33,6,33,9],[33,11,33,12],[34,0,35,1],[34,2,35,4],[34,6,34,9],[34,11,34,12],[34,20,34,21],[34,23,34,24],[30,26,30,27],[31,6,31,9],[31,11,31,12],[32,0,33,1],[32,2,33,4],[32,6,32,9],[32,11,32,12],[32,14,32,15],[32,17,32,18],[32,20,32,21],[30,0,31,1],[30,2,31,4],[30,6,30,9],[30,11,30,12],[30,20,30,21],[30,23,30,24],[34,26,34,27],[35,6,35,9],[28,26,28,27],[29,6,29,9],[29,11,29,12],[29,14,29,15],[29,17,29,18],[29,20,29,21],[29,23,29,24],[29,26,29,27],[27,22,27,24],[27,25,27,27],[28,0,29,1],[28,2,29,4],[28,6,28,9],[28,11,28,12],[28,14,28,15],[28,17,28,18],[28,20,28,21],[28,23,28,24],[27,0,27,4],[27,6,27,9],[27,10,27,12],[27,13,27,15],[27,16,27,18],[27,19,27,21],[24,23,24,24],[24,26,24,27],[25,0,25,1],[25,2,25,6],[25,8,25,12],[25,14,25,15],[25,17,25,18],[25,20,25,21],[25,23,25,24],[25,26,25,27],[24,0,24,1],[24,2,24,6],[24,8,24,12],[24,14,24,15],[24,17,24,18],[24,20,24,21],[22,23,22,24],[22,26,22,27],[23,8,23,12],[23,14,23,15],[23,17,23,18],[23,20,23,21],[23,23,23,24],[23,26,23,27],[22,0,23,1],[22,2,23,6],[22,8,22,12],[22,14,22,15],[22,17,22,18],[22,20,22,21],[20,23,20,24],[20,26,20,27],[21,0,21,1],[21,2,21,6],[21,8,21,12],[21,14,21,15],[21,17,21,18],[21,20,21,21],[21,23,21,24],[21,26,21,27],[20,0,20,1],[20,2,20,6],[20,8,20,12],[20,14,20,15],[20,17,20,18],[20,20,20,21],[18,26,18,27],[19,0,19,6],[19,8,19,12],[19,14,19,15],[19,17,19,18],[19,20,19,21],[19,23,19,24],[19,26,19,27],[18,2,18,6],[18,8,18,12],[18,14,18,15],[18,17,18,18],[18,20,18,21],[18,23,18,24],[16,26,16,27],[17,2,17,6],[17,8,17,12],[17,14,17,15],[17,17,17,18],[17,20,17,21],[17,23,17,24],[17,26,17,27],[16,2,16,6],[16,8,16,12],[16,14,16,15],[16,17,16,18],[16,20,16,21],[16,23,16,24],[14,26,14,27],[15,2,15,6],[15,8,15,12],[15,14,15,15],[15,17,15,18],[15,20,15,21],[15,23,15,24],[15,26,15,27],[14,2,14,6],[14,8,14,12],[14,14,14,15],[14,17,14,18],[14,20,14,21],[14,23,14,24],[12,23,12,24],[12,26,12,27],[13,0,13,1],[13,8,13,12],[13,14,13,15],[13,17,13,18],[13,20,13,21],[13,23,13,24],[13,26,13,27],[12,0,12,1],[12,2,13,6],[12,8,12,12],[12,14,12,15],[12,17,12,18],[12,20,12,21],[10,13,11,15],[10,16,10,18],[10,19,10,21],[10,22,10,24],[11,16,11,18],[11,19,11,21],[11,22,11,24],[7,26,7,27],[9,0,9,6],[9,8,11,12],[9,13,9,15],[9,16,9,18],[9,19,9,21],[9,22,9,24],[9,25,11,27],[10,0,11,1],[10,2,11,6],[7,4,7,6],[7,11,7,12],[7,14,7,15],[7,17,7,18],[7,20,7,21],[7,23,7,24],[6,20,6,21],[6,23,6,24],[6,26,6,27],[5,4,5,6],[5,11,5,12],[5,14,5,15],[5,17,5,18],[5,20,5,21],[5,23,5,24],[0,7,0,27],[1,8,1,27],[2,0,2,2],[2,8,2,27],[3,0,6,2],[3,4,4,6],[3,8,3,9],[3,10,3,12],[3,13,4,15],[3,16,3,18],[3,19,3,21],[3,22,3,24],[3,25,3,27],[4,8,4,9],[4,10,4,12],[4,16,4,18],[4,19,4,21],[4,22,4,24],[4,25,4,27],[5,26,5,27],[6,4,6,6],[6,11,6,12],[6,14,6,15],[6,17,6,18]]}
[null,null,null,null,null,null,null,"  MORAVSKOSLEZSKÝ KYNOLOGICKÝ SVAZ, z. s."]
[null,null,null,null,null,null,null," ","Člen FCI prostřednictvím Českomoravské kynologické unie"]
["Druh a stupeň",null,null,null,null,null,null," ","POTVRZENÍ O VYKONANÉ ZKOUŠCE NZŘ"]
[{"$f":"IF(Soupiska!W96=\"N\",Soupiska!B96,\"NE\")","v":"NE"},null,null,null,"A - STOPA",null,null,null,"ZM",null,"ZVV1",null,null,"ZPS1",null,null,"ZVV2",null,null,"ZVV3",null,null,"ZPS2",null,null,"ZPS2"]
[null,null,null,null,null,null,null,null,"ZMMP",null,"ZMP1",null,null,null,null,null,"ZMP2",null,null,"ZMP3",null,null,"A",null,null,"B"]
[null,null,null,null,"Vlastní - cizí",null,null,null,40,null,80,null,null,80,null,null,"80",null,null,80,null,null,80,null,null,80]
[null,null,null,null,"Předměty",null,null,null,10,null,20," ",null,20,null,null,20," ",null,20,null,null,20,null,null,20]
[null,null,null,null,"Celkem",null,null,null,50,{"$f":"SUM(J6:J7)","v":0},100,{"$f":"SUM(L6:M7)","v":0},null,100,{"$f":"SUM(O6:O7)","v":0},null,100,{"$f":"SUM(R6:S7)","v":0},null,100,{"$f":"SUM(U6:V7)","v":0},null,100,{"$f":"SUM(X6:Y7)","v":0},null,100,{"$f":"SUM(AA6:AB7)","v":0}]
[]
["Data psa-feny",null,null,null,null,null,null,null,"B - POSLUŠNOST",null,null,null,null,"ZM",null,null,"ZVV1,ZMP1",null,null,"ZVV2",null,null,"ZVV3,ZMP3",null,null,"ZZO"]
["Jméno:",null,{"$f":"Soupiska!C96","v":0},null,null,null,null,null,null,null,null,null,null,"ZMMP",null,null,"ZPS1,ZPO1",null,null,"ZMP2",null,null,"ZPS2,ZPO2"]
[null,null,null,null,null,null,null,null,null,null,null,null,null,null,null,null,"ZMPO,ZZO1",null,null,"ZZO2",null,null,"ZZO3"]
["Chovná",null,{"$f":"Soupiska!E96","v":0},null,null,null,null,null,"Přivolání psa",null,null,null,null,10,null,null,10," ",null,10," ",null,10," ",null,10]
["stanice:",null,null,null,null,null,null,null,"Ovladatelnost na vod.",null,null,null,null,10,"  ",null,10," ",null," X"," X",null," X"," X",null,10]
["Plemeno:",null,{"$f":"Soupiska!I96","v":0},null,null,null,null,null,"Ovladatelnost bez vod.",null,null,null,null," X"," X",null," X"," X",null,10," ",null,10,null,null," X"," X"]
["Pohlaví:",null,{"$f":"Soupiska!K96","v":0},null,null,null,null,null,"Polohy (S - L - V)",null,null,null,null,10,"  ",null,10," ",null,10,null," ","10"," ",null,10]
["Narozen",null,{"$f":"Soupiska!L96","v":"00:00:00"},null,null,null,null,null,"Odložení za pochodu",null,null,null,null," X"," X",null,10,null,null,10,null," ",10,null,null,10]
["Č.záp.:",null,{"$f":"Soupiska!N96","v":0},null,null,null,null,null,"Štěkání psa",null,null,null,null," X"," X",null,10," ",null,10,null," ",10," ",null," X"," X"]
["T.č./čip:",null,{"$f":"Soupiska!P96","v":0},null,null,null,null,null,"Aport volný",null,null,null,null,10," ",null,10," ",null,"X",null," X"," X"," X",null,10]
["Data psovoda",null,null,null,null,null,null,null,"Skok vysoký  (aport)",null,null,null,null," X"," X",null,10," ",null,10,null," "," X"," X",null," X"," X"]
["Jméno:",null,{"$f":"Soupiska!C97","v":0},null,null,null,null,null,"Skok šplhem  (aport)",null,null,null,null," X"," X",null,10," ",null," X","X",null,10," ",null," X"," X"]
["Příjmení:",null,{"$f":"Soupiska!E97","v":0},null,null,null,null,null,"Plížení",null,null,null,null," X"," X",null," X"," X",null,10,null," ",10," ",null," X"," X"]
["Bydliště:",null,{"$f":"Soupiska!I97","v":0},null,null,null,null,null,"Kladina (nízká/vysoká)",null,null,null,null," X"," X",null,10," ",null,10,null," ",10," ",null," X"," X"]
[null,null,null,null,null,null,null,null,"Vysílání",null,null,null,null," X"," X",null," X"," X",null,10,null,"  ",10,null,null," X"," X"]
["Narozen:",null,{"$f":"DATE(IF(MID(Soupiska!C98,1,2)*1 > YEAR(TODAY())-2000, 1900, 2000) + MID(Soupiska!C98,1,2), MOD(MID(Soupiska!C98,3,2),50), MID(Soupiska!C98,5,2))","v":{"$error":"#VALUE!"}},null,null,null,null,null,"Odložení psa",null,null,null,null,10," ",null,10," ",null,10,null," ",10," ",null,10]
["Člen ZO:",null,{"$f":"Soupiska!I98","v":0},null,null,null,null,null,"Celkem",null,null,null,null,50,{"$f":"SUM(O13:P25)","v":0},null,100,{"$f":"SUM(R13:S25)","v":0},null,100,{"$f":"SUM(U13:V25)","v":0},null,100,{"$f":"SUM(X13:Y25)","v":0},null,60,{"$f":"SUM(AA13:AB25)","v":0}]
[]
["Data akce",null,null,null,null,null,"C - OBRANA",null,null,null,"ZM",null,null,"ZVV1 ",null,null,"ZVV2",null,null,"ZVV3",null,null,"ZPO1",null,null,"ZPO2"]
["Datum:",null,{"$f":"Soupiska!T6","v":"00:00:00"},null,null,null,"Průzkum terénu",null,null,null,10," ",null,10," ",null,10,null,null,10,null,null,10,null,null,20," "]
[null,null,null,null,null,null,"Vyštěkání",null,null,null,10," ",null,10,null,null,10,null,null,10,null,null,10,null,null,20]
["Místo:",null,{"$f":"Soupiska!P5","v":0},null,null,null,"Prohl., výsl., dopr.",null,null,null," X"," X",null,"10/10",null," ","10/10",null," ",10,null," ",10," ",null,20]
[null,null,null,null,null,null,"Ochrana psovoda",null,null,null,"15",null,null," 15/5",null,null," 15/5",null,null,"20/5",null,null,"20/5",null,null,"40/10",null," "]
["Vedoucí zkoušek:",null,{"$f":"Soupiska!D6","v":0},null,null,null,"Hlídání pomocníka 2+1",null,null,null," X"," X",null," X"," X",null," X"," X",null,20,null,null,20,null,null,40,null," "]
[null,null,null,null,null,null,"Samost. činnost psa (zadržení pomocníka)",null,null,null,"15",null,null," 15/5",null," "," 15/5",null," ","20/5",null,null,"20/5",null,null,"40/10",null," "]
["Rozhodčí:",null,{"$f":"Soupiska!P6","v":0},null,null,null,"Odolnost psa",null,null,null,"X","X",null," 15/5",null," "," 15/5",null," ","X","X",null,"X","X",null,"X","X"]
[null,null,null,null,null,null,"Celkem",null,null,null,50,{"$f":"SUM(L29:M35)","v":0},null,100,{"$f":"SUM(O29:P35)","v":0},null,100,{"$f":"SUM(R29:S35)","v":0},null,100,{"$f":"SUM(U29:V35)","v":0},null,100,{"$f":"SUM(X29:Y35)","v":0},null,200,{"$f":"SUM(AA29:AB35)","v":0}]
[" ",null,null,null,null,null,null,null," ",null,null,null,null,null,null," ",null,null," "," ",null," "," ",null," "," ",null," "]
["Výsledek zkoušky",null,null,null,null,null,"D - SPEC .CVIKY",null,null,null,"ZMMP",null,null,"ZMMP1",null,null,"ZMMP2",null,null,"ZMMP3",null,null,"ZPMO",null,null,"ZZO"]
["A   stopa",null,null,{"$f":"J8+L8+O8+R8+U8+X8+AA8","v":0},null,null,"Přivol.psa za ztíž.p.",null,null,null," X"," X",null," X"," X",null," X"," X",null," X"," X",null," X"," X",null,"PV-P-N"," "]
[null,null,null,null,null,null,"Chov.psa ve sk.osob",null,null,null," X"," X",null," X"," X",null," X"," X",null," X"," X",null," X"," X",null,"PV-P-N"," "]
["B  poslušnost",null,null,{"$f":"O26+R26+U26+X26+AA26","v":0},null,null,"Chov.přiváz. psa",null,null,null," X"," X",null," X"," X",null," X"," X",null," X"," X",null," X"," X",null,"PV-P-N"," "]
[null,null,null,null,null,null,"Rozlišování předm.",null,null,null,"10/10",null,null,"15/15",null,null,"15/15",null,null," X"," X",null," X"," X",null," X"," X"]
["C   obrana ",null,null,{"$f":"L36+O36+R36+U36+X36+AA36","v":0},null,null,"Rozlišování osoby",null,null,null," X"," X",null," X"," X",null," X"," X",null," 15/5",null,null," X"," X",null," X"," X"]
[null,null,null,null,null,null,"Vyhledání předm.",null,null,null," 15/5",null,null," 24/6",null," "," 24/6",null,null," 24/6",null," "," X"," X",null," X"," X"]
["D    spec. cviky",null,null,{"$f":"IF(AA51=\" \",L51+O51+R51+U51+X51,AA51)","v":0},null,null,"Ztracený předmět",null,null,null,10,null,null,20," ",null,20,null,null,20,null,null," X"," X",null," X"," X"]
[null,null,null,null,null,null,"Průzk.terénu/vyšť.",null,null,null," X"," X",null,"10/10",null," ","10/10",null,null,"10/10",null,null,"10/10",null,null," X"," X"]
["CELKEM",null,{"$f":"VLOOKUP(A4,TYPY!A$1:D$65536,4,FALSE)","v":{"$error":"#N/A"}},{"$f":"IF(AA51=\" \",D39+D41+D43+D45,D39+D41+D43)","v":0},null,null,"Zajištění figuranta",null,null,null," X"," X",null," X"," X",null," X"," X",null," X"," X",null,10,null,null," X"," X"]
[null,null,null,null,null,null,"Doprovod figuranta",null,null,null," X"," X",null," X"," X",null," X"," X",null," X","X"," X",10,null,null," X"," X"]
["ZNÁMKA",null,null,null,null,null,"Napadení psovoda",null,null,null," X"," X",null," X"," X",null," X"," X",null," X","X"," X",30,null,null," X"," X"]
[{"$f":"IF(D47>0,IFERROR(IF(C47=300,VLOOKUP(D47,TYPY!$B$44:$C$135,2,FALSE),IF(C47=200,VLOOKUP(D47,TYPY!$N$44:$O$105,2,FALSE),IF(C47=150,VLOOKUP(D47,TYPY!$L$44:$M$90,2,FALSE),IF(C47=100,VLOOKUP(D47,TYPY!$F$44:$G$75,2,FALSE),IF(C47=60,IF(D45=\"N\",\"N\",VLOOKUP(D47,TYPY!$J$44:$K$63,2,FALSE)),\"N\"))))),\"N\"),\" \")","v":" "},null,null,null,null,null,"Hlídání  předm.",null,null,null," X"," X",null," X"," X",null," X"," X",null," X","X"," X",30,null,null," X"," X"]
[null,null,null,null,null,null,"Celkem",null,null,null,50,{"$f":"SUM(L42:M45)","v":0},null,100,{"$f":"SUM(P39:P50)","v":0},null,100,{"$f":"SUM(R42:S46)","v":0},null,100,{"$f":"SUM(U43:V46)","v":0},null,100,{"$f":"SUM(X46:Y50)","v":0},null,"PV-P-N"]
[]
[" ",null,null,null,null,null,null,null,null,null," ",null,null,null,null,null," "]
[]
[]
[]
["Razítko organizace",null,null,null,null,null,null,null,null,null,"Podpis ved.  zkoušek",null,null,null,null,null,"Podpis a razítko rozhočího"]

{"sheet":"NZR30","index":59,"n_rows":57,"n_cols":28,"rows_kept":57,"cut":false,"hidden":true,"merged":[[52,0,55,8],[52,10,55,13],[52,16,55,27],[56,0,56,8],[56,10,56,13],[56,16,56,25],[49,23,49,24],[49,26,49,27],[50,6,50,9],[50,11,50,12],[50,14,50,15],[50,17,50,18],[50,20,50,21],[50,23,50,24],[50,26,50,27],[49,0,50,4],[49,6,49,9],[49,11,49,12],[49,14,49,15],[49,17,49,18],[49,20,49,21],[48,0,48,4],[48,6,48,9],[48,11,48,12],[48,14,48,15],[48,17,48,18],[48,20,48,21],[48,23,48,24],[48,26,48,27],[46,0,47,1],[46,2,47,2],[46,3,47,4],[46,17,46,18],[46,20,46,21],[46,23,46,24],[46,26,46,27],[47,6,47,9],[47,11,47,12],[47,14,47,15],[47,17,47,18],[47,20,47,21],[47,23,47,24],[46,6,46,9],[46,11,46,12],[46,14,46,15],[47,26,47,27],[44,17,44,18],[44,20,44,21],[44,23,44,24],[44,26,44,27],[45,6,45,9],[45,11,45,12],[45,26,45,27],[42,23,42,24],[42,26,42,27],[43,6,43,9],[43,23,43,24],[43,26,43,27],[42,17,42,18],[44,0,45,2],[44,3,45,4],[44,6,44,9],[44,11,44,12],[44,14,44,15],[42,0,43,2],[42,3,43,4],[42,6,42,9],[42,11,42,12],[42,14,42,15],[40,20,40,21],[40,23,40,24],[40,26,40,27],[41,6,41,9],[41,20,41,21],[41,23,41,24],[41,26,41,27],[40,0,41,2],[40,3,41,4],[40,6,40,9],[40,11,40,12],[40,14,40,15],[40,17,40,18],[38,26,38,27],[39,6,39,9],[39,11,39,12],[39,14,39,15],[39,17,39,18],[39,20,39,21],[39,23,39,24],[39,26,39,27],[37,22,37,24],[37,25,37,27],[38,0,39,2],[38,3,39,4],[38,6,38,9],[38,11,38,12],[38,14,38,15],[38,17,38,18],[38,20,38,21],[38,23,38,24],[37,0,37,4],[37,6,37,9],[37,10,37,12],[37,13,37,15],[37,16,37,18],[37,19,37,21],[35,11,35,12],[35,14,35,15],[35,17,35,18],[35,20,35,21],[35,23,35,24],[35,26,35,27],[32,23,32,24],[33,6,33,9],[33,11,33,12],[34,0,35,1],[34,2,35,4],[34,6,34,9],[34,11,34,12],[34,20,34,21],[34,23,34,24],[30,26,30,27],[31,6,31,9],[31,11,31,12],[32,0,33,1],[32,2,33,4],[32,6,32,9],[32,11,32,12],[32,14,32,15],[32,17,32,18],[32,20,32,21],[30,0,31,1],[30,2,31,4],[30,6,30,9],[30,11,30,12],[30,20,30,21],[30,23,30,24],[34,26,34,27],[35,6,35,9],[28,26,28,27],[29,6,29,9],[29,11,29,12],[29,14,29,15],[29,17,29,18],[29,20,29,21],[29,23,29,24],[29,26,29,27],[27,22,27,24],[27,25,27,27],[28,0,29,1],[28,2,29,4],[28,6,28,9],[28,11,28,12],[28,14,28,15],[28,17,28,18],[28,20,28,21],[28,23,28,24],[27,0,27,4],[27,6,27,9],[27,10,27,12],[27,13,27,15],[27,16,27,18],[27,19,27,21],[24,23,24,24],[24,26,24,27],[25,0,25,1],[25,2,25,6],[25,8,25,12],[25,14,25,15],[25,17,25,18],[25,20,25,21],[25,23,25,24],[25,26,25,27],[24,0,24,1],[24,2,24,6],[24,8,24,12],[24,14,24,15],[24,17,24,18],[24,20,24,21],[22,23,22,24],[22,26,22,27],[23,8,23,12],[23,14,23,15],[23,17,23,18],[23,20,23,21],[23,23,23,24],[23,26,23,27],[22,0,23,1],[22,2,23,6],[22,8,22,12],[22,14,22,15],[22,17,22,18],[22,20,22,21],[20,23,20,24],[20,26,20,27],[21,0,21,1],[21,2,21,6],[21,8,21,12],[21,14,21,15],[21,17,21,18],[21,20,21,21],[21,23,21,24],[21,26,21,27],[20,0,20,1],[20,2,20,6],[20,8,20,12],[20,14,20,15],[20,17,20,18],[20,20,20,21],[18,26,18,27],[19,0,19,6],[19,8,19,12],[19,14,19,15],[19,17,19,18],[19,20,19,21],[19,23,19,24],[19,26,19,27],[18,2,18,6],[18,8,18,12],[18,14,18,15],[18,17,18,18],[18,20,18,21],[18,23,18,24],[16,26,16,27],[17,2,17,6],[17,8,17,12],[17,14,17,15],[17,17,17,18],[17,20,17,21],[17,23,17,24],[17,26,17,27],[16,2,16,6],[16,8,16,12],[16,14,16,15],[16,17,16,18],[16,20,16,21],[16,23,16,24],[14,26,14,27],[15,2,15,6],[15,8,15,12],[15,14,15,15],[15,17,15,18],[15,20,15,21],[15,23,15,24],[15,26,15,27],[14,2,14,6],[14,8,14,12],[14,14,14,15],[14,17,14,18],[14,20,14,21],[14,23,14,24],[12,23,12,24],[12,26,12,27],[13,0,13,1],[13,8,13,12],[13,14,13,15],[13,17,13,18],[13,20,13,21],[13,23,13,24],[13,26,13,27],[12,0,12,1],[12,2,13,6],[12,8,12,12],[12,14,12,15],[12,17,12,18],[12,20,12,21],[10,13,11,15],[10,16,10,18],[10,19,10,21],[10,22,10,24],[11,16,11,18],[11,19,11,21],[11,22,11,24],[7,26,7,27],[9,0,9,6],[9,8,11,12],[9,13,9,15],[9,16,9,18],[9,19,9,21],[9,22,9,24],[9,25,11,27],[10,0,11,1],[10,2,11,6],[7,4,7,6],[7,11,7,12],[7,14,7,15],[7,17,7,18],[7,20,7,21],[7,23,7,24],[6,20,6,21],[6,23,6,24],[6,26,6,27],[5,4,5,6],[5,11,5,12],[5,14,5,15],[5,17,5,18],[5,20,5,21],[5,23,5,24],[0,7,0,27],[1,8,1,27],[2,0,2,2],[2,8,2,27],[3,0,6,2],[3,4,4,6],[3,8,3,9],[3,10,3,12],[3,13,4,15],[3,16,3,18],[3,19,3,21],[3,22,3,24],[3,25,3,27],[4,8,4,9],[4,10,4,12],[4,16,4,18],[4,19,4,21],[4,22,4,24],[4,25,4,27],[5,26,5,27],[6,4,6,6],[6,11,6,12],[6,14,6,15],[6,17,6,18]]}
[null,null,null,null,null,null,null,"  MORAVSKOSLEZSKÝ KYNOLOGICKÝ SVAZ, z. s."]
[null,null,null,null,null,null,null," ","Člen FCI prostřednictvím Českomoravské kynologické unie"]
["Druh a stupeň",null,null,null,null,null,null," ","POTVRZENÍ O VYKONANÉ ZKOUŠCE NZŘ"]
[{"$f":"IF(Soupiska!W99=\"N\",Soupiska!B99,\"NE\")","v":"NE"},null,null,null,"A - STOPA",null,null,null,"ZM",null,"ZVV1",null,null,"ZPS1",null,null,"ZVV2",null,null,"ZVV3",null,null,"ZPS2",null,null,"ZPS2"]
[null,null,null,null,null,null,null,null,"ZMMP",null,"ZMP1",null,null,null,null,null,"ZMP2",null,null,"ZMP3",null,null,"A",null,null,"B"]
[null,null,null,null,"Vlastní - cizí",null,null,null,40,null,80,null,null,80,null,null,"80",null,null,80,null,null,80,null,null,80]
[null,null,null,null,"Předměty",null,null,null,10,null,20," ",null,20,null,null,20," ",null,20,null,null,20,null,null,20]
[null,null,null,null,"Celkem",null,null,null,50,{"$f":"SUM(J6:J7)","v":0},100,{"$f":"SUM(L6:M7)","v":0},null,100,{"$f":"SUM(O6:O7)","v":0},null,100,{"$f":"SUM(R6:S7)","v":0},null,100,{"$f":"SUM(U6:V7)","v":0},null,100,{"$f":"SUM(X6:Y7)","v":0},null,100,{"$f":"SUM(AA6:AB7)","v":0}]
[]
["Data psa-feny",null,null,null,null,null,null,null,"B - POSLUŠNOST",null,null,null,null,"ZM",null,null,"ZVV1,ZMP1",null,null,"ZVV2",null,null,"ZVV3,ZMP3",null,null,"ZZO"]
["Jméno:",null,{"$f":"Soupiska!C99","v":0},null,null,null,null,null,null,null,null,null,null,"ZMMP",null,null,"ZPS1,ZPO1",null,null,"ZMP2",null,null,"ZPS2,ZPO2"]
[null,null,null,null,null,null,null,null,null,null,null,null,null,null,null,null,"ZMPO,ZZO1",null,null,"ZZO2",null,null,"ZZO3"]
["Chovná",null,{"$f":"Soupiska!E99","v":0},null,null,null,null,null,"Přivolání psa",null,null,null,null,10,null,null,10," ",null,10," ",null,10," ",null,10]
["stanice:",null,null,null,null,null,null,null,"Ovladatelnost na vod.",null,null,null,null,10,"  ",null,10," ",null," X"," X",null," X"," X",null,10]
["Plemeno:",null,{"$f":"Soupiska!I99","v":0},null,null,null,null,null,"Ovladatelnost bez vod.",null,null,null,null," X"," X",null," X"," X",null,10," ",null,10,null,null," X"," X"]
["Pohlaví:",null,{"$f":"Soupiska!K99","v":0},null,null,null,null,null,"Polohy (S - L - V)",null,null,null,null,10,"  ",null,10," ",null,10,null," ","10"," ",null,10]
["Narozen",null,{"$f":"Soupiska!L99","v":"00:00:00"},null,null,null,null,null,"Odložení za pochodu",null,null,null,null," X"," X",null,10,null,null,10,null," ",10,null,null,10]
["Č.záp.:",null,{"$f":"Soupiska!N99","v":0},null,null,null,null,null,"Štěkání psa",null,null,null,null," X"," X",null,10," ",null,10,null," ",10," ",null," X"," X"]
["T.č./čip:",null,{"$f":"Soupiska!P99","v":0},null,null,null,null,null,"Aport volný",null,null,null,null,10," ",null,10," ",null,"X",null," X"," X"," X",null,10]
["Data psovoda",null,null,null,null,null,null,null,"Skok vysoký  (aport)",null,null,null,null," X"," X",null,10," ",null,10,null," "," X"," X",null," X"," X"]
["Jméno:",null,{"$f":"Soupiska!C100","v":0},null,null,null,null,null,"Skok šplhem  (aport)",null,null,null,null," X"," X",null,10," ",null," X","X",null,10," ",null," X"," X"]
["Příjmení:",null,{"$f":"Soupiska!E100","v":0},null,null,null,null,null,"Plížení",null,null,null,null," X"," X",null," X"," X",null,10,null," ",10," ",null," X"," X"]
["Bydliště:",null,{"$f":"Soupiska!I100","v":0},null,null,null,null,null,"Kladina (nízká/vysoká)",null,null,null,null," X"," X",null,10," ",null,10,null," ",10," ",null," X"," X"]
[null,null,null,null,null,null,null,null,"Vysílání",null,null,null,null," X"," X",null," X"," X",null,10,null,"  ",10,null,null," X"," X"]
["Narozen:",null,{"$f":"DATE(IF(MID(Soupiska!C101,1,2)*1 > YEAR(TODAY())-2000, 1900, 2000) + MID(Soupiska!C101,1,2), MOD(MID(Soupiska!C101,3,2),50), MID(Soupiska!C101,5,2))","v":{"$error":"#VALUE!"}},null,null,null,null,null,"Odložení psa",null,null,null,null,10," ",null,10," ",null,10,null," ",10," ",null,10]
["Člen ZO:",null,{"$f":"Soupiska!I101","v":0},null,null,null,null,null,"Celkem",null,null,null,null,50,{"$f":"SUM(O13:P25)","v":0},null,100,{"$f":"SUM(R13:S25)","v":0},null,100,{"$f":"SUM(U13:V25)","v":0},null,100,{"$f":"SUM(X13:Y25)","v":0},null,60,{"$f":"SUM(AA13:AB25)","v":0}]
[]
["Data akce",null,null,null,null,null,"C - OBRANA",null,null,null,"ZM",null,null,"ZVV1 ",null,null,"ZVV2",null,null,"ZVV3",null,null,"ZPO1",null,null,"ZPO2"]
["Datum:",null,{"$f":"Soupiska!T6","v":"00:00:00"},null,null,null,"Průzkum terénu",null,null,null,10," ",null,10," ",null,10,null,null,10,null,null,10,null,null,20," "]
[null,null,null,null,null,null,"Vyštěkání",null,null,null,10," ",null,10,null,null,10,null,null,10,null,null,10,null,null,20]
["Místo:",null,{"$f":"Soupiska!P5","v":0},null,null,null,"Prohl., výsl., dopr.",null,null,null," X"," X",null,"10/10",null," ","10/10",null," ",10,null," ",10," ",null,20]
[null,null,null,null,null,null,"Ochrana psovoda",null,null,null,"15",null,null," 15/5",null,null," 15/5",null,null,"20/5",null,null,"20/5",null,null,"40/10",null," "]
["Vedoucí zkoušek:",null,{"$f":"Soupiska!D6","v":0},null,null,null,"Hlídání pomocníka 2+1",null,null,null," X"," X",null," X"," X",null," X"," X",null,20,null,null,20,null,null,40,null," "]
[null,null,null,null,null,null,"Samost. činnost psa (zadržení pomocníka)",null,null,null,"15",null,null," 15/5",null," "," 15/5",null," ","20/5",null,null,"20/5",null,null,"40/10",null," "]
["Rozhodčí:",null,{"$f":"Soupiska!P6","v":0},null,null,null,"Odolnost psa",null,null,null,"X","X",null," 15/5",null," "," 15/5",null," ","X","X",null,"X","X",null,"X","X"]
[null,null,null,null,null,null,"Celkem",null,null,null,50,{"$f":"SUM(L29:M35)","v":0},null,100,{"$f":"SUM(O29:P35)","v":0},null,100,{"$f":"SUM(R29:S35)","v":0},null,100,{"$f":"SUM(U29:V35)","v":0},null,100,{"$f":"SUM(X29:Y35)","v":0},null,200,{"$f":"SUM(AA29:AB35)","v":0}]
[" ",null,null,null,null,null,null,null," ",null,null,null,null,null,null," ",null,null," "," ",null," "," ",null," "," ",null," "]
["Výsledek zkoušky",null,null,null,null,null,"D - SPEC .CVIKY",null,null,null,"ZMMP",null,null,"ZMMP1",null,null,"ZMMP2",null,null,"ZMMP3",null,null,"ZPMO",null,null,"ZZO"]
["A   stopa",null,null,{"$f":"J8+L8+O8+R8+U8+X8+AA8","v":0},null,null,"Přivol.psa za ztíž.p.",null,null,null," X"," X",null," X"," X",null," X"," X",null," X"," X",null," X"," X",null,"PV-P-N"," "]
[null,null,null,null,null,null,"Chov.psa ve sk.osob",null,null,null," X"," X",null," X"," X",null," X"," X",null," X"," X",null," X"," X",null,"PV-P-N"," "]
["B  poslušnost",null,null,{"$f":"O26+R26+U26+X26+AA26","v":0},null,null,"Chov.přiváz. psa",null,null,null," X"," X",null," X"," X",null," X"," X",null," X"," X",null," X"," X",null,"PV-P-N"," "]
[null,null,null,null,null,null,"Rozlišování předm.",null,null,null,"10/10",null,null,"15/15",null,null,"15/15",null,null," X"," X",null," X"," X",null," X"," X"]
["C   obrana ",null,null,{"$f":"L36+O36+R36+U36+X36+AA36","v":0},null,null,"Rozlišování osoby",null,null,null," X"," X",null," X"," X",null," X"," X",null," 15/5",null,null," X"," X",null," X"," X"]
[null,null,null,null,null,null,"Vyhledání předm.",null,null,null," 15/5",null,null," 24/6",null," "," 24/6",null,null," 24/6",null," "," X"," X",null," X"," X"]
["D    spec. cviky",null,null,{"$f":"IF(AA51=\" \",L51+O51+R51+U51+X51,AA51)","v":0},null,null,"Ztracený předmět",null,null,null,10,null,null,20," ",null,20,null,null,20,null,null," X"," X",null," X"," X"]
[null,null,null,null,null,null,"Průzk.terénu/vyšť.",null,null,null," X"," X",null,"10/10",null," ","10/10",null,null,"10/10",null,null,"10/10",null,null," X"," X"]
["CELKEM",null,{"$f":"VLOOKUP(A4,TYPY!A$1:D$65536,4,FALSE)","v":{"$error":"#N/A"}},{"$f":"IF(AA51=\" \",D39+D41+D43+D45,D39+D41+D43)","v":0},null,null,"Zajištění figuranta",null,null,null," X"," X",null," X"," X",null," X"," X",null," X"," X",null,10,null,null," X"," X"]
[null,null,null,null,null,null,"Doprovod figuranta",null,null,null," X"," X",null," X"," X",null," X"," X",null," X","X"," X",10,null,null," X"," X"]
["ZNÁMKA",null,null,null,null,null,"Napadení psovoda",null,null,null," X"," X",null," X"," X",null," X"," X",null," X","X"," X",30,null,null," X"," X"]
[{"$f":"IF(D47>0,IFERROR(IF(C47=300,VLOOKUP(D47,TYPY!$B$44:$C$135,2,FALSE),IF(C47=200,VLOOKUP(D47,TYPY!$N$44:$O$105,2,FALSE),IF(C47=150,VLOOKUP(D47,TYPY!$L$44:$M$90,2,FALSE),IF(C47=100,VLOOKUP(D47,TYPY!$F$44:$G$75,2,FALSE),IF(C47=60,IF(D45=\"N\",\"N\",VLOOKUP(D47,TYPY!$J$44:$K$63,2,FALSE)),\"N\"))))),\"N\"),\" \")","v":" "},null,null,null,null,null,"Hlídání  předm.",null,null,null," X"," X",null," X"," X",null," X"," X",null," X","X"," X",30,null,null," X"," X"]
[null,null,null,null,null,null,"Celkem",null,null,null,50,{"$f":"SUM(L42:M45)","v":0},null,100,{"$f":"SUM(P39:P50)","v":0},null,100,{"$f":"SUM(R42:S46)","v":0},null,100,{"$f":"SUM(U43:V46)","v":0},null,100,{"$f":"SUM(X46:Y50)","v":0},null,"PV-P-N"]
[]
[" ",null,null,null,null,null,null,null,null,null," ",null,null,null,null,null," "]
[]
[]
[]
["Razítko organizace",null,null,null,null,null,null,null,null,null,"Podpis ved.  zkoušek",null,null,null,null,null,"Podpis a razítko rozhočího"]

{"sheet":"Soupiska","index":60,"n_rows":101,"n_cols":23,"rows_kept":101,"cut":false,"hidden":false,"merged":[[8,18,8,21],[9,18,9,21],[12,18,12,21],[13,18,13,21],[98,0,100,0],[98,1,100,1],[98,8,98,9],[98,11,98,12],[98,13,98,14],[98,15,98,17],[99,8,99,17],[95,15,95,17],[96,8,96,17],[97,2,97,7],[97,8,97,17],[95,0,97,0],[95,1,97,1],[95,8,95,9],[95,11,95,12],[95,13,95,14],[92,0,94,0],[92,1,94,1],[92,8,92,9],[92,11,92,12],[92,13,92,14],[34,18,34,21],[54,18,54,21],[55,18,55,21],[61,18,61,21],[89,0,91,0],[89,1,91,1],[89,8,89,9],[89,11,89,12],[89,13,89,14],[86,15,86,17],[87,8,87,17],[89,2,89,3],[89,4,89,7],[90,2,90,3],[90,4,90,7],[89,15,89,17],[90,8,90,17],[91,2,91,7],[91,8,91,17],[84,18,84,21],[85,18,85,21],[88,2,88,7],[88,8,88,17],[87,18,87,21],[88,18,88,21],[83,15,83,17],[84,8,84,17],[85,2,85,7],[85,8,85,17],[83,0,85,0],[83,1,85,1],[83,8,83,9],[83,11,83,12],[83,13,83,14],[83,2,83,3],[83,4,83,7],[84,2,84,3],[84,4,84,7],[86,0,88,0],[86,1,88,1],[86,8,86,9],[86,11,86,12],[86,13,86,14],[86,2,86,3],[86,4,86,7],[87,2,87,3],[87,4,87,7],[78,18,78,21],[79,18,79,21],[80,15,80,17],[81,8,81,17],[82,2,82,7],[82,8,82,17],[80,0,82,0],[80,1,82,1],[80,8,80,9],[80,11,80,12],[80,13,80,14],[80,2,80,3],[80,4,80,7],[81,2,81,3],[81,4,81,7],[81,18,81,21],[82,18,82,21],[77,15,77,17],[78,8,78,17],[79,2,79,7],[79,8,79,17],[77,0,79,0],[77,1,79,1],[77,8,77,9],[77,11,77,12],[77,13,77,14],[77,2,77,3],[77,4,77,7],[78,2,78,3],[78,4,78,7],[75,18,75,21],[76,18,76,21],[73,2,73,7],[73,8,73,17],[71,0,73,0],[71,1,73,1],[71,8,71,9],[71,11,71,12],[71,13,71,14],[76,2,76,7],[76,8,76,17],[74,0,76,0],[74,1,76,1],[74,8,74,9],[74,11,74,12],[74,13,74,14],[74,2,74,3],[74,4,74,7],[75,2,75,3],[75,4,75,7],[59,1,61,1],[59,8,59,9],[59,11,59,12],[59,13,59,14],[60,8,60,17],[61,2,61,7],[61,8,61,17],[68,0,70,0],[68,1,70,1],[68,8,68,9],[68,11,68,12],[68,13,68,14],[68,15,68,17],[64,2,64,7],[64,8,64,17],[65,0,67,0],[65,1,67,1],[65,8,65,9],[65,11,65,12],[62,0,64,0],[62,1,64,1],[62,8,62,9],[59,0,61,0],[62,11,62,12],[56,0,58,0],[56,1,58,1],[56,8,56,9],[56,11,56,12],[56,13,56,14],[53,0,55,0],[53,1,55,1],[53,8,53,9],[53,11,53,12],[53,13,53,14],[54,8,54,17],[56,15,56,17],[55,2,55,7],[53,2,53,3],[55,8,55,17],[53,4,53,7],[54,2,54,3],[54,4,54,7],[45,18,45,21],[46,18,46,21],[47,15,47,17],[48,8,48,17],[49,2,49,7],[49,8,49,17],[48,18,48,21],[49,18,49,21],[52,18,52,21],[50,8,50,9],[50,11,50,12],[50,13,50,14],[51,8,51,17],[52,2,52,7],[52,8,52,17],[50,0,52,0],[50,1,52,1],[44,15,44,17],[45,8,45,17],[46,2,46,7],[46,8,46,17],[44,0,46,0],[44,1,46,1],[44,8,44,9],[44,11,44,12],[44,13,44,14],[44,2,44,3],[44,4,44,7],[45,2,45,3],[45,4,45,7],[47,0,49,0],[47,1,49,1],[47,8,47,9],[47,11,47,12],[47,13,47,14],[47,2,47,3],[47,4,47,7],[48,2,48,3],[48,4,48,7],[29,0,31,0],[32,0,34,0],[35,0,37,0],[38,0,40,0],[41,0,43,0],[7,0,9,0],[11,0,13,0],[14,0,16,0],[17,0,19,0],[20,0,22,0],[23,0,25,0],[26,0,28,0],[62,13,62,14],[57,2,57,3],[57,4,57,7],[57,18,57,21],[58,18,58,21],[59,2,59,3],[59,4,59,7],[60,2,60,3],[60,4,60,7],[60,18,60,21],[59,15,59,17],[62,2,62,3],[62,4,62,7],[62,15,62,17],[57,8,57,17],[58,2,58,7],[58,8,58,17],[41,1,43,1],[41,8,41,9],[41,11,41,12],[41,13,41,14],[41,15,41,17],[42,8,42,17],[43,18,43,21],[38,1,40,1],[38,8,38,9],[38,11,38,12],[38,13,38,14],[38,15,38,17],[40,2,40,7],[40,8,40,17],[20,15,20,17],[21,2,21,3],[35,1,37,1],[35,8,35,9],[35,11,35,12],[35,13,35,14],[35,15,35,17],[36,8,36,17],[39,8,39,17],[29,1,31,1],[29,8,29,9],[29,11,29,12],[29,13,29,14],[29,15,29,17],[37,2,37,7],[37,8,37,17],[36,2,36,3],[36,4,36,7],[32,1,34,1],[32,8,32,9],[32,11,32,12],[32,13,32,14],[32,15,32,17],[21,18,21,21],[22,18,22,21],[26,1,28,1],[26,8,26,9],[26,11,26,12],[26,13,26,14],[26,15,26,17],[23,1,25,1],[23,8,23,9],[23,11,23,12],[23,13,23,14],[23,15,23,17],[24,8,24,17],[27,8,27,17],[23,2,23,3],[23,4,23,7],[24,2,24,3],[24,4,24,7],[20,1,22,1],[20,8,20,9],[21,8,21,17],[20,2,20,3],[20,4,20,7],[24,18,24,21],[14,1,16,1],[12,2,12,3],[12,4,12,7],[16,2,16,7],[14,4,14,7],[14,2,14,3],[21,4,21,7],[22,2,22,7],[22,8,22,17],[18,8,18,17],[19,2,19,7],[19,8,19,17],[20,11,20,12],[20,13,20,14],[13,2,13,7],[13,8,13,17],[14,15,14,17],[14,13,14,14],[14,11,14,12],[14,8,14,9],[17,1,19,1],[17,8,17,9],[17,11,17,12],[17,13,17,14],[3,1,3,21],[4,1,4,2],[4,3,4,13],[4,15,4,21],[2,1,2,21],[1,3,1,21],[0,3,0,21],[11,2,11,3],[11,4,11,7],[5,1,5,2],[5,3,5,13],[5,15,5,16],[5,17,5,18],[5,19,5,21],[7,1,9,1],[7,2,7,17],[8,2,8,17],[9,2,9,17],[11,1,13,1],[11,8,11,9],[11,11,11,12],[11,13,11,14],[11,15,11,17],[12,8,12,17],[15,18,15,21],[16,18,16,21],[18,18,18,21],[19,18,19,21],[15,2,15,3],[15,4,15,7],[17,2,17,3],[17,4,17,7],[18,2,18,3],[18,4,18,7],[16,8,16,17],[15,8,15,17],[17,15,17,17],[25,18,25,21],[26,2,26,3],[26,4,26,7],[27,2,27,3],[27,4,27,7],[27,18,27,21],[28,18,28,21],[29,2,29,3],[29,4,29,7],[28,2,28,7],[28,8,28,17],[25,2,25,7],[25,8,25,17],[30,18,30,21],[31,18,31,21],[32,2,32,3],[32,4,32,7],[33,2,33,3],[33,4,33,7],[33,18,33,21],[35,2,35,3],[35,4,35,7],[30,8,30,17],[33,8,33,17],[34,2,34,7],[34,8,34,17],[31,2,31,7],[31,8,31,17],[30,2,30,3],[30,4,30,7],[36,18,36,21],[37,18,37,21],[38,2,38,3],[38,4,38,7],[39,2,39,3],[39,4,39,7],[39,18,39,21],[56,2,56,3],[56,4,56,7],[40,18,40,21],[41,2,41,3],[41,4,41,7],[42,2,42,3],[42,4,42,7],[42,18,42,21],[43,2,43,7],[43,8,43,17],[50,15,50,17],[53,15,53,17],[50,2,50,3],[50,4,50,7],[51,2,51,3],[51,4,51,7],[51,18,51,21],[63,2,63,3],[63,4,63,7],[63,18,63,21],[64,18,64,21],[65,2,65,3],[65,4,65,7],[63,8,63,17],[66,2,66,3],[66,4,66,7],[66,18,66,21],[65,15,65,17],[66,8,66,17],[65,13,65,14],[98,2,98,3],[98,4,98,7],[69,8,69,17],[70,2,70,7],[70,8,70,17],[67,2,67,7],[67,8,67,17],[67,18,67,21],[68,2,68,3],[68,4,68,7],[69,2,69,3],[69,4,69,7],[69,18,69,21],[70,18,70,21],[71,15,71,17],[72,8,72,17],[71,2,71,3],[71,4,71,7],[72,2,72,3],[72,4,72,7],[72,18,72,21],[73,18,73,21],[74,15,74,17],[75,8,75,17],[99,2,99,3],[99,4,99,7],[99,18,99,21],[100,18,100,21],[90,18,90,21],[91,18,91,21],[92,2,92,3],[92,4,92,7],[93,2,93,3],[93,4,93,7],[93,18,93,21],[94,18,94,21],[95,2,95,3],[95,4,95,7],[100,2,100,7],[100,8,100,17],[96,2,96,3],[96,4,96,7],[92,15,92,17],[93,8,93,17],[94,2,94,7],[94,8,94,17],[96,18,96,21],[97,18,97,21]]}
[null," ",null," MORAVSKOSLEZSKÝ KYNOLOGICKÝ SVAZ, z. s.",null,null,null,null,null,null,null,null,null,null,null,null,null,null,null,null,null,null,"Pomocný sloupec"]
[null,null,null,"Člen FCI prostřednictvím Českomoravské kynologické unie"]
[null,"VÝSLEDKOVÁ LISTINA ZKOUŠEK - SOUTĚŽE"]
[null,"Povinnost vedoucího akce na zkouškách: v den zkoušek naskenovat či vyfotit soupisku a zaslat na email tajemnik@msks.cz . "]
[null,"Název akce:    ",null,null,null,null,null,null,null,null,null,null,null,null,"Pořadatel:"]
[null,"Vedoucí akce:",null,null,null,null,null,null,null,null,null,null,null,null,"Rozhodčí:",null,null,"Dne:"]
[]
["Pořadí","Druh ZK","a) Jméno psa, chov. stanice, plemeno, pohlaví, datum narození, č. zápisu, tet.číslo/čip",null,null,null,null,null,null,null,null,null,null,null,null,null,null,null,"S","P","O","SP"]
[null,null,"b) Jméno, příjmení a bydliště psovoda",null,null,null,null,null,null,null,null,null,null,null,null,null,null,null,"Celkem"]
[null,null,"c) Rodné číslo psovoda před lomítkem, člen KK",null,null,null,null,null,null,null,null,null,null,null,null,null,null,null,"Známka"]
[]
[1,"XX",null,null,null,null,null,null,null,null,null,null,null,null,null,null,null,null,{"$f":"IF(W12=\"M\",(IF(EXACT(B12,\"FCI-IGP-IFH\"),'MZR1'!$R$9&\"/  \"&'MZR1'!$T$9,'MZR1'!$D$38)),'NZR1'!$D$39)","v":0},{"$f":"IF($W12=\"M\",'MZR1'!$D$39,'NZR1'!$D$41)","v":0},{"$f":"IF($W12=\"M\",'MZR1'!$D$40,'NZR1'!$D$43)","v":0},{"$f":"IF($W12=\"M\",'MZR1'!$D$41,'NZR1'!$D$45)","v":0},{"$f":"(INDIRECT(ADDRESS(MATCH($B$12,TYPY!A$1:A$65536,0),2,1,1,\"TYPY\"),1))","v":0}]
[null,null,null,null,null,null,null,null,null,null,null,null,null,null,null,null,null,null,{"$f":"IF(EXACT(B12,\"FCI-IGP-IFH\"),'MZR1'!$S$10,SUM(S12:U12))","v":0},null,null,null,{"$f":"(INDIRECT(ADDRESS(MATCH($B$12,TYPY!A$1:A$65536,0),2,1,1,\"TYPY\"),1))","v":0}]
[null,null,null,null,null,null,null,null,null,null,null,null,null,null,null,null,null,null,{"$f":"IF($W12=\"M\",'MZR1'!$D$43,'NZR1'!$A$50)","v":" "},null,null,null,{"$f":"(INDIRECT(ADDRESS(MATCH($B$12,TYPY!A$1:A$65536,0),2,1,1,\"TYPY\"),1))","v":0}]
[2,"XX",null,null,null,null,null,null,null,null,null,null,null,null,null,null,null,null,{"$f":"IF(W15=\"M\",(IF(EXACT(B15,\"FCI-IGP-IFH\"),'MZR2'!$R$9&\"/  \"&'MZR2'!$T$9,'MZR2'!$D$38)),'NZR2'!$D$39)","v":0},{"$f":"IF($W15=\"M\",'MZR2'!$D$39,'NZR2'!$D$41)","v":0},{"$f":"IF($W15=\"M\",'MZR2'!$D$40,'NZR2'!$D$43)","v":0},{"$f":"IF($W15=\"M\",'MZR2'!$D$41,'NZR2'!$D$45)","v":0},{"$f":"(INDIRECT(ADDRESS(MATCH($B$15,TYPY!A$1:A$65536,0),2,1,1,\"TYPY\"),1))","v":0}]
[null,null,null,null,null,null,null,null,null,null,null,null,null,null,null,null,null,null,{"$f":"IF(EXACT(B15,\"FCI-IGP-IFH\"),'MZR2'!$S$10,SUM(S15:U15))","v":0},null,null,null,{"$f":"(INDIRECT(ADDRESS(MATCH($B$15,TYPY!A$1:A$65536,0),2,1,1,\"TYPY\"),1))","v":0}]
[null,null,null,null,null,null,null,null,null,null,null,null,null,null,null,null,null,null,{"$f":"IF($W15=\"M\",'MZR2'!$D$43,'NZR2'!$A$50)","v":" "},null,null,null,{"$f":"(INDIRECT(ADDRESS(MATCH($B$15,TYPY!A$1:A$65536,0),2,1,1,\"TYPY\"),1))","v":0}]
[3,"XX",null,null,null,null,null,null,null,null,null,null,null,null,null,null,null,null,{"$f":"IF(W18=\"M\",(IF(EXACT(B18,\"FCI-IGP-IFH\"),'MZR3'!$R$9&\"/  \"&'MZR3'!$T$9,'MZR3'!$D$38)),'NZR3'!$D$39)","v":0},{"$f":"IF($W18=\"M\",'MZR3'!$D$39,'NZR3'!$D$41)","v":0},{"$f":"IF($W18=\"M\",'MZR3'!$D$40,'NZR3'!$D$43)","v":0},{"$f":"IF($W18=\"M\",'MZR3'!$D$41,'NZR3'!$D$45)","v":0},{"$f":"(INDIRECT(ADDRESS(MATCH($B$18,TYPY!A$1:A$65536,0),2,1,1,\"TYPY\"),1))","v":0}]
[null,null,null,null,null,null,null,null,null,null,null,null,null,null,null,null,null,null,{"$f":"IF(EXACT(B18,\"FCI-IGP-IFH\"),'MZR3'!$S$10,SUM(S18:U18))","v":0},null,null,null,{"$f":"(INDIRECT(ADDRESS(MATCH($B$18,TYPY!A$1:A$65536,0),2,1,1,\"TYPY\"),1))","v":0}]
[null,null,null,null,null,null,null,null,null,null,null,null,null,null,null,null,null,null,{"$f":"IF($W18=\"M\",'MZR3'!$D$43,'NZR3'!$A$50)","v":" "},null,null,null,{"$f":"(INDIRECT(ADDRESS(MATCH($B$18,TYPY!A$1:A$65536,0),2,1,1,\"TYPY\"),1))","v":0}]
[4,"XX",null,null,null,null,null,null,null,null,null,null,null,null,null,null,null,null,{"$f":"IF(W21=\"M\",(IF(EXACT(B21,\"FCI-IGP-IFH\"),'MZR4'!$R$9&\"/  \"&'MZR4'!$T$9,'MZR4'!$D$38)),'NZR4'!$D$39)","v":0},{"$f":"IF($W21=\"M\",'MZR4'!$D$39,'NZR4'!$D$41)","v":0},{"$f":"IF($W21=\"M\",'MZR4'!$D$40,'NZR4'!$D$43)","v":0},{"$f":"IF($W21=\"M\",'MZR4'!$D$41,'NZR4'!$D$45)","v":0},{"$f":"(INDIRECT(ADDRESS(MATCH($B$21,TYPY!A$1:A$65536,0),2,1,1,\"TYPY\"),1))","v":0}]
[null,null,null,null,null,null,null,null,null,null,null,null,null,null,null,null,null,null,{"$f":"IF(EXACT(B21,\"FCI-IGP-IFH\"),'MZR4'!$S$10,SUM(S21:U21))","v":0},null,null,null,{"$f":"(INDIRECT(ADDRESS(MATCH($B$21,TYPY!A$1:A$65536,0),2,1,1,\"TYPY\"),1))","v":0}]
[null,null,null,null,null,null,null,null,null,null,null,null,null,null,null,null,null,null,{"$f":"IF($W21=\"M\",'MZR4'!$D$43,'NZR4'!$A$50)","v":" "},null,null,null,{"$f":"(INDIRECT(ADDRESS(MATCH($B$21,TYPY!A$1:A$65536,0),2,1,1,\"TYPY\"),1))","v":0}]
[5,"XX",null,null,null,null,null,null,null,null,null,null,null,null,null,null,null,null,{"$f":"IF(W24=\"M\",(IF(EXACT(B24,\"FCI-IGP-IFH\"),'MZR5'!$R$9&\"/  \"&'MZR5'!$T$9,'MZR5'!$D$38)),'NZR5'!$D$39)","v":0},{"$f":"IF($W24=\"M\",'MZR5'!$D$39,'NZR5'!$D$41)","v":0},{"$f":"IF($W24=\"M\",'MZR5'!$D$40,'NZR5'!$D$43)","v":0},{"$f":"IF($W24=\"M\",'MZR5'!$D$41,'NZR5'!$D$45)","v":0},{"$f":"(INDIRECT(ADDRESS(MATCH($B$24,TYPY!A$1:A$65536,0),2,1,1,\"TYPY\"),1))","v":0}]
[null,null,null,null,null,null,null,null,null,null,null,null,null,null,null,null,null,null,{"$f":"IF(EXACT(B24,\"FCI-IGP-IFH\"),'MZR5'!$S$10,SUM(S24:U24))","v":0},null,null,null,{"$f":"(INDIRECT(ADDRESS(MATCH($B$24,TYPY!A$1:A$65536,0),2,1,1,\"TYPY\"),1))","v":0}]
[null,null,null,null,null,null,null,null,null,null,null,null,null,null,null,null,null,null,{"$f":"IF($W24=\"M\",'MZR5'!$D$43,'NZR5'!$A$50)","v":" "},null,null,null,{"$f":"(INDIRECT(ADDRESS(MATCH($B$24,TYPY!A$1:A$65536,0),2,1,1,\"TYPY\"),1))","v":0}]
[6,"XX",null,null,null,null,null,null,null,null,null,null,null,null,null,null,null,null,{"$f":"IF(W27=\"M\",(IF(EXACT(B27,\"FCI-IGP-IFH\"),'MZR6'!$R$9&\"/  \"&'MZR6'!$T$9,'MZR6'!$D$38)),'NZR6'!$D$39)","v":0},{"$f":"IF($W27=\"M\",'MZR6'!$D$39,'NZR6'!$D$41)","v":0},{"$f":"IF($W27=\"M\",'MZR6'!$D$40,'NZR6'!$D$43)","v":0},{"$f":"IF($W27=\"M\",'MZR6'!$D$41,'NZR6'!$D$45)","v":0},{"$f":"(INDIRECT(ADDRESS(MATCH($B$27,TYPY!A$1:A$65536,0),2,1,1,\"TYPY\"),1))","v":0}]
[null,null,null,null,null,null,null,null,null,null,null,null,null,null,null,null,null,null,{"$f":"IF(EXACT(B27,\"FCI-IGP-IFH\"),'MZR6'!$S$10,SUM(S27:U27))","v":0},null,null,null,{"$f":"(INDIRECT(ADDRESS(MATCH($B$27,TYPY!A$1:A$65536,0),2,1,1,\"TYPY\"),1))","v":0}]
[null,null,null,null,null,null,null,null,null,null,null,null,null,null,null,null,null,null,{"$f":"IF($W27=\"M\",'MZR6'!$D$43,'NZR6'!$A$50)","v":" "},null,null,null,{"$f":"(INDIRECT(ADDRESS(MATCH($B$27,TYPY!A$1:A$65536,0),2,1,1,\"TYPY\"),1))","v":0}]
[7,"XX",null,null,null,null,null,null,null,null,null,null,null,null,null,null,null,null,{"$f":"IF(W30=\"M\",(IF(EXACT(B30,\"FCI-IGP-IFH\"),'MZR7'!$R$9&\"/  \"&'MZR7'!$T$9,'MZR7'!$D$38)),'NZR7'!$D$39)","v":0},{"$f":"IF($W30=\"M\",'MZR7'!$D$39,'NZR7'!$D$41)","v":0},{"$f":"IF($W30=\"M\",'MZR7'!$D$40,'NZR7'!$D$43)","v":0},{"$f":"IF($W30=\"M\",'MZR7'!$D$41,'NZR7'!$D$45)","v":0},{"$f":"(INDIRECT(ADDRESS(MATCH($B$30,TYPY!A$1:A$65536,0),2,1,1,\"TYPY\"),1))","v":0}]
[null,null,null,null,null,null,null,null,null,null,null,null,null,null,null,null,null,null,{"$f":"IF(EXACT(B30,\"FCI-IGP-IFH\"),'MZR7'!$S$10,SUM(S30:U30))","v":0},null,null,null,{"$f":"(INDIRECT(ADDRESS(MATCH($B$30,TYPY!A$1:A$65536,0),2,1,1,\"TYPY\"),1))","v":0}]
[null,null,null,null,null,null,null,null,null,null,null,null,null,null,null,null,null,null,{"$f":"IF($W30=\"M\",'MZR7'!$D$43,'NZR7'!$A$50)","v":" "},null,null,null,{"$f":"(INDIRECT(ADDRESS(MATCH($B$30,TYPY!A$1:A$65536,0),2,1,1,\"TYPY\"),1))","v":0}]
[8,"XX",null,null,null,null,null,null,null,null,null,null,null,null,null,null,null,null,{"$f":"IF(W33=\"M\",(IF(EXACT(B33,\"FCI-IGP-IFH\"),'MZR8'!$R$9&\"/  \"&'MZR8'!$T$9,'MZR8'!$D$38)),'NZR8'!$D$39)","v":0},{"$f":"IF($W33=\"M\",'MZR8'!$D$39,'NZR8'!$D$41)","v":0},{"$f":"IF($W33=\"M\",'MZR8'!$D$40,'NZR8'!$D$43)","v":0},{"$f":"IF($W33=\"M\",'MZR8'!$D$41,'NZR8'!$D$45)","v":0},{"$f":"(INDIRECT(ADDRESS(MATCH($B$33,TYPY!A$1:A$65536,0),2,1,1,\"TYPY\"),1))","v":0}]
[null,null,null,null,null,null,null,null,null,null,null,null,null,null,null,null,null,null,{"$f":"IF(EXACT(B33,\"FCI-IGP-IFH\"),'MZR8'!$S$10,SUM(S33:U33))","v":0},null,null,null,{"$f":"(INDIRECT(ADDRESS(MATCH($B$33,TYPY!A$1:A$65536,0),2,1,1,\"TYPY\"),1))","v":0}]
[null,null,null,null,null,null,null,null,null,null,null,null,null,null,null,null,null,null,{"$f":"IF($W33=\"M\",'MZR8'!$D$43,'NZR8'!$A$50)","v":" "},null,null,null,{"$f":"(INDIRECT(ADDRESS(MATCH($B$33,TYPY!A$1:A$65536,0),2,1,1,\"TYPY\"),1))","v":0}]
[9,"XX",null,null,null,null,null,null,null,null,null,null,null,null,null,null,null,null,{"$f":"IF(W36=\"M\",(IF(EXACT(B36,\"FCI-IGP-IFH\"),'MZR9'!$R$9&\"/  \"&'MZR9'!$T$9,'MZR9'!$D$38)),'NZR9'!$D$39)","v":0},{"$f":"IF($W36=\"M\",'MZR9'!$D$39,'NZR9'!$D$41)","v":0},{"$f":"IF($W36=\"M\",'MZR9'!$D$40,'NZR9'!$D$43)","v":0},{"$f":"IF($W36=\"M\",'MZR9'!$D$41,'NZR9'!$D$45)","v":0},{"$f":"(INDIRECT(ADDRESS(MATCH($B$36,TYPY!A$1:A$65536,0),2,1,1,\"TYPY\"),1))","v":0}]
[null,null,null,null,null,null,null,null,null,null,null,null,null,null,null,null,null,null,{"$f":"IF(EXACT(B36,\"FCI-IGP-IFH\"),'MZR9'!$S$10,SUM(S36:U36))","v":0},null,null,null,{"$f":"(INDIRECT(ADDRESS(MATCH($B$36,TYPY!A$1:A$65536,0),2,1,1,\"TYPY\"),1))","v":0}]
[null,null,null,null,null,null,null,null,null,null,null,null,null,null,null,null,null,null,{"$f":"IF($W36=\"M\",'MZR9'!$D$43,'NZR9'!$A$50)","v":" "},null,null,null,{"$f":"(INDIRECT(ADDRESS(MATCH($B$36,TYPY!A$1:A$65536,0),2,1,1,\"TYPY\"),1))","v":0}]
[10,"XX",null,null,null,null,null,null,null,null,null,null,null,null,null,null,null,null,{"$f":"IF(W39=\"M\",(IF(EXACT(B39,\"FCI-IGP-IFH\"),'MZR10'!$R$9&\"/  \"&'MZR10'!$T$9,'MZR10'!$D$38)),'NZR10'!$D$39)","v":0},{"$f":"IF($W39=\"M\",'MZR10'!$D$39,'NZR10'!$D$41)","v":0},{"$f":"IF($W39=\"M\",'MZR10'!$D$40,'NZR10'!$D$43)","v":0},{"$f":"IF($W39=\"M\",'MZR10'!$D$41,'NZR10'!$D$45)","v":0},{"$f":"(INDIRECT(ADDRESS(MATCH($B$39,TYPY!A$1:A$65536,0),2,1,1,\"TYPY\"),1))","v":0}]
[null,null,null,null,null,null,null,null,null,null,null,null,null,null,null,null,null,null,{"$f":"IF(EXACT(B39,\"FCI-IGP-IFH\"),'MZR10'!$S$10,SUM(S39:U39))","v":0},null,null,null,{"$f":"(INDIRECT(ADDRESS(MATCH($B$39,TYPY!A$1:A$65536,0),2,1,1,\"TYPY\"),1))","v":0}]
[null,null,null,null,null,null,null,null,null,null,null,null,null,null,null,null,null,null,{"$f":"IF($W39=\"M\",'MZR10'!$D$43,'NZR10'!$A$50)","v":" "},null,null,null,{"$f":"(INDIRECT(ADDRESS(MATCH($B$39,TYPY!A$1:A$65536,0),2,1,1,\"TYPY\"),1))","v":0}]
[11,"XX",null,null,null,null,null,null,null,null,null,null,null,null,null,null,null,null,{"$f":"IF(W42=\"M\",(IF(EXACT(B42,\"FCI-IGP-IFH\"),'MZR11'!$R$9&\"/  \"&'MZR11'!$T$9,'MZR11'!$D$38)),'NZR11'!$D$39)","v":0},{"$f":"IF($W42=\"M\",'MZR11'!$D$39,'NZR11'!$D$41)","v":0},{"$f":"IF($W42=\"M\",'MZR11'!$D$40,'NZR11'!$D$43)","v":0},{"$f":"IF($W42=\"M\",'MZR11'!$D$41,'NZR11'!$D$45)","v":0},{"$f":"(INDIRECT(ADDRESS(MATCH($B$42,TYPY!A$1:A$65536,0),2,1,1,\"TYPY\"),1))","v":0}]
[null,null,null,null,null,null,null,null,null,null,null,null,null,null,null,null,null,null,{"$f":"IF(EXACT(B42,\"FCI-IGP-IFH\"),'MZR11'!$S$10,SUM(S42:U42))","v":0},null,null,null,{"$f":"(INDIRECT(ADDRESS(MATCH($B$42,TYPY!A$1:A$65536,0),2,1,1,\"TYPY\"),1))","v":0}]
[null,null,null,null,null,null,null,null,null,null,null,null,null,null,null,null,null,null,{"$f":"IF($W42=\"M\",'MZR11'!$D$43,'NZR11'!$A$50)","v":" "},null,null,null,{"$f":"(INDIRECT(ADDRESS(MATCH($B$42,TYPY!A$1:A$65536,0),2,1,1,\"TYPY\"),1))","v":0}]
[12,"XX",null,null,null,null,null,null,null,null,null,null,null,null,null,null,null,null,{"$f":"IF(W45=\"M\",(IF(EXACT(B45,\"FCI-IGP-IFH\"),'MZR12'!$R$9&\"/  \"&'MZR12'!$T$9,'MZR12'!$D$38)),'NZR12'!$D$39)","v":0},{"$f":"IF($W45=\"M\",'MZR12'!$D$39,'NZR12'!$D$41)","v":0},{"$f":"IF($W45=\"M\",'MZR12'!$D$40,'NZR12'!$D$43)","v":0},{"$f":"IF($W45=\"M\",'MZR12'!$D$41,'NZR12'!$D$45)","v":0},{"$f":"(INDIRECT(ADDRESS(MATCH($B$45,TYPY!A$1:A$65536,0),2,1,1,\"TYPY\"),1))","v":0}]
[null,null,null,null,null,null,null,null,null,null,null,null,null,null,null,null,null,null,{"$f":"IF(EXACT(B45,\"FCI-IGP-IFH\"),'MZR12'!$S$10,SUM(S45:U45))","v":0},null,null,null,{"$f":"(INDIRECT(ADDRESS(MATCH($B$45,TYPY!A$1:A$65536,0),2,1,1,\"TYPY\"),1))","v":0}]
[null,null,null,null,null,null,null,null,null,null,null,null,null,null,null,null,null,null,{"$f":"IF($W45=\"M\",'MZR12'!$D$43,'NZR12'!$A$50)","v":" "},null,null,null,{"$f":"(INDIRECT(ADDRESS(MATCH($B$45,TYPY!A$1:A$65536,0),2,1,1,\"TYPY\"),1))","v":0}]
[13,"XX",null,null,null,null,null,null,null,null,null,null,null,null,null,null,null,null,{"$f":"IF(W48=\"M\",(IF(EXACT(B48,\"FCI-IGP-IFH\"),'MZR13'!$R$9&\"/  \"&'MZR13'!$T$9,'MZR13'!$D$38)),'NZR13'!$D$39)","v":0},{"$f":"IF($W48=\"M\",'MZR13'!$D$39,'NZR13'!$D$41)","v":0},{"$f":"IF($W48=\"M\",'MZR13'!$D$40,'NZR13'!$D$43)","v":0},{"$f":"IF($W48=\"M\",'MZR13'!$D$41,'NZR13'!$D$45)","v":0},{"$f":"(INDIRECT(ADDRESS(MATCH($B$48,TYPY!A$1:A$65536,0),2,1,1,\"TYPY\"),1))","v":0}]
[null,null,null,null,null,null,null,null,null,null,null,null,null,null,null,null,null,null,{"$f":"IF(EXACT(B48,\"FCI-IGP-IFH\"),'MZR13'!$S$10,SUM(S48:U48))","v":0},null,null,null,{"$f":"(INDIRECT(ADDRESS(MATCH($B$48,TYPY!A$1:A$65536,0),2,1,1,\"TYPY\"),1))","v":0}]
[null,null,null,null,null,null,null,null,null,null,null,null,null,null,null,null,null,null,{"$f":"IF($W48=\"M\",'MZR13'!$D$43,'NZR13'!$A$50)","v":" "},null,null,null,{"$f":"(INDIRECT(ADDRESS(MATCH($B$48,TYPY!A$1:A$65536,0),2,1,1,\"TYPY\"),1))","v":0}]
[14,"XX",null,null,null,null,null,null,null,null,null,null,null,null,null,null,null,null,{"$f":"IF(W51=\"M\",(IF(EXACT(B51,\"FCI-IGP-IFH\"),'MZR14'!$R$9&\"/  \"&'MZR14'!$T$9,'MZR14'!$D$38)),'NZR14'!$D$39)","v":0},{"$f":"IF($W51=\"M\",'MZR14'!$D$39,'NZR14'!$D$41)","v":0},{"$f":"IF($W51=\"M\",'MZR14'!$D$40,'NZR14'!$D$43)","v":0},{"$f":"IF($W51=\"M\",'MZR14'!$D$41,'NZR14'!$D$45)","v":0},{"$f":"(INDIRECT(ADDRESS(MATCH($B$51,TYPY!A$1:A$65536,0),2,1,1,\"TYPY\"),1))","v":0}]
[null,null,null,null,null,null,null,null,null,null,null,null,null,null,null,null,null,null,{"$f":"IF(EXACT(B51,\"FCI-IGP-IFH\"),'MZR14'!$S$10,SUM(S51:U51))","v":0},null,null,null,{"$f":"(INDIRECT(ADDRESS(MATCH($B$51,TYPY!A$1:A$65536,0),2,1,1,\"TYPY\"),1))","v":0}]
[null,null,null,null,null,null,null,null,null,null,null,null,null,null,null,null,null,null,{"$f":"IF($W51=\"M\",'MZR14'!$D$43,'NZR14'!$A$50)","v":" "},null,null,null,{"$f":"(INDIRECT(ADDRESS(MATCH($B$51,TYPY!A$1:A$65536,0),2,1,1,\"TYPY\"),1))","v":0}]
[15,"XX",null,null,null,null,null,null,null,null,null,null,null,null,null,null,null,null,{"$f":"IF(W54=\"M\",(IF(EXACT(B54,\"FCI-IGP-IFH\"),'MZR15'!$R$9&\"/  \"&'MZR15'!$T$9,'MZR15'!$D$38)),'NZR15'!$D$39)","v":0},{"$f":"IF($W54=\"M\",'MZR15'!$D$39,'NZR15'!$D$41)","v":0},{"$f":"IF($W54=\"M\",'MZR15'!$D$40,'NZR15'!$D$43)","v":0},{"$f":"IF($W54=\"M\",'MZR15'!$D$41,'NZR15'!$D$45)","v":0},{"$f":"(INDIRECT(ADDRESS(MATCH($B$54,TYPY!A$1:A$65536,0),2,1,1,\"TYPY\"),1))","v":0}]
[null,null,null,null,null,null,null,null,null,null,null,null,null,null,null,null,null,null,{"$f":"IF(EXACT(B54,\"FCI-IGP-IFH\"),'MZR15'!$S$10,SUM(S54:U54))","v":0},null,null,null,{"$f":"(INDIRECT(ADDRESS(MATCH($B$54,TYPY!A$1:A$65536,0),2,1,1,\"TYPY\"),1))","v":0}]
[null,null,null,null,null,null,null,null,null,null,null,null,null,null,null,null,null,null,{"$f":"IF($W54=\"M\",'MZR15'!$D$43,'NZR15'!$A$50)","v":" "},null,null,null,{"$f":"(INDIRECT(ADDRESS(MATCH($B$54,TYPY!A$1:A$65536,0),2,1,1,\"TYPY\"),1))","v":0}]
[16,"XX",null,null,null,null,null,null,null,null,null,null,null,null,null,null,null,null,{"$f":"IF(W57=\"M\",(IF(EXACT(B57,\"FCI-IGP-IFH\"),'MZR16'!$R$9&\"/  \"&'MZR16'!$T$9,'MZR16'!$D$38)),'NZR16'!$D$39)","v":0},{"$f":"IF($W57=\"M\",'MZR16'!$D$39,'NZR16'!$D$41)","v":0},{"$f":"IF($W57=\"M\",'MZR16'!$D$40,'NZR16'!$D$43)","v":0},{"$f":"IF($W57=\"M\",'MZR16'!$D$41,'NZR16'!$D$45)","v":0},{"$f":"(INDIRECT(ADDRESS(MATCH($B$57,TYPY!A$1:A$65536,0),2,1,1,\"TYPY\"),1))","v":0}]
[null,null,null,null,null,null,null,null,null,null,null,null,null,null,null,null,null,null,{"$f":"IF(EXACT(B57,\"FCI-IGP-IFH\"),'MZR16'!$S$10,SUM(S57:U57))","v":0},null,null,null,{"$f":"(INDIRECT(ADDRESS(MATCH($B$57,TYPY!A$1:A$65536,0),2,1,1,\"TYPY\"),1))","v":0}]
[null,null,null,null,null,null,null,null,null,null,null,null,null,null,null,null,null,null,{"$f":"IF($W57=\"M\",'MZR16'!$D$43,'NZR16'!$A$50)","v":" "},null,null,null,{"$f":"(INDIRECT(ADDRESS(MATCH($B$57,TYPY!A$1:A$65536,0),2,1,1,\"TYPY\"),1))","v":0}]
[17,"XX",null,null,null,null,null,null,null,null,null,null,null,null,null,null,null,null,{"$f":"IF(W60=\"M\",(IF(EXACT(B60,\"FCI-IGP-IFH\"),'MZR17'!$R$9&\"/  \"&'MZR17'!$T$9,'MZR17'!$D$38)),'NZR17'!$D$39)","v":0},{"$f":"IF($W60=\"M\",'MZR17'!$D$39,'NZR17'!$D$41)","v":0},{"$f":"IF($W60=\"M\",'MZR17'!$D$40,'NZR17'!$D$43)","v":0},{"$f":"IF($W60=\"M\",'MZR17'!$D$41,'NZR17'!$D$45)","v":0},{"$f":"(INDIRECT(ADDRESS(MATCH($B$60,TYPY!A$1:A$65536,0),2,1,1,\"TYPY\"),1))","v":0}]
[null,null,null,null,null,null,null,null,null,null,null,null,null,null,null,null,null,null,{"$f":"IF(EXACT(B60,\"FCI-IGP-IFH\"),'MZR17'!$S$10,SUM(S60:U60))","v":0},null,null,null,{"$f":"(INDIRECT(ADDRESS(MATCH($B$60,TYPY!A$1:A$65536,0),2,1,1,\"TYPY\"),1))","v":0}]
[null,null,null,null,null,null,null,null,null,null,null,null,null,null,null,null,null,null,{"$f":"IF($W60=\"M\",'MZR17'!$D$43,'NZR17'!$A$50)","v":" "},null,null,null,{"$f":"(INDIRECT(ADDRESS(MATCH($B$60,TYPY!A$1:A$65536,0),2,1,1,\"TYPY\"),1))","v":0}]
[18,"XX",null,null,null,null,null,null,null,null,null,null,null,null,null,null,null,null,{"$f":"IF(W63=\"M\",(IF(EXACT(B63,\"FCI-IGP-IFH\"),'MZR18'!$R$9&\"/  \"&'MZR18'!$T$9,'MZR18'!$D$38)),'NZR18'!$D$39)","v":0},{"$f":"IF($W63=\"M\",'MZR18'!$D$39,'NZR18'!$D$41)","v":0},{"$f":"IF($W63=\"M\",'MZR18'!$D$40,'NZR18'!$D$43)","v":0},{"$f":"IF($W63=\"M\",'MZR18'!$D$41,'NZR18'!$D$45)","v":0},{"$f":"(INDIRECT(ADDRESS(MATCH($B$63,TYPY!A$1:A$65536,0),2,1,1,\"TYPY\"),1))","v":0}]
[null,null,null,null,null,null,null,null,null,null,null,null,null,null,null,null,null,null,{"$f":"IF(EXACT(B63,\"FCI-IGP-IFH\"),'MZR18'!$S$10,SUM(S63:U63))","v":0},null,null,null,{"$f":"(INDIRECT(ADDRESS(MATCH($B$63,TYPY!A$1:A$65536,0),2,1,1,\"TYPY\"),1))","v":0}]
[null,null,null,null,null,null,null,null,null,null,null,null,null,null,null,null,null,null,{"$f":"IF($W63=\"M\",'MZR18'!$D$43,'NZR18'!$A$50)","v":" "},null,null,null,{"$f":"(INDIRECT(ADDRESS(MATCH($B$63,TYPY!A$1:A$65536,0),2,1,1,\"TYPY\"),1))","v":0}]
[19,"XX",null,null,null,null,null,null,null,null,null,null,null,null,null,null,null,null,{"$f":"IF(W66=\"M\",(IF(EXACT(B66,\"FCI-IGP-IFH\"),'MZR19'!$R$9&\"/  \"&'MZR19'!$T$9,'MZR19'!$D$38)),'NZR19'!$D$39)","v":0},{"$f":"IF($W66=\"M\",'MZR19'!$D$39,'NZR19'!$D$41)","v":0},{"$f":"IF($W66=\"M\",'MZR19'!$D$40,'NZR19'!$D$43)","v":0},{"$f":"IF($W66=\"M\",'MZR19'!$D$41,'NZR19'!$D$45)","v":0},{"$f":"(INDIRECT(ADDRESS(MATCH($B$66,TYPY!A$1:A$65536,0),2,1,1,\"TYPY\"),1))","v":0}]
[null,null,null,null,null,null,null,null,null,null,null,null,null,null,null,null,null,null,{"$f":"IF(EXACT(B66,\"FCI-IGP-IFH\"),'MZR19'!$S$10,SUM(S66:U66))","v":0},null,null,null,{"$f":"(INDIRECT(ADDRESS(MATCH($B$66,TYPY!A$1:A$65536,0),2,1,1,\"TYPY\"),1))","v":0}]
[null,null,null,null,null,null,null,null,null,null,null,null,null,null,null,null,null,null,{"$f":"IF($W66=\"M\",'MZR19'!$D$43,'NZR19'!$A$50)","v":" "},null,null,null,{"$f":"(INDIRECT(ADDRESS(MATCH($B$66,TYPY!A$1:A$65536,0),2,1,1,\"TYPY\"),1))","v":0}]
[20,"XX",null,null,null,null,null,null,null,null,null,null,null,null,null,null,null,null,{"$f":"IF(W69=\"M\",(IF(EXACT(B69,\"FCI-IGP-IFH\"),'MZR20'!$R$9&\"/  \"&'MZR20'!$T$9,'MZR20'!$D$38)),'NZR20'!$D$39)","v":0},{"$f":"IF($W69=\"M\",'MZR20'!$D$39,'NZR20'!$D$41)","v":0},{"$f":"IF($W69=\"M\",'MZR20'!$D$40,'NZR20'!$D$43)","v":0},{"$f":"IF($W69=\"M\",'MZR20'!$D$41,'NZR20'!$D$45)","v":0},{"$f":"(INDIRECT(ADDRESS(MATCH($B$69,TYPY!A$1:A$65536,0),2,1,1,\"TYPY\"),1))","v":0}]
[null,null,null,null,null,null,null,null,null,null,null,null,null,null,null,null,null,null,{"$f":"IF(EXACT(B69,\"FCI-IGP-IFH\"),'MZR20'!$S$10,SUM(S69:U69))","v":0},null,null,null,{"$f":"(INDIRECT(ADDRESS(MATCH($B$69,TYPY!A$1:A$65536,0),2,1,1,\"TYPY\"),1))","v":0}]
[null,null,null,null,null,null,null,null,null,null,null,null,null,null,null,null,null,null,{"$f":"IF($W69=\"M\",'MZR20'!$D$43,'NZR20'!$A$50)","v":" "},null,null,null,{"$f":"(INDIRECT(ADDRESS(MATCH($B$69,TYPY!A$1:A$65536,0),2,1,1,\"TYPY\"),1))","v":0}]
[21,"XX",null,null,null,null,null,null,null,null,null,null,null,null,null,null,null,null,{"$f":"IF(W72=\"M\",(IF(EXACT(B72,\"FCI-IGP-IFH\"),'MZR21'!$R$9&\"/  \"&'MZR21'!$T$9,'MZR21'!$D$38)),'NZR21'!$D$39)","v":0},{"$f":"IF($W72=\"M\",'MZR21'!$D$39,'NZR21'!$D$41)","v":0},{"$f":"IF($W72=\"M\",'MZR21'!$D$40,'NZR21'!$D$43)","v":0},{"$f":"IF($W72=\"M\",'MZR21'!$D$41,'NZR21'!$D$45)","v":0},{"$f":"(INDIRECT(ADDRESS(MATCH($B$72,TYPY!A$1:A$65536,0),2,1,1,\"TYPY\"),1))","v":0}]
[null,null,null,null,null,null,null,null,null,null,null,null,null,null,null,null,null,null,{"$f":"IF(EXACT(B72,\"FCI-IGP-IFH\"),'MZR21'!$S$10,SUM(S72:U72))","v":0},null,null,null,{"$f":"(INDIRECT(ADDRESS(MATCH($B$72,TYPY!A$1:A$65536,0),2,1,1,\"TYPY\"),1))","v":0}]
[null,null,null,null,null,null,null,null,null,null,null,null,null,null,null,null,null,null,{"$f":"IF($W72=\"M\",'MZR21'!$D$43,'NZR21'!$A$50)","v":" "},null,null,null,{"$f":"(INDIRECT(ADDRESS(MATCH($B$72,TYPY!A$1:A$65536,0),2,1,1,\"TYPY\"),1))","v":0}]
[22,"XX",null,null,null,null,null,null,null,null,null,null,null,null,null,null,null,null,{"$f":"IF(W75=\"M\",(IF(EXACT(B75,\"FCI-IGP-IFH\"),'MZR22'!$R$9&\"/  \"&'MZR22'!$T$9,'MZR22'!$D$38)),'NZR22'!$D$39)","v":0},{"$f":"IF($W75=\"M\",'MZR22'!$D$39,'NZR22'!$D$41)","v":0},{"$f":"IF($W75=\"M\",'MZR22'!$D$40,'NZR22'!$D$43)","v":0},{"$f":"IF($W75=\"M\",'MZR22'!$D$41,'NZR22'!$D$45)","v":0},{"$f":"(INDIRECT(ADDRESS(MATCH($B$75,TYPY!A$1:A$65536,0),2,1,1,\"TYPY\"),1))","v":0}]
[null,null,null,null,null,null,null,null,null,null,null,null,null,null,null,null,null,null,{"$f":"IF(EXACT(B75,\"FCI-IGP-IFH\"),'MZR22'!$S$10,SUM(S75:U75))","v":0},null,null,null,{"$f":"(INDIRECT(ADDRESS(MATCH($B$75,TYPY!A$1:A$65536,0),2,1,1,\"TYPY\"),1))","v":0}]
[null,null,null,null,null,null,null,null,null,null,null,null,null,null,null,null,null,null,{"$f":"IF($W75=\"M\",'MZR22'!$D$43,'NZR22'!$A$50)","v":" "},null,null,null,{"$f":"(INDIRECT(ADDRESS(MATCH($B$75,TYPY!A$1:A$65536,0),2,1,1,\"TYPY\"),1))","v":0}]
[23,"XX",null,null,null,null,null,null,null,null,null,null,null,null,null,null,null,null,{"$f":"IF(W78=\"M\",(IF(EXACT(B78,\"FCI-IGP-IFH\"),'MZR23'!$R$9&\"/  \"&'MZR23'!$T$9,'MZR23'!$D$38)),'NZR23'!$D$39)","v":0},{"$f":"IF($W78=\"M\",'MZR23'!$D$39,'NZR23'!$D$41)","v":0},{"$f":"IF($W78=\"M\",'MZR23'!$D$40,'NZR23'!$D$43)","v":0},{"$f":"IF($W78=\"M\",'MZR23'!$D$41,'NZR23'!$D$45)","v":0},{"$f":"(INDIRECT(ADDRESS(MATCH($B$78,TYPY!A$1:A$65536,0),2,1,1,\"TYPY\"),1))","v":0}]
[null,null,null,null,null,null,null,null,null,null,null,null,null,null,null,null,null,null,{"$f":"IF(EXACT(B78,\"FCI-IGP-IFH\"),'MZR23'!$S$10,SUM(S78:U78))","v":0},null,null,null,{"$f":"(INDIRECT(ADDRESS(MATCH($B$78,TYPY!A$1:A$65536,0),2,1,1,\"TYPY\"),1))","v":0}]
[null,null,null,null,null,null,null,null,null,null,null,null,null,null,null,null,null,null,{"$f":"IF($W78=\"M\",'MZR23'!$D$43,'NZR23'!$A$50)","v":" "},null,null,null,{"$f":"(INDIRECT(ADDRESS(MATCH($B$78,TYPY!A$1:A$65536,0),2,1,1,\"TYPY\"),1))","v":0}]
[24,"XX",null,null,null,null,null,null,null,null,null,null,null,null,null,null,null,null,{"$f":"IF(W81=\"M\",(IF(EXACT(B81,\"FCI-IGP-IFH\"),'MZR24'!$R$9&\"/  \"&'MZR24'!$T$9,'MZR24'!$D$38)),'NZR24'!$D$39)","v":0},{"$f":"IF($W81=\"M\",'MZR24'!$D$39,'NZR24'!$D$41)","v":0},{"$f":"IF($W81=\"M\",'MZR24'!$D$40,'NZR24'!$D$43)","v":0},{"$f":"IF($W81=\"M\",'MZR24'!$D$41,'NZR24'!$D$45)","v":0},{"$f":"(INDIRECT(ADDRESS(MATCH($B$81,TYPY!A$1:A$65536,0),2,1,1,\"TYPY\"),1))","v":0}]
[null,null,null,null,null,null,null,null,null,null,null,null,null,null,null,null,null,null,{"$f":"IF(EXACT(B81,\"FCI-IGP-IFH\"),'MZR24'!$S$10,SUM(S81:U81))","v":0},null,null,null,{"$f":"(INDIRECT(ADDRESS(MATCH($B$81,TYPY!A$1:A$65536,0),2,1,1,\"TYPY\"),1))","v":0}]
[null,null,null,null,null,null,null,null,null,null,null,null,null,null,null,null,null,null,{"$f":"IF($W81=\"M\",'MZR24'!$D$43,'NZR24'!$A$50)","v":" "},null,null,null,{"$f":"(INDIRECT(ADDRESS(MATCH($B$81,TYPY!A$1:A$65536,0),2,1,1,\"TYPY\"),1))","v":0}]
[25,"XX",null,null,null,null,null,null,null,null,null,null,null,null,null,null,null,null,{"$f":"IF(W84=\"M\",(IF(EXACT(B84,\"FCI-IGP-IFH\"),'MZR25'!$R$9&\"/  \"&'MZR25'!$T$9,'MZR25'!$D$38)),'NZR25'!$D$39)","v":0},{"$f":"IF($W84=\"M\",'MZR25'!$D$39,'NZR25'!$D$41)","v":0},{"$f":"IF($W84=\"M\",'MZR25'!$D$40,'NZR25'!$D$43)","v":0},{"$f":"IF($W84=\"M\",'MZR25'!$D$41,'NZR25'!$D$45)","v":0},{"$f":"(INDIRECT(ADDRESS(MATCH($B$84,TYPY!A$1:A$65536,0),2,1,1,\"TYPY\"),1))","v":0}]
[null,null,null,null,null,null,null,null,null,null,null,null,null,null,null,null,null,null,{"$f":"IF(EXACT(B84,\"FCI-IGP-IFH\"),'MZR25'!$S$10,SUM(S84:U84))","v":0},null,null,null,{"$f":"(INDIRECT(ADDRESS(MATCH($B$84,TYPY!A$1:A$65536,0),2,1,1,\"TYPY\"),1))","v":0}]
[null,null,null,null,null,null,null,null,null,null,null,null,null,null,null,null,null,null,{"$f":"IF($W84=\"M\",'MZR25'!$D$43,'NZR25'!$A$50)","v":" "},null,null,null,{"$f":"(INDIRECT(ADDRESS(MATCH($B$84,TYPY!A$1:A$65536,0),2,1,1,\"TYPY\"),1))","v":0}]
[26,"XX",null,null,null,null,null,null,null,null,null,null,null,null,null,null,null,null,{"$f":"IF(W87=\"M\",(IF(EXACT(B87,\"FCI-IGP-IFH\"),'MZR26'!$R$9&\"/  \"&'MZR26'!$T$9,'MZR26'!$D$38)),'NZR26'!$D$39)","v":0},{"$f":"IF($W87=\"M\",'MZR26'!$D$39,'NZR26'!$D$41)","v":0},{"$f":"IF($W87=\"M\",'MZR26'!$D$40,'NZR26'!$D$43)","v":0},{"$f":"IF($W87=\"M\",'MZR26'!$D$41,'NZR26'!$D$45)","v":0},{"$f":"(INDIRECT(ADDRESS(MATCH($B$87,TYPY!A$1:A$65536,0),2,1,1,\"TYPY\"),1))","v":0}]
[null,null,null,null,null,null,null,null,null,null,null,null,null,null,null,null,null,null,{"$f":"IF(EXACT(B87,\"FCI-IGP-IFH\"),'MZR26'!$S$10,SUM(S87:U87))","v":0},null,null,null,{"$f":"(INDIRECT(ADDRESS(MATCH($B$87,TYPY!A$1:A$65536,0),2,1,1,\"TYPY\"),1))","v":0}]
[null,null,null,null,null,null,null,null,null,null,null,null,null,null,null,null,null,null,{"$f":"IF($W87=\"M\",'MZR26'!$D$43,'NZR26'!$A$50)","v":" "},null,null,null,{"$f":"(INDIRECT(ADDRESS(MATCH($B$87,TYPY!A$1:A$65536,0),2,1,1,\"TYPY\"),1))","v":0}]
[27,"XX",null,null,null,null,null,null,null,null,null,null,null,null,null,null,null,null,{"$f":"IF(W90=\"M\",(IF(EXACT(B90,\"FCI-IGP-IFH\"),'MZR27'!$R$9&\"/  \"&'MZR27'!$T$9,'MZR27'!$D$38)),'NZR27'!$D$39)","v":0},{"$f":"IF($W90=\"M\",'MZR27'!$D$39,'NZR27'!$D$41)","v":0},{"$f":"IF($W90=\"M\",'MZR27'!$D$40,'NZR27'!$D$43)","v":0},{"$f":"IF($W90=\"M\",'MZR27'!$D$41,'NZR27'!$D$45)","v":0},{"$f":"(INDIRECT(ADDRESS(MATCH($B$90,TYPY!A$1:A$65536,0),2,1,1,\"TYPY\"),1))","v":0}]
[null,null,null,null,null,null,null,null,null,null,null,null,null,null,null,null,null,null,{"$f":"IF(EXACT(B90,\"FCI-IGP-IFH\"),'MZR27'!$S$10,SUM(S90:U90))","v":0},null,null,null,{"$f":"(INDIRECT(ADDRESS(MATCH($B$90,TYPY!A$1:A$65536,0),2,1,1,\"TYPY\"),1))","v":0}]
[null,null,null,null,null,null,null,null,null,null,null,null,null,null,null,null,null,null,{"$f":"IF($W90=\"M\",'MZR27'!$D$43,'NZR27'!$A$50)","v":" "},null,null,null,{"$f":"(INDIRECT(ADDRESS(MATCH($B$90,TYPY!A$1:A$65536,0),2,1,1,\"TYPY\"),1))","v":0}]
[28,"XX",null,null,null,null,null,null,null,null,null,null,null,null,null,null,null,null,{"$f":"IF(W93=\"M\",(IF(EXACT(B93,\"FCI-IGP-IFH\"),'MZR28'!$R$9&\"/  \"&'MZR28'!$T$9,'MZR28'!$D$38)),'NZR28'!$D$39)","v":0},{"$f":"IF($W93=\"M\",'MZR28'!$D$39,'NZR28'!$D$41)","v":0},{"$f":"IF($W93=\"M\",'MZR28'!$D$40,'NZR28'!$D$43)","v":0},{"$f":"IF($W93=\"M\",'MZR28'!$D$41,'NZR28'!$D$45)","v":0},{"$f":"(INDIRECT(ADDRESS(MATCH($B$93,TYPY!A$1:A$65536,0),2,1,1,\"TYPY\"),1))","v":0}]
[null,null,null,null,null,null,null,null,null,null,null,null,null,null,null,null,null,null,{"$f":"IF(EXACT(B93,\"FCI-IGP-IFH\"),'MZR28'!$S$10,SUM(S93:U93))","v":0},null,null,null,{"$f":"(INDIRECT(ADDRESS(MATCH($B$93,TYPY!A$1:A$65536,0),2,1,1,\"TYPY\"),1))","v":0}]
[null,null,null,null,null,null,null,null,null,null,null,null,null,null,null,null,null,null,{"$f":"IF($W93=\"M\",'MZR28'!$D$43,'NZR28'!$A$50)","v":" "},null,null,null,{"$f":"(INDIRECT(ADDRESS(MATCH($B$93,TYPY!A$1:A$65536,0),2,1,1,\"TYPY\"),1))","v":0}]
[29,"XX",null,null,null,null,null,null,null,null,null,null,null,null,null,null,null,null,{"$f":"IF(W96=\"M\",(IF(EXACT(B96,\"FCI-IGP-IFH\"),'MZR29'!$R$9&\"/  \"&'MZR29'!$T$9,'MZR29'!$D$38)),'NZR29'!$D$39)","v":0},{"$f":"IF($W96=\"M\",'MZR29'!$D$39,'NZR29'!$D$41)","v":0},{"$f":"IF($W96=\"M\",'MZR29'!$D$40,'NZR29'!$D$43)","v":0},{"$f":"IF($W96=\"M\",'MZR29'!$D$41,'NZR29'!$D$45)","v":0},{"$f":"(INDIRECT(ADDRESS(MATCH($B$96,TYPY!A$1:A$65536,0),2,1,1,\"TYPY\"),1))","v":0}]
[null,null,null,null,null,null,null,null,null,null,null,null,null,null,null,null,null,null,{"$f":"IF(EXACT(B96,\"FCI-IGP-IFH\"),'MZR29'!$S$10,SUM(S96:U96))","v":0},null,null,null,{"$f":"(INDIRECT(ADDRESS(MATCH($B$96,TYPY!A$1:A$65536,0),2,1,1,\"TYPY\"),1))","v":0}]
[null,null,null,null,null,null,null,null,null,null,null,null,null,null,null,null,null,null,{"$f":"IF($W96=\"M\",'MZR29'!$D$43,'NZR29'!$A$50)","v":" "},null,null,null,{"$f":"(INDIRECT(ADDRESS(MATCH($B$96,TYPY!A$1:A$65536,0),2,1,1,\"TYPY\"),1))","v":0}]
[30,"XX",null,null,null,null,null,null,null,null,null,null,null,null,null,null,null,null,{"$f":"IF(W99=\"M\",(IF(EXACT(B99,\"FCI-IGP-IFH\"),'MZR30'!$R$9&\"/  \"&'MZR30'!$T$9,'MZR30'!$D$38)),'NZR30'!$D$39)","v":0},{"$f":"IF($W99=\"M\",'MZR30'!$D$39,'NZR30'!$D$41)","v":0},{"$f":"IF($W99=\"M\",'MZR30'!$D$40,'NZR30'!$D$43)","v":0},{"$f":"IF($W99=\"M\",'MZR30'!$D$41,'NZR30'!$D$45)","v":0},{"$f":"(INDIRECT(ADDRESS(MATCH($B$99,TYPY!A$1:A$65536,0),2,1,1,\"TYPY\"),1))","v":0}]
[null,null,null,null,null,null,null,null,null,null,null,null,null,null,null,null,null,null,{"$f":"IF(EXACT(B99,\"FCI-IGP-IFH\"),'MZR30'!$S$10,SUM(S99:U99))","v":0},null,null,null,{"$f":"(INDIRECT(ADDRESS(MATCH($B$99,TYPY!A$1:A$65536,0),2,1,1,\"TYPY\"),1))","v":0}]
[null,null,null,null,null,null,null,null,null,null,null,null,null,null,null,null,null,null,{"$f":"IF($W99=\"M\",'MZR30'!$D$43,'NZR30'!$A$50)","v":" "},null,null,null,{"$f":"(INDIRECT(ADDRESS(MATCH($B$99,TYPY!A$1:A$65536,0),2,1,1,\"TYPY\"),1))","v":0}]

{"sheet":"Zpráva R","index":61,"n_rows":25,"n_cols":16,"rows_kept":25,"cut":false,"hidden":false,"merged":[[0,0,0,19],[2,0,2,2],[2,5,2,6],[2,8,2,11],[2,12,2,14],[4,14,4,19],[5,0,10,19],[12,7,12,19],[4,0,4,10],[4,11,4,12],[13,7,13,19],[14,0,15,0],[14,1,14,19],[15,1,15,19],[16,0,17,0],[16,1,16,19],[17,1,17,19],[12,0,13,6],[19,0,23,5],[19,7,23,10],[19,12,23,19],[24,0,24,5],[24,7,24,10],[24,12,24,19]]}
["Zpráva rozhodčího o provedené akci"]
[]
["Na zkoušky nastoupilo                       ",null,null," "," ","Uspělo psů-fen  ",null," ","Stížnost na počínání rozhodčího ",null,null,null,"byla - nebyla",null,null,"podána."]
[]
["Stručný popis akce, nedostatky, případné zvláštní sdělení delegujícímu orgánu.",null,null,null,null,null,null,null,null,null,null,"Čas začátku:",null,null,"Čas ukončení:"]
[]
[]
[]
[]
[]
[]
[]
["Záznamy o vydaných výkonostních knížkach:            - jméno psa, chov.stanice, číslozápisu ,tet.číslo/číslo čipu",null,null,null,null,null,null,"- jméno, chov. stanice, číslo zápisu/číslo čipu"]
[null,null,null,null,null,null,null,"- jméno psovoda, bydliště, rodné číslo před lomítkem"]
[null," "]
[null," "]
[null," "]
[null," "]
[]
[" "]
[]
[]
[]
[]
["Razítko organizace",null,null,null,null,null,null,"Podpis vedoucího zkoušek",null,null,null,null,"Podpis a razítko rozhodčího"]

{"sheet":"Návod","index":62,"n_rows":10,"n_cols":1,"rows_kept":10,"cut":false,"hidden":false,"merged":[[9,0,9,7],[8,0,8,7],[0,0,1,7],[2,0,3,7],[4,0,5,7],[6,0,7,7]]}
["Návod k využívání aplikace"]
[]
["Začíná se na listu soupiska, kde je potřeba vyplnit údaje o účastnících zkoušek, hlavičku akce"]
[]
["Ve sloupci B se u jednoltlivých účastníků vybírá jakou zkoušku chtějí skládat. Po vybrání příslušné zkoušky  a vyplnění údajů o účastníkovi se po kliknutí do daných tří řádků, klikne na tlačítko přejít na list a to Vás přenese na příslušný protokol o zkoušce"]
[]
["Na protokolu o vykonané zkoušce se vyplní příslušné body, součty se automaticky propisují na soupisku."]
[]
["Pro upravování jednotlivých protokolů je potřeba vybrat zkoušku a potom kliknout do příslušného řádku soupisky a potom na tlačítko které Vás přenese na příslušný list."]
["Při tisku jednotlivých protokolů je potřeba tisknout jen první stranu na druhou stránku se budou tisknout tlačítka."]

{"sheet":"TYPY","index":63,"n_rows":135,"n_cols":15,"rows_kept":135,"cut":false,"hidden":true,"merged":[[44,0,48,0],[42,1,42,14],[43,1,43,2],[43,3,43,4],[43,5,43,6],[43,7,43,8],[43,9,43,10],[43,11,43,12],[43,13,43,14]]}
[" ","NIC",null,"maximální možný zisk","sl. vzor"]
["ZM","N",null,150]
["ZVV 1","N",null,300]
["ZVV 2","N",null,300]
["ZVV 3","N",null,300]
["ZPS 1","N",null,200]
["ZPS 2","N",null,300]
["ZPO 1","N",null,200]
["ZPO 2","N",null,300]
["ZZO","N",null,60]
["ZZO 1","N",null,100]
["ZZO 2","N",null,100]
["ZZO 3","N",null,100]
["FCI-BH/VT","M",null,60,18]
["FCI-IBGH 1","M",null,100,12]
["FCI-IBGH 2","M",null,100,13]
["FCI-IBGH 3","M",null,100,14]
["FCI-IGP 1","M",null,300,15]
["FCI-IGP 2","M",null,300,16]
["FCI-IGP 3","M",null,300,17]
["FCI-FPr 1","M","A",100]
["FCI-FPr 2","M","A",100]
["FCI-FPr 3","M","A",100]
["FCI-UPr 1","M","B",100,15]
["FCI-UPr 2","M","B",100,16]
["FCI-UPr 3","M","B",100,17]
["FCI-SPr 1","M","C",100]
["FCI-SPr 2","M","C",100]
["FCI-SPr 3","M","C",100]
["FCI-GPr 1","M","B, C",200,15]
["FCI-GPr 2","M","B, C",200,16]
["FCI-GPr 3","M","B, C",200,17]
["FCI-IFH 1","M",null,100]
["FCI-IFH 2","M",null,100]
["FCI-IFH 3","M",null,100]
["FCI-IGP-IFH","M",null,200]
["FCI-StPr 1","M",null,100]
["FCI-StPr 2","M",null,100]
["FCI-StPr 3","M",null,100]
["FCI-AD","M",null,1]
["XX",null,"pro nevyplněnou soupisku"]
[]
[null,"Známky dle bodového hodnocení (po rozbalení \"+\")"]
[null,"max 300 (MZŘ, NZŘ)",null,"max 200 (MZŘ)",null,"max 100 (MZŘ, NZŘ)",null,"max 60 (MZŘ-BH)",null,"max 60 (NZŘ-ZZO)",null,"max 150 (NZŘ)",null,"max 200 (NZŘ)"]
[null,300,"V ",200,"V",100,"V",60,"Obs",60,"PV",150,"V",200,"V"]
[null,299,"V ",199,"V",99,"V",59,"Obs",59,"PV",149,"V",199,"V"]
[null,298,"V ",198,"V",98,"V",58,"Obs",58,"PV",148,"V",198,"V"]
[null,297,"V ",197,"V",97,"V",57,"Obs",57,"PV",147,"V",197,"V"]
[null,296,"V ",196,"V",96,"V",56,"Obs",56,"PV",146,"V",196,"V"]
[null,295,"V ",195,"V",95,"VD",55,"Obs",55,"PV",145,"V",195,"V"]
[null,294,"V ",194,"V",94,"VD",54,"Obs",54,"PV",144,"VD",194,"V"]
[null,293,"V ",193,"V",93,"VD",53,"Obs",53,"PV",143,"VD",193,"V"]
[null,292,"V ",192,"V",92,"VD",52,"Obs",52,"PV",142,"VD",192,"V"]
[null,291,"V ",191,"VD",91,"VD",51,"Obs",51,"PV",141,"VD",191,"V"]
[null,290,"V ",190,"VD",90,"VD",50,"Obs",50,"P ",140,"VD",190,"VD"]
[null,289,"V ",189,"VD",89,"D",49,"Obs",49,"P ",139,"VD",189,"VD"]
[null,288,"V ",188,"VD",88,"D",48,"Obs",48,"P ",138,"VD",188,"VD"]
[null,287,"V ",187,"VD",87,"D",47,"Obs",47,"P ",137,"VD",187,"VD"]
[null,286,"V ",186,"VD",86,"D",46,"Obs",46,"P ",136,"VD",186,"VD"]
[null,285,"VD",185,"VD",85,"D",45,"Obs",45,"P ",135,"VD",185,"VD"]
[null,284,"VD",184,"VD",84,"D",44,"Obs",44,"P ",134,"D",184,"VD"]
[null,283,"VD",183,"VD",83,"D",43,"Obs",43,"P ",133,"D",183,"VD"]
[null,282,"VD",182,"VD",82,"D",42,"Obs",42,"P ",132,"D",182,"VD"]
[null,281,"VD",181,"VD",81,"D",null,null,null,null,131,"D",181,"VD"]
[null,280,"VD",180,"VD",80,"D",null,null,null,null,130,"D",180,"VD"]
[null,279,"VD",179,"D",79,"U",null,null,null,null,129,"D",179,"D"]
[null,278,"VD",178,"D",78,"U",null,null,null,null,128,"D",178,"D"]
[null,277,"VD",177,"D",77,"U",null,null,null,null,127,"D",177,"D"]
[null,276,"VD",176,"D",76,"U",null,null,null,null,126,"D",176,"D"]
[null,275,"VD",175,"D",75,"U",null,null,null,null,125,"D",175,"D"]
[null,274,"VD",174,"D",74,"U",null,null,null,null,124,"D",174,"D"]
[null,273,"VD",173,"D",73,"U",null,null,null,null,123,"D",173,"D"]
[null,272,"VD",172,"D",72,"U",null,null,null,null,122,"D",172,"D"]
[null,271,"VD",171,"D",71,"U",null,null,null,null,121,"D",171,"D"]
[null,270,"VD",170,"D",70,"U",null,null,null,null,120,"D",170,"D"]
[null,269,"D",169,"D",null,null,null,null,null,null,119,"U",169,"D"]
[null,268,"D",168,"D",null,null,null,null,null,null,118,"U",168,"D"]
[null,267,"D",167,"D",null,null,null,null,null,null,117,"U",167,"D"]
[null,266,"D",166,"D",null,null,null,null,null,null,116,"U",166,"D"]
[null,265,"D",165,"D",null,null,null,null,null,null,115,"U",165,"D"]
[null,264,"D",164,"D",null,null,null,null,null,null,114,"U",164,"D"]
[null,263,"D",163,"D",null,null,null,null,null,null,113,"U",163,"D"]
[null,262,"D",162,"D",null,null,null,null,null,null,112,"U",162,"D"]
[null,261,"D",161,"D",null,null,null,null,null,null,111,"U",161,"D"]
[null,260,"D",160,"D",null,null,null,null,null,null,110,"U",160,"D"]
[null,259,"D",159,"U",null,null,null,null,null,null,109,"U",159,"U"]
[null,258,"D",158,"U",null,null,null,null,null,null,108,"U",158,"U"]
[null,257,"D",157,"U",null,null,null,null,null,null,107,"U",157,"U"]
[null,256,"D",156,"U",null,null,null,null,null,null,106,"U",156,"U"]
[null,255,"D",155,"U",null,null,null,null,null,null,105,"U",155,"U"]
[null,254,"D",154,"U",null,null,null,null,null,null,null,null,154,"U"]
[null,253,"D",153,"U",null,null,null,null,null,null,null,null,153,"U"]
[null,252,"D",152,"U",null,null,null,null,null,null,null,null,152,"U"]
[null,251,"D",151,"U",null,null,null,null,null,null,null,null,151,"U"]
[null,250,"D",150,"U",null,null,null,null,null,null,null,null,150,"U"]
[null,249,"D",149,"U",null,null,null,null,null,null,null,null,149,"U"]
[null,248,"D",148,"U",null,null,null,null,null,null,null,null,148,"U"]
[null,247,"D",147,"U",null,null,null,null,null,null,null,null,147,"U"]
[null,246,"D",146,"U",null,null,null,null,null,null,null,null,146,"U"]
[null,245,"D",145,"U",null,null,null,null,null,null,null,null,145,"U"]
[null,244,"D",144,"U",null,null,null,null,null,null,null,null,144,"U"]
[null,243,"D",143,"U",null,null,null,null,null,null,null,null,143,"U"]
[null,242,"D",142,"U",null,null,null,null,null,null,null,null,142,"U"]
[null,241,"D",141,"U",null,null,null,null,null,null,null,null,141,"U"]
[null,240,"D",140,"U",null,null,null,null,null,null,null,null,140,"U"]
[null,239,"U"]
[null,238,"U"]
[null,237,"U"]
[null,236,"U"]
[null,235,"U"]
[null,234,"U"]
[null,233,"U"]
[null,232,"U"]
[null,231,"U"]
[null,230,"U"]
[null,229,"U"]
[null,228,"U"]
[null,227,"U"]
[null,226,"U"]
[null,225,"U"]
[null,224,"U"]
[null,223,"U"]
[null,222,"U"]
[null,221,"U"]
[null,220,"U"]
[null,219,"U"]
[null,218,"U"]
[null,217,"U"]
[null,216,"U"]
[null,215,"U"]
[null,214,"U"]
[null,213,"U"]
[null,212,"U"]
[null,211,"U"]
[null,210,"U"]